From mboxrd@z Thu Jan 1 00:00:00 1970 Return-Path: Received: from mails.dpdk.org (mails.dpdk.org [217.70.189.124]) by inbox.dpdk.org (Postfix) with ESMTP id CBFC945710 for ; Thu, 1 Aug 2024 13:04:58 +0200 (CEST) Received: from mails.dpdk.org (localhost [127.0.0.1]) by mails.dpdk.org (Postfix) with ESMTP id C5D64432FC; Thu, 1 Aug 2024 13:04:58 +0200 (CEST) Received: from mail-pl1-f227.google.com (mail-pl1-f227.google.com [209.85.214.227]) by mails.dpdk.org (Postfix) with ESMTP id A565240DF8 for ; Thu, 1 Aug 2024 13:04:56 +0200 (CEST) Received: by mail-pl1-f227.google.com with SMTP id d9443c01a7336-1fd78c165eeso59444245ad.2 for ; Thu, 01 Aug 2024 04:04:56 -0700 (PDT) DKIM-Signature: v=1; a=rsa-sha256; c=relaxed/relaxed; d=iol.unh.edu; s=unh-iol; t=1722510296; x=1723115096; darn=dpdk.org; h=references:in-reply-to:cc:to:from:subject:message-id:date:from:to :cc:subject:date:message-id:reply-to; bh=p3NeawD0jVksg9OE4Av4yFXxPh0OiQrlgDoukam95VQ=; b=Q9pTPCDv3CShzUtDrMZ53qeofjTN2R16r+T5LxEBdZkVdqvA9e4XAvVsKilTz7WM8o I9SaTZz4ms8E65I+sd5IceZnVl+91Iyp/aGwaedomUSkl3xdd6ydBVtpZ89Ab0kU2zpL Jmm5O+3yMettC8+6RiP3FIZslxqP2ebRQub7c= X-Google-DKIM-Signature: v=1; a=rsa-sha256; c=relaxed/relaxed; d=1e100.net; s=20230601; t=1722510296; x=1723115096; h=references:in-reply-to:cc:to:from:subject:message-id:date :x-gm-message-state:from:to:cc:subject:date:message-id:reply-to; bh=p3NeawD0jVksg9OE4Av4yFXxPh0OiQrlgDoukam95VQ=; b=whsCAcf8nosOir/5rQUtr71w4MNj+WBfzFEnOZvgH4vQMhiTnDbCLsv0AKA49Ay227 3RWcpuwaA2XynxnPdub98U0/VbkgptTA52Uam4NRx20AMl1cGzpUSN7JtXseWGQ/YeXO 69E1uBO9+l8b+Y113IpgereXsykOoSIVNjBAU90O1zPcN7bA0GN1LPFyG6nJcC0f4CQr t+y/QZojWi5l8/kW/F4K+Dv42NbH8IMDwIU+NcjCn0EQmlT9EYacHycHFBA7VXQC/Bt6 bsQhWy1oufVqU8u7Gyht7DBbE3OR5lz4D0XCn6EeEqMiioHgxwZfBNmGe4U705kZDSMR M45A== X-Gm-Message-State: AOJu0Yxk02+k/GMqXxS9jA6xr0gCEs9poB+jrcPBoGZuuOFvBxuEltNE kDDbOhLYU5gyO2Y2ZY3KIom5+CKS/2ekIqaS/yehKiLHIdTfOGW+FHqNuwZddEO987VVqWet0Fy 3LBGu6PoKF5LsMxuzseOUArvvkffC7oDRfkoaIgkt X-Google-Smtp-Source: AGHT+IGAy26/Rlnx1zVo9hNJ6VjQOl1Cq5Epqym+DRmds6n0IwkvbfMklmmolLB4Z3tHVHgmJCVHh5WXqBCt X-Received: by 2002:a17:903:1252:b0:1f6:e4ab:a1f4 with SMTP id d9443c01a7336-1ff4ce354bdmr30049605ad.12.1722510295860; Thu, 01 Aug 2024 04:04:55 -0700 (PDT) Received: from postal.iol.unh.edu (postal.iol.unh.edu. [132.177.123.84]) by smtp-relay.gmail.com with ESMTPS id d9443c01a7336-1fed7ed2a44sm5114895ad.76.2024.08.01.04.04.55 (version=TLS1_2 cipher=ECDHE-ECDSA-AES128-GCM-SHA256 bits=128/128); Thu, 01 Aug 2024 04:04:55 -0700 (PDT) X-Relaying-Domain: iol.unh.edu Date: Thu, 01 Aug 2024 04:04:55 -0700 (PDT) Message-ID: <66ab6bd7.170a0220.1d33e.ee8fSMTPIN_ADDED_MISSING@mx.google.com> Received: from [172.21.0.9] (unknown [172.18.0.240]) by postal.iol.unh.edu (Postfix) with ESMTP id F0CC36052500; Thu, 1 Aug 2024 07:04:54 -0400 (EDT) Subject: |PENDING| pw142788-142789 [PATCH] [2/2] app/crypto-perf: test queue From: dpdklab@iol.unh.edu To: Test Report Cc: dpdk-test-reports@iol.unh.edu In-Reply-To: <20240731115445.1771803-2-gakhil@marvell.com> References: <20240731115445.1771803-2-gakhil@marvell.com> Content-Type: text/plain X-BeenThere: test-report@dpdk.org X-Mailman-Version: 2.1.29 Precedence: list List-Id: automatic DPDK test reports List-Unsubscribe: , List-Archive: List-Post: List-Help: List-Subscribe: , Errors-To: test-report-bounces@dpdk.org Test-Label: iol-unit-amd64-testing Test-Status: PENDING http://dpdk.org/patch/142789 _Testing pending_ Submitter: Akhil Goyal Date: Wednesday, July 31 2024 11:54:45 DPDK git baseline: Repo:dpdk Branch: master CommitID:4b5abe7ec1ed2d43a285599bbba23f62ac049d8f 142788-142789 --> testing pending Upstream job id: Generic-Unit-Test-DPDK#247483 Test environment and result as below: +---------------------+----------------+ | Environment | dpdk_unit_test | +=====================+================+ | Windows Server 2019 | PASS | +---------------------+----------------+ | Windows Server 2022 | PASS | +---------------------+----------------+ | CentOS Stream 8 | PASS | +---------------------+----------------+ | CentOS Stream 9 | PASS | +---------------------+----------------+ | Debian 12 | PASS | +---------------------+----------------+ | Fedora 38 | PEND | +---------------------+----------------+ | Fedora 37 | PEND | +---------------------+----------------+ | Fedora 38 (Clang) | PEND | +---------------------+----------------+ | Fedora 39 | PEND | +---------------------+----------------+ | Fedora 39 (Clang) | PEND | +---------------------+----------------+ | Fedora 40 (Clang) | PEND | +---------------------+----------------+ | Fedora 40 | PEND | +---------------------+----------------+ | openSUSE Leap 15 | PEND | +---------------------+----------------+ | RHEL8 | PEND | +---------------------+----------------+ | RHEL9 | PEND | +---------------------+----------------+ | Ubuntu 20.04 | PEND | +---------------------+----------------+ | Ubuntu 22.04 | PEND | +---------------------+----------------+ | Ubuntu 24.04 | PEND | +---------------------+----------------+ | Debian Bullseye | PEND | +---------------------+----------------+ Windows Server 2019 Kernel: 10.0.17763 Compiler: clang 14.0 and gcc 8.1.0 (MinGW) Windows Server 2022 Kernel: 10.0.20348.2031 Compiler: clang 15.0.7, gcc 8.1.0 (MinGW), and MSVC VS 17.9 CentOS Stream 8 Kernel: 5.4.0-167-generic Compiler: gcc 8.5.0 20210514 CentOS Stream 9 Kernel: 5.4.0-167-generic Compiler: gcc 11.4.1 20230605 Debian 12 Kernel: Container Host Kernel Compiler: gcc 12.2.0 Fedora 38 Kernel: Depends on container host Compiler: gcc 13.2.1 Fedora 37 Kernel: Depends on container host system Compiler: gcc 12.3.1 Fedora 38 (Clang) Kernel: Depends on container host Compiler: clang 16.0.6 Fedora 39 Kernel: Depends on container host Compiler: gcc 13.2.1 Fedora 39 (Clang) Kernel: Depends on container host Compiler: clang 17.0.6 Fedora 40 (Clang) Kernel: Depends on container host Compiler: clang 18.1.6 Fedora 40 Kernel: Depends on container host Compiler: gcc 14.1.1 openSUSE Leap 15 Kernel: 5.4.0-167-generic Compiler: gcc 7.5.0 RHEL8 Kernel: 5.4.0-167-generic Compiler: gcc 8.5.0 20210514 (Red Hat 8.5.0-20) RHEL9 Kernel: Depends on container host Compiler: gcc 11.4.1 Ubuntu 20.04 Kernel: 5.4.0-167-generic Compiler: gcc 9.4.0-1ubuntu1~20.04.1 Ubuntu 22.04 Kernel: 5.4.0-167-generic Compiler: gcc 11.4.0 Ubuntu 24.04 Kernel: 5.4.0-167-generic Compiler: gcc 13.2.0 Debian Bullseye Kernel: 5.4.0-167-generic Compiler: gcc 10.2.1-6 To view detailed results, visit: https://lab.dpdk.org/results/dashboard/patchsets/30676/ UNH-IOL DPDK Community Lab To manage your email subscriptions, visit: https://lab.dpdk.org/results/dashboard/preferences/subscriptions/