From mboxrd@z Thu Jan  1 00:00:00 1970
Return-Path: <test-report-bounces@dpdk.org>
Received: from mails.dpdk.org (mails.dpdk.org [217.70.189.124])
	by inbox.dpdk.org (Postfix) with ESMTP id 74FEB4571A
	for <public@inbox.dpdk.org>; Fri,  2 Aug 2024 08:19:59 +0200 (CEST)
Received: from mails.dpdk.org (localhost [127.0.0.1])
	by mails.dpdk.org (Postfix) with ESMTP id 7445240E0A;
	Fri,  2 Aug 2024 08:19:59 +0200 (CEST)
Received: from mail-yw1-f227.google.com (mail-yw1-f227.google.com
 [209.85.128.227])
 by mails.dpdk.org (Postfix) with ESMTP id E428D40431
 for <test-report@dpdk.org>; Fri,  2 Aug 2024 08:19:57 +0200 (CEST)
Received: by mail-yw1-f227.google.com with SMTP id
 00721157ae682-66ca536621cso63369577b3.3
 for <test-report@dpdk.org>; Thu, 01 Aug 2024 23:19:57 -0700 (PDT)
DKIM-Signature: v=1; a=rsa-sha256; c=relaxed/relaxed;
 d=iol.unh.edu; s=unh-iol; t=1722579597; x=1723184397; darn=dpdk.org;
 h=references:in-reply-to:cc:to:from:subject:message-id:date:from:to
 :cc:subject:date:message-id:reply-to;
 bh=1AOgqnZBSzWSqdkZ0ZJTOGKYCXQ0J40nMf7zqzxbYRM=;
 b=b/G5WqP1gp8vnGMijr/jWOGvRrFT/FnLZZ7SvvQSTXmNCIJsxoI35SYmrjFGkdzmB8
 feep9bVXEu8K5Br2kf9QFg6f8eYGERR5sjUOYhHfT1nTy1xlJWA4w5nZsfr3hq89CbDt
 T5r0KJHNSGCa8yhqg7BI4ju45WZ9pJUKGDqjs=
X-Google-DKIM-Signature: v=1; a=rsa-sha256; c=relaxed/relaxed;
 d=1e100.net; s=20230601; t=1722579597; x=1723184397;
 h=references:in-reply-to:cc:to:from:subject:message-id:date
 :x-gm-message-state:from:to:cc:subject:date:message-id:reply-to;
 bh=1AOgqnZBSzWSqdkZ0ZJTOGKYCXQ0J40nMf7zqzxbYRM=;
 b=mDK8djCMTphZ7B6wVUO6eDZka9p4l27+PTmiLcAmbRPF5DxGi1b/pqJfjfqXJbkcsO
 zt0MsjDDwAGKwH5Me/JL+xV2ERM40yd7dxXMKWj0aZ2GpiRpOW+hzSJpg2HiXcyzlAMn
 DKkNAIvdleXbBYHo5rMxpQour8zoVWYaWyHHHvVq6FLJwWIojNySAvD4vQ+AGu75nNcY
 +rkgRwPsbQxDxJH5AdHNkrl7upu/ia/Hcb7nDhquPUN5j7ITzk/6rxYnpG2pJO2vMkwc
 +ODIXslUKgLmsG2qciCRX1HF4HcNKSLTDyu/5y+0x+omoN0m3rRTpwNp0rJimIX6YtFc
 0UIw==
X-Gm-Message-State: AOJu0YyXD/BggXhh7oE8D29iFLeVSCE//1fIDp6Hh0MaI0XbyEPvyYgE
 XrmYNcCrlm+WFTKMfCMqAXVrG/cn3yLQ101XsGxvFp8jDofVK55h18TIXqfwN+R39mSPJyWLAMI
 BMVR7mEPURTZZFDKJomQODJV/hNQRv+AKK6eNNQamwU9p3lGW52C9qQIZ
X-Google-Smtp-Source: AGHT+IGHxL5rkM6KZ0rdIhYq87Z4hOPMax7Fl3ncNERigOOINdv+pQKEFNSwCcMuHSbSrZ8ZymzX1RAcumHp
X-Received: by 2002:a0d:d0c4:0:b0:619:da17:87be with SMTP id
 00721157ae682-6896477b052mr27931787b3.42.1722579597174; 
 Thu, 01 Aug 2024 23:19:57 -0700 (PDT)
Received: from postal.iol.unh.edu (postal.iol.unh.edu.
 [2606:4100:3880:1234::84]) by smtp-relay.gmail.com with ESMTPS id
 00721157ae682-68a165f2301sm468257b3.64.2024.08.01.23.19.57
 (version=TLS1_2 cipher=ECDHE-ECDSA-AES128-GCM-SHA256 bits=128/128);
 Thu, 01 Aug 2024 23:19:57 -0700 (PDT)
X-Relaying-Domain: iol.unh.edu
Date: Thu, 01 Aug 2024 23:19:57 -0700 (PDT)
Message-ID: <66ac7a8d.0d0a0220.2d7fd8.3878SMTPIN_ADDED_MISSING@mx.google.com>
Received: from [172.21.0.7] (unknown [172.18.0.240])
 by postal.iol.unh.edu (Postfix) with ESMTP id D0CF0605C351;
 Fri,  2 Aug 2024 02:19:56 -0400 (EDT)
Subject: |SUCCESS| pw142785 [PATCH] doc: add tested platforms with NVIDIA NIC
From: dpdklab@iol.unh.edu
To: Test Report <test-report@dpdk.org>
Cc: dpdk-test-reports@iol.unh.edu
In-Reply-To: <20240731111503.79928-1-rasland@nvidia.com>
References: <20240731111503.79928-1-rasland@nvidia.com>
Content-Type: text/plain
X-BeenThere: test-report@dpdk.org
X-Mailman-Version: 2.1.29
Precedence: list
List-Id: automatic DPDK test reports <test-report.dpdk.org>
List-Unsubscribe: <https://mails.dpdk.org/options/test-report>,
 <mailto:test-report-request@dpdk.org?subject=unsubscribe>
List-Archive: <http://mails.dpdk.org/archives/test-report/>
List-Post: <mailto:test-report@dpdk.org>
List-Help: <mailto:test-report-request@dpdk.org?subject=help>
List-Subscribe: <https://mails.dpdk.org/listinfo/test-report>,
 <mailto:test-report-request@dpdk.org?subject=subscribe>
Errors-To: test-report-bounces@dpdk.org

Test-Label: iol-sample-apps-testing
Test-Status: SUCCESS
http://dpdk.org/patch/142785

_Testing PASS_

Submitter: Raslan Darawsheh <rasland@nvidia.com>
Date: Wednesday, July 31 2024 11:15:03 
DPDK git baseline: Repo:dpdk
  Branch: master
  CommitID:1d245ca8239d947258b3ae7cc4d8df97ef527852

142785 --> testing pass

Upstream job id: ACVP-FIPS-testing#6484

Test environment and result as below:

+--------------------+----------------------+----------------------+
|    Environment     | compressdev_zlib_pmd | dpdk_fips_validation |
+====================+======================+======================+
| Ubuntu 22.04 (ARM) | PASS                 | SKIPPED              |
+--------------------+----------------------+----------------------+
| Ubuntu 22.04       | PASS                 | SKIPPED              |
+--------------------+----------------------+----------------------+
| Ubuntu 20.04       | SKIPPED              | PASS                 |
+--------------------+----------------------+----------------------+


Ubuntu 22.04 (ARM)
	Kernel: 5.15.0-97-generic
	Compiler: gcc gcc (Ubuntu 11.4.0-1ubuntu1~22.04) 11.4.0

Ubuntu 22.04
	Kernel: 5.15.0-100-generic
	Compiler: gcc gcc (Ubuntu 11.4.0-1ubuntu1~22.04) 11.4.0

Ubuntu 20.04
	Kernel: 5.4.0-167-generic
	Compiler: gcc 9.4.0-1ubuntu1~20.04.1

To view detailed results, visit:
https://lab.dpdk.org/results/dashboard/patchsets/30673/

UNH-IOL DPDK Community Lab

To manage your email subscriptions, visit: 
https://lab.dpdk.org/results/dashboard/preferences/subscriptions/