From mboxrd@z Thu Jan  1 00:00:00 1970
Return-Path: <test-report-bounces@dpdk.org>
Received: from mails.dpdk.org (mails.dpdk.org [217.70.189.124])
	by inbox.dpdk.org (Postfix) with ESMTP id AE9444571C
	for <public@inbox.dpdk.org>; Fri,  2 Aug 2024 17:21:52 +0200 (CEST)
Received: from mails.dpdk.org (localhost [127.0.0.1])
	by mails.dpdk.org (Postfix) with ESMTP id AA2F1427DA;
	Fri,  2 Aug 2024 17:21:52 +0200 (CEST)
Received: from mail-pl1-f225.google.com (mail-pl1-f225.google.com
 [209.85.214.225])
 by mails.dpdk.org (Postfix) with ESMTP id B72F6427DA
 for <test-report@dpdk.org>; Fri,  2 Aug 2024 17:21:50 +0200 (CEST)
Received: by mail-pl1-f225.google.com with SMTP id
 d9443c01a7336-1fc566ac769so61624755ad.1
 for <test-report@dpdk.org>; Fri, 02 Aug 2024 08:21:50 -0700 (PDT)
DKIM-Signature: v=1; a=rsa-sha256; c=relaxed/relaxed;
 d=iol.unh.edu; s=unh-iol; t=1722612110; x=1723216910; darn=dpdk.org;
 h=references:in-reply-to:cc:to:from:subject:message-id:date:from:to
 :cc:subject:date:message-id:reply-to;
 bh=8Nrpum0ZTX8vIOp2FE6lltuEhHbqHmSEbqragPwUlUg=;
 b=HV6FukiNzq8rKEREqKJwgMU2V0zx/N0hxEP+KxlrfU63Vk4pQ7jvmkgM2QgGCT9tcx
 kbVluSejHwt7uZgeDYyjOe8ED4RHLMJBM9JkikAE0fYxlmlJalmtcvPkKC0D1fWOop57
 GxzxUr5RN72nUQNOjPYI1FF7MhkQyyW7JN6q4=
X-Google-DKIM-Signature: v=1; a=rsa-sha256; c=relaxed/relaxed;
 d=1e100.net; s=20230601; t=1722612110; x=1723216910;
 h=references:in-reply-to:cc:to:from:subject:message-id:date
 :x-gm-message-state:from:to:cc:subject:date:message-id:reply-to;
 bh=8Nrpum0ZTX8vIOp2FE6lltuEhHbqHmSEbqragPwUlUg=;
 b=rl3Uh6S0h2llFZVGLYnDSLpjtKVW31cpW49WidVuW0lUIxyZlxfjLVD/xrWo3o9S3P
 IxJUD4y/6fMI/DyFoZO8wBZeF319C2R3mR76R9dnNpQEatIKNFlwPENKXZkIOtIt1UDH
 /41ttnVAjxV6npvfhyfvFVuJb96KuK/c8YDmmNxu0hV9/jEbUNmPD8jh8+85V7aCVGb5
 8CnyOjkEnaJIRBE2r0LlGFP/uEtVOIF8yGsAW9soEc6U0HwxLSo7LW3qMX8VrivjwRaF
 b9jll4pSyzl8jlljI74AQOEfo8v68citfheTVhLZbmR8SY739bBXmCttq/LuO1azFP9B
 Fa8w==
X-Gm-Message-State: AOJu0Yw+UHEOr04JEH02b9uOPqaQ9u7EfQV+N24VLumH/rW1eBLp1NvY
 rdnrFj6pc8jiB5hUBxy8FCIzDTOby3lhsK5hfLFrK8wv528wObDDk3RiFL6Ssrx6EZsVEbGepxO
 njkOmZXNVsbRgfz2JSUOvETZ96i0NlLoA/xw6FktD0Avuxa1LW0GcuZDi
X-Google-Smtp-Source: AGHT+IGhWZgy8IHKFa1tPTOfyXbtiV1fn9+Qye+ec05Qp9WCwpdA4oXVZhe5IXK+0tKmzuo8te3h/vHCD2jf
X-Received: by 2002:a17:902:ecc2:b0:1fb:fc96:757e with SMTP id
 d9443c01a7336-1ff5730969emr44414345ad.37.1722612109916; 
 Fri, 02 Aug 2024 08:21:49 -0700 (PDT)
Received: from postal.iol.unh.edu (postal.iol.unh.edu.
 [2606:4100:3880:1234::84]) by smtp-relay.gmail.com with ESMTPS id
 d9443c01a7336-1ff58f5b443sm1147775ad.37.2024.08.02.08.21.49
 (version=TLS1_2 cipher=ECDHE-ECDSA-AES128-GCM-SHA256 bits=128/128);
 Fri, 02 Aug 2024 08:21:49 -0700 (PDT)
X-Relaying-Domain: iol.unh.edu
Date: Fri, 02 Aug 2024 08:21:49 -0700 (PDT)
Message-ID: <66acf98d.170a0220.af61b.86e0SMTPIN_ADDED_MISSING@mx.google.com>
Received: from [172.17.0.2] (unknown [172.18.0.217])
 by postal.iol.unh.edu (Postfix) with ESMTP id 10B4A6050A6B;
 Fri,  2 Aug 2024 11:21:49 -0400 (EDT)
Subject: |SUCCESS| pw142788-142789 [PATCH] [2/2] app/crypto-perf: test queue 
From: dpdklab@iol.unh.edu
To: Test Report <test-report@dpdk.org>
Cc: dpdk-test-reports@iol.unh.edu
In-Reply-To: <20240731115445.1771803-2-gakhil@marvell.com>
References: <20240731115445.1771803-2-gakhil@marvell.com>
Content-Type: text/plain
X-BeenThere: test-report@dpdk.org
X-Mailman-Version: 2.1.29
Precedence: list
List-Id: automatic DPDK test reports <test-report.dpdk.org>
List-Unsubscribe: <https://mails.dpdk.org/options/test-report>,
 <mailto:test-report-request@dpdk.org?subject=unsubscribe>
List-Archive: <http://mails.dpdk.org/archives/test-report/>
List-Post: <mailto:test-report@dpdk.org>
List-Help: <mailto:test-report-request@dpdk.org?subject=help>
List-Subscribe: <https://mails.dpdk.org/listinfo/test-report>,
 <mailto:test-report-request@dpdk.org?subject=subscribe>
Errors-To: test-report-bounces@dpdk.org

Test-Label: iol-sample-apps-testing
Test-Status: SUCCESS
http://dpdk.org/patch/142789

_Testing PASS_

Submitter: Akhil Goyal <gakhil@marvell.com>
Date: Wednesday, July 31 2024 11:54:45 
DPDK git baseline: Repo:dpdk
  Branch: master
  CommitID:4b5abe7ec1ed2d43a285599bbba23f62ac049d8f

142788-142789 --> testing pass

Upstream job id: ACVP-FIPS-testing#6490

Test environment and result as below:

+--------------------+----------------------+----------------------+
|    Environment     | compressdev_zlib_pmd | dpdk_fips_validation |
+====================+======================+======================+
| Ubuntu 22.04 (ARM) | PASS                 | SKIPPED              |
+--------------------+----------------------+----------------------+
| Ubuntu 22.04       | PASS                 | SKIPPED              |
+--------------------+----------------------+----------------------+
| Ubuntu 20.04       | SKIPPED              | PASS                 |
+--------------------+----------------------+----------------------+


Ubuntu 22.04 (ARM)
	Kernel: 5.15.0-97-generic
	Compiler: gcc gcc (Ubuntu 11.4.0-1ubuntu1~22.04) 11.4.0

Ubuntu 22.04
	Kernel: 5.15.0-100-generic
	Compiler: gcc gcc (Ubuntu 11.4.0-1ubuntu1~22.04) 11.4.0

Ubuntu 20.04
	Kernel: 5.4.0-167-generic
	Compiler: gcc 9.4.0-1ubuntu1~20.04.1

To view detailed results, visit:
https://lab.dpdk.org/results/dashboard/patchsets/30676/

UNH-IOL DPDK Community Lab

To manage your email subscriptions, visit: 
https://lab.dpdk.org/results/dashboard/preferences/subscriptions/