From mboxrd@z Thu Jan  1 00:00:00 1970
Return-Path: <test-report-bounces@dpdk.org>
Received: from mails.dpdk.org (mails.dpdk.org [217.70.189.124])
	by inbox.dpdk.org (Postfix) with ESMTP id E5BFC4576B
	for <public@inbox.dpdk.org>; Thu,  8 Aug 2024 15:43:24 +0200 (CEST)
Received: from mails.dpdk.org (localhost [127.0.0.1])
	by mails.dpdk.org (Postfix) with ESMTP id CAFA642790;
	Thu,  8 Aug 2024 15:43:24 +0200 (CEST)
Received: from mail-pl1-f226.google.com (mail-pl1-f226.google.com
 [209.85.214.226])
 by mails.dpdk.org (Postfix) with ESMTP id 338CC4066F
 for <test-report@dpdk.org>; Thu,  8 Aug 2024 15:43:23 +0200 (CEST)
Received: by mail-pl1-f226.google.com with SMTP id
 d9443c01a7336-1fc49c0aaffso9075285ad.3
 for <test-report@dpdk.org>; Thu, 08 Aug 2024 06:43:23 -0700 (PDT)
DKIM-Signature: v=1; a=rsa-sha256; c=relaxed/relaxed;
 d=iol.unh.edu; s=unh-iol; t=1723124602; x=1723729402; darn=dpdk.org;
 h=references:in-reply-to:cc:to:from:subject:message-id:date:from:to
 :cc:subject:date:message-id:reply-to;
 bh=oL3ixdZAJ1juID9wkQLzb/dkOHYACpjPdBt0GbToQhU=;
 b=MqIkfAM3xAjHSTP2+rbdRKp/nwir62/06e4B8gf8NrMBUdrE60+ofSgDT6Dn/86Uyu
 A0yLFPdbxIJoXL1blAQ5nbgZdc16gaHyruutSDzeVdbMX6tf6bUxrxSGqsLZCV0err6r
 JvcqTKHCT+AO/0rZO9wo+GNLURlFEFVVHs5Hg=
X-Google-DKIM-Signature: v=1; a=rsa-sha256; c=relaxed/relaxed;
 d=1e100.net; s=20230601; t=1723124602; x=1723729402;
 h=references:in-reply-to:cc:to:from:subject:message-id:date
 :x-gm-message-state:from:to:cc:subject:date:message-id:reply-to;
 bh=oL3ixdZAJ1juID9wkQLzb/dkOHYACpjPdBt0GbToQhU=;
 b=pYTxxVv+5y5L4XoWsZ/hyBw0XHsOyNZoMZCVPDzdmRgSD9CSJqKr6y2RyYtoLZmuWW
 QeyPJvwMeaKbShceQB3KXGpMOqOJuNP82uHXbLnT8xhf7bB3eUm4cDKETSfgOUfcSCEu
 WhcWji/Tb5pKF0/0Rt3nRpFZUE2XwfHAKVnkZ6Emp5XKXtzMkSGkJOno4aY16iq41Oqg
 BiiSnIGECBETF+/cYzexDmxQVdPnzZKic03ywcFsayPM3Lz5Gl2KT/4QpD8EviFuNXug
 eI2/kgwht6fvJMCwKB2v2lL2qYm5alcV50V4CnoZkcyvLJKrMn3qJ93rgYNbclOE7Qf3
 G7/Q==
X-Gm-Message-State: AOJu0YzDT55u37rgQ/YQwSTZbMwAGu4lGco21sdeP6o9SMnWSB1roi2f
 PVgBBGZOoouXyK7+7wsMi9QIyTHoWpYSW43FtziQawY6s2Rcs/tYAAtzputhKJOxZ8P6EbclOfC
 FpHHklSLO9b74xAJnnwA9phHh/tMi1iKJRvhJ/nXb
X-Google-Smtp-Source: AGHT+IEw2R6Qp/kRWmAJ10zqLmnr9hORniBnpCgYQTfgPd74s3cd3dRqP857WlV/Ek78bFZf/m1aGuvULGmC
X-Received: by 2002:a17:903:1247:b0:1fd:a412:5dff with SMTP id
 d9443c01a7336-200952bd177mr25201205ad.43.1723124602147; 
 Thu, 08 Aug 2024 06:43:22 -0700 (PDT)
Received: from postal.iol.unh.edu (postal.iol.unh.edu. [132.177.123.84])
 by smtp-relay.gmail.com with ESMTPS id
 d9443c01a7336-200783a2260sm5083725ad.118.2024.08.08.06.43.22
 (version=TLS1_2 cipher=ECDHE-ECDSA-AES128-GCM-SHA256 bits=128/128);
 Thu, 08 Aug 2024 06:43:22 -0700 (PDT)
X-Relaying-Domain: iol.unh.edu
Date: Thu, 08 Aug 2024 06:43:22 -0700 (PDT)
Message-ID: <66b4cb7a.170a0220.29ccd7.56cbSMTPIN_ADDED_MISSING@mx.google.com>
Received: from [172.17.0.3] (unknown [172.18.0.217])
 by postal.iol.unh.edu (Postfix) with ESMTP id 4B9986050A6B;
 Thu,  8 Aug 2024 09:43:21 -0400 (EDT)
Subject: |PENDING| pw143017 [PATCH] version: 24.11-rc0
From: dpdklab@iol.unh.edu
To: Test Report <test-report@dpdk.org>
Cc: dpdk-test-reports@iol.unh.edu
In-Reply-To: <20240808080302.1597753-1-david.marchand@redhat.com>
References: <20240808080302.1597753-1-david.marchand@redhat.com>
Content-Type: text/plain
X-BeenThere: test-report@dpdk.org
X-Mailman-Version: 2.1.29
Precedence: list
List-Id: automatic DPDK test reports <test-report.dpdk.org>
List-Unsubscribe: <https://mails.dpdk.org/options/test-report>,
 <mailto:test-report-request@dpdk.org?subject=unsubscribe>
List-Archive: <http://mails.dpdk.org/archives/test-report/>
List-Post: <mailto:test-report@dpdk.org>
List-Help: <mailto:test-report-request@dpdk.org?subject=help>
List-Subscribe: <https://mails.dpdk.org/listinfo/test-report>,
 <mailto:test-report-request@dpdk.org?subject=subscribe>
Errors-To: test-report-bounces@dpdk.org

Test-Label: iol-compile-arm64-testing
Test-Status: PENDING
http://dpdk.org/patch/143017

_Testing pending_

Submitter: David Marchand <david.marchand@redhat.com>
Date: Thursday, August 08 2024 08:03:02 
DPDK git baseline: Repo:dpdk
  Branch: master
  CommitID:b3485f4293997d35b6daecc3437bb0c183a51fb3

143017 --> testing pending

Upstream job id: Generic-DPDK-Compile-Meson#285773

Test environment and result as below:

+------------------------------------+--------------------+
|            Environment             | dpdk_meson_compile |
+====================================+====================+
| RHEL9 (ARM)                        | PASS               |
+------------------------------------+--------------------+
| Ubuntu 20.04 ARM GCC Cross Compile | PASS               |
+------------------------------------+--------------------+
| Ubuntu 20.04 ARM SVE               | PASS               |
+------------------------------------+--------------------+
| Debian 12 with MUSDK               | PASS               |
+------------------------------------+--------------------+
| Fedora 37 (ARM)                    | PEND               |
+------------------------------------+--------------------+
| Fedora 38 (ARM)                    | PEND               |
+------------------------------------+--------------------+
| Fedora 38 (ARM Clang)              | PEND               |
+------------------------------------+--------------------+
| Fedora 39 (ARM)                    | PASS               |
+------------------------------------+--------------------+
| Fedora 39 (ARM Clang)              | PEND               |
+------------------------------------+--------------------+
| Fedora 40 (ARM)                    | PEND               |
+------------------------------------+--------------------+
| Fedora 40 (ARM Clang)              | PEND               |
+------------------------------------+--------------------+
| Ubuntu 20.04 (ARM)                 | PEND               |
+------------------------------------+--------------------+
| Ubuntu 22.04 (ARM)                 | PEND               |
+------------------------------------+--------------------+
| Ubuntu 24.04 (ARM)                 | PEND               |
+------------------------------------+--------------------+
| CentOS Stream 9 (ARM)              | PEND               |
+------------------------------------+--------------------+


RHEL9 (ARM)
	Kernel: Depends on container host
	Compiler: gcc 11.4.1

Ubuntu 20.04 ARM GCC Cross Compile
	Kernel: 5.4.0-167-generic
	Compiler: aarch64-linux-gnu-gcc (Ubuntu 9.4.0-1ubuntu1~20.04.2) 9.4.0

Ubuntu 20.04 ARM SVE
	Kernel: 5.4.0-167-generic
	Compiler: gcc (Ubuntu 10.5.0-1ubuntu1~20.04) 10.5.0

Debian 12 with MUSDK
	Kernel: Container Host Kernel
	Compiler: gcc 12.2.0

Fedora 37 (ARM)
	Kernel: Depends on container host
	Compiler: gcc 12.3.1

Fedora 38 (ARM)
	Kernel: Depends on container host
	Compiler: gcc 13.2.1

Fedora 38 (ARM Clang)
	Kernel: Depends on container host
	Compiler: clang 16.0.6

Fedora 39 (ARM)
	Kernel: Depends on container host
	Compiler: gcc 13.2.1

Fedora 39 (ARM Clang)
	Kernel: Depends on container host
	Compiler: clang 17.0.6

Fedora 40 (ARM)
	Kernel: Depends on container host
	Compiler: gcc 14.1.1

Fedora 40 (ARM Clang)
	Kernel: Depends on container host
	Compiler: clang 18.1.6

Ubuntu 20.04 (ARM)
	Kernel: Container Host Kernel
	Compiler: gcc 9.4.0

Ubuntu 22.04 (ARM)
	Kernel: Container Host Kernel
	Compiler: gcc 11.4.0

Ubuntu 24.04 (ARM)
	Kernel: 5.4.0-167-generic
	Compiler: gcc 13.2.0

CentOS Stream 9 (ARM)
	Kernel: Container Host Kernel
	Compiler: gcc 11.4.1

To view detailed results, visit:
https://lab.dpdk.org/results/dashboard/patchsets/30746/

UNH-IOL DPDK Community Lab

To manage your email subscriptions, visit: 
https://lab.dpdk.org/results/dashboard/preferences/subscriptions/