From mboxrd@z Thu Jan  1 00:00:00 1970
Return-Path: <test-report-bounces@dpdk.org>
Received: from mails.dpdk.org (mails.dpdk.org [217.70.189.124])
	by inbox.dpdk.org (Postfix) with ESMTP id 7C78A45771
	for <public@inbox.dpdk.org>; Fri,  9 Aug 2024 05:57:42 +0200 (CEST)
Received: from mails.dpdk.org (localhost [127.0.0.1])
	by mails.dpdk.org (Postfix) with ESMTP id 7496F402A5;
	Fri,  9 Aug 2024 05:57:42 +0200 (CEST)
Received: from mail-yw1-f225.google.com (mail-yw1-f225.google.com
 [209.85.128.225])
 by mails.dpdk.org (Postfix) with ESMTP id CB49940279
 for <test-report@dpdk.org>; Fri,  9 Aug 2024 05:57:41 +0200 (CEST)
Received: by mail-yw1-f225.google.com with SMTP id
 00721157ae682-66acac24443so16626447b3.1
 for <test-report@dpdk.org>; Thu, 08 Aug 2024 20:57:41 -0700 (PDT)
DKIM-Signature: v=1; a=rsa-sha256; c=relaxed/relaxed;
 d=iol.unh.edu; s=unh-iol; t=1723175861; x=1723780661; darn=dpdk.org;
 h=references:in-reply-to:cc:to:from:subject:message-id:date:from:to
 :cc:subject:date:message-id:reply-to;
 bh=dHndF+fiS3rlUBeXqyROzprKIeYoGk53YNp7GObNslw=;
 b=bORmc8tOhIrd27EHvU29Bo6yFT6JKqIogUs7iPX5tMRHmjQ8VTBeNxiZ2D41xTXzNb
 3lpIODOQeKVN8Ze46QyxFsu0/0cm9VYBhScOQ8CZvM018miiPj1IIw4/tkFqYQ3xhqcr
 jbgNSrEDYxqzZB6EyhIEAUmp5cD/y4453DOzU=
X-Google-DKIM-Signature: v=1; a=rsa-sha256; c=relaxed/relaxed;
 d=1e100.net; s=20230601; t=1723175861; x=1723780661;
 h=references:in-reply-to:cc:to:from:subject:message-id:date
 :x-gm-message-state:from:to:cc:subject:date:message-id:reply-to;
 bh=dHndF+fiS3rlUBeXqyROzprKIeYoGk53YNp7GObNslw=;
 b=lMLiZqs++rJKSmp2qlQEVrzJmRnBF50pvwWSovAzRuesMcgGoZnK2LOrScV7/XIN3s
 PreOgFFEC8roaEG7LvmWvEgAeKFs1yGYCO2DfyqjzW3Zd5TTeCr3OUqCVbmasOb4p0hE
 QgBWhEtHYE0cNMf8K5ft2P8Fgp+JfxO/bWAP07xWpDxafzumFdr4mk5q63RSXFS7C9M8
 uSNt8YTVUQ7+OE3gSz4xab4l8fzSUPtiXfpUK1ZZ18A6VrlBL+JsFMt7WZo/eRxm1Fw9
 N95eQKbhQLlRMCMfLCtVVToOItmsQFk68mSmsCVLkCdeclmFSKvQb75/eyNqdnWhhLCj
 yzKQ==
X-Gm-Message-State: AOJu0Yz976hpWwxQDf5yYWM10EEl3B9JSXx8B0auP41Y53VURip9nqRo
 JcNiZrTSmhVC6pII03bKQ1S3/JRPYXUh454mjRDWNTFfsbfXGPfrfaJBJzQld4iunqGfoe8aiB4
 GUH2sfgZCscRCX9kLKIcHEGqEODEywfy1qip48k6A
X-Google-Smtp-Source: AGHT+IFXGAqaTWfH5J7mn67BTfyRGv4PT2mdWVfD7zPVFAuiZKN4axdQzKgCuhkBnEtcKL4bieTBZKlYHM5t
X-Received: by 2002:a05:690c:2907:b0:64a:69c2:b6e4 with SMTP id
 00721157ae682-69ec89af090mr3132257b3.28.1723175861207; 
 Thu, 08 Aug 2024 20:57:41 -0700 (PDT)
Received: from postal.iol.unh.edu (postal.iol.unh.edu. [132.177.123.84])
 by smtp-relay.gmail.com with ESMTPS id
 00721157ae682-68a15c519basm16520277b3.52.2024.08.08.20.57.41
 (version=TLS1_2 cipher=ECDHE-ECDSA-AES128-GCM-SHA256 bits=128/128);
 Thu, 08 Aug 2024 20:57:41 -0700 (PDT)
X-Relaying-Domain: iol.unh.edu
Date: Thu, 08 Aug 2024 20:57:41 -0700 (PDT)
Message-ID: <66b593b5.0d0a0220.3a3c62.0fb0SMTPIN_ADDED_MISSING@mx.google.com>
Received: from [172.21.0.8] (unknown [172.18.0.240])
 by postal.iol.unh.edu (Postfix) with ESMTP id D889F605C351;
 Thu,  8 Aug 2024 23:57:40 -0400 (EDT)
Subject: |PENDING| pw143018-143022 [PATCH] [v16,5/5] dts: add API doc generat
From: dpdklab@iol.unh.edu
To: Test Report <test-report@dpdk.org>
Cc: dpdk-test-reports@iol.unh.edu
In-Reply-To: <20240808085452.426702-6-juraj.linkes@pantheon.tech>
References: <20240808085452.426702-6-juraj.linkes@pantheon.tech>
Content-Type: text/plain
X-BeenThere: test-report@dpdk.org
X-Mailman-Version: 2.1.29
Precedence: list
List-Id: automatic DPDK test reports <test-report.dpdk.org>
List-Unsubscribe: <https://mails.dpdk.org/options/test-report>,
 <mailto:test-report-request@dpdk.org?subject=unsubscribe>
List-Archive: <http://mails.dpdk.org/archives/test-report/>
List-Post: <mailto:test-report@dpdk.org>
List-Help: <mailto:test-report-request@dpdk.org?subject=help>
List-Subscribe: <https://mails.dpdk.org/listinfo/test-report>,
 <mailto:test-report-request@dpdk.org?subject=subscribe>
Errors-To: test-report-bounces@dpdk.org

Test-Label: iol-compile-arm64-testing
Test-Status: PENDING
http://dpdk.org/patch/143022

_Testing pending_

Submitter: Juraj Linkes <juraj.linkes@pantheon.tech>
Date: Thursday, August 08 2024 08:54:52 
DPDK git baseline: Repo:dpdk
  Branch: master
  CommitID:cb9187bc5c2b4bab0ad80194ac3b60491de14e8c

143018-143022 --> testing pending

Upstream job id: Generic-DPDK-Compile-Meson#286022

Test environment and result as below:

+--------------------------------------+--------------------+
|             Environment              | dpdk_meson_compile |
+======================================+====================+
| RHEL9 (ARM)                          | PASS               |
+--------------------------------------+--------------------+
| Ubuntu 20.04 ARM GCC Cross Compile   | PEND               |
+--------------------------------------+--------------------+
| Ubuntu 20.04 ARM SVE                 | PASS               |
+--------------------------------------+--------------------+
| Debian 12 with MUSDK                 | PASS               |
+--------------------------------------+--------------------+
| Fedora 37 (ARM)                      | PASS               |
+--------------------------------------+--------------------+
| Fedora 38 (ARM)                      | PASS               |
+--------------------------------------+--------------------+
| Fedora 38 (ARM Clang)                | PEND               |
+--------------------------------------+--------------------+
| Fedora 39 (ARM)                      | PASS               |
+--------------------------------------+--------------------+
| Fedora 39 (ARM Clang)                | PEND               |
+--------------------------------------+--------------------+
| Fedora 40 (ARM Clang)                | PEND               |
+--------------------------------------+--------------------+
| Ubuntu 20.04 (ARM)                   | PEND               |
+--------------------------------------+--------------------+
| Ubuntu 22.04 (ARM)                   | PEND               |
+--------------------------------------+--------------------+
| CentOS Stream 9 (ARM)                | PEND               |
+--------------------------------------+--------------------+
| Debian 11 (Buster) (ARM)             | PEND               |
+--------------------------------------+--------------------+
| Debian 12 (arm)                      | PEND               |
+--------------------------------------+--------------------+
| Ubuntu 20.04 ARM Clang Cross Compile | PEND               |
+--------------------------------------+--------------------+


RHEL9 (ARM)
	Kernel: Depends on container host
	Compiler: gcc 11.4.1

Ubuntu 20.04 ARM GCC Cross Compile
	Kernel: 5.4.0-167-generic
	Compiler: aarch64-linux-gnu-gcc (Ubuntu 9.4.0-1ubuntu1~20.04.2) 9.4.0

Ubuntu 20.04 ARM SVE
	Kernel: 5.4.0-167-generic
	Compiler: gcc (Ubuntu 10.5.0-1ubuntu1~20.04) 10.5.0

Debian 12 with MUSDK
	Kernel: Container Host Kernel
	Compiler: gcc 12.2.0

Fedora 37 (ARM)
	Kernel: Depends on container host
	Compiler: gcc 12.3.1

Fedora 38 (ARM)
	Kernel: Depends on container host
	Compiler: gcc 13.2.1

Fedora 38 (ARM Clang)
	Kernel: Depends on container host
	Compiler: clang 16.0.6

Fedora 39 (ARM)
	Kernel: Depends on container host
	Compiler: gcc 13.2.1

Fedora 39 (ARM Clang)
	Kernel: Depends on container host
	Compiler: clang 17.0.6

Fedora 40 (ARM Clang)
	Kernel: Depends on container host
	Compiler: clang 18.1.6

Ubuntu 20.04 (ARM)
	Kernel: Container Host Kernel
	Compiler: gcc 9.4.0

Ubuntu 22.04 (ARM)
	Kernel: Container Host Kernel
	Compiler: gcc 11.4.0

CentOS Stream 9 (ARM)
	Kernel: Container Host Kernel
	Compiler: gcc 11.4.1

Debian 11 (Buster) (ARM)
	Kernel: Container Host Kernel
	Compiler: gcc 10.2.1

Debian 12 (arm)
	Kernel: Container Host Kernel
	Compiler: gcc 12.2.0

Ubuntu 20.04 ARM Clang Cross Compile
	Kernel: 5.4.0-72-generic
	Compiler: clang 10.0.0-4ubuntu1

To view detailed results, visit:
https://lab.dpdk.org/results/dashboard/patchsets/30747/

UNH-IOL DPDK Community Lab

To manage your email subscriptions, visit: 
https://lab.dpdk.org/results/dashboard/preferences/subscriptions/