From mboxrd@z Thu Jan  1 00:00:00 1970
Return-Path: <test-report-bounces@dpdk.org>
Received: from mails.dpdk.org (mails.dpdk.org [217.70.189.124])
	by inbox.dpdk.org (Postfix) with ESMTP id 22E2145777
	for <public@inbox.dpdk.org>; Fri,  9 Aug 2024 11:26:05 +0200 (CEST)
Received: from mails.dpdk.org (localhost [127.0.0.1])
	by mails.dpdk.org (Postfix) with ESMTP id 1E7E042DC9;
	Fri,  9 Aug 2024 11:26:05 +0200 (CEST)
Received: from mail-qv1-f97.google.com (mail-qv1-f97.google.com
 [209.85.219.97]) by mails.dpdk.org (Postfix) with ESMTP id 405C0402A5
 for <test-report@dpdk.org>; Fri,  9 Aug 2024 11:26:03 +0200 (CEST)
Received: by mail-qv1-f97.google.com with SMTP id
 6a1803df08f44-6b97097f7fdso11968596d6.0
 for <test-report@dpdk.org>; Fri, 09 Aug 2024 02:26:03 -0700 (PDT)
DKIM-Signature: v=1; a=rsa-sha256; c=relaxed/relaxed;
 d=iol.unh.edu; s=unh-iol; t=1723195562; x=1723800362; darn=dpdk.org;
 h=references:in-reply-to:cc:to:from:subject:message-id:date:from:to
 :cc:subject:date:message-id:reply-to;
 bh=a8PX2V5PLbyzhSlDmOdo+Ur+wG+E4MKCxb6V+RSBbw0=;
 b=gluoXqAv3pZylYD7T2QvOYy6guphhEYVueVpDMnZJiQhjVA0FhhAWlZh7/PsAgE260
 kXxudnL9HJ6ZBcwZCtOLNN0qI7Tu8Vv+2Gafon9JDiy81GvE6CAXWOCrr67UUpPFRHvk
 qeNbKKJXqEda8UrxHU5tzYfhTvL+Ex6hK1h90=
X-Google-DKIM-Signature: v=1; a=rsa-sha256; c=relaxed/relaxed;
 d=1e100.net; s=20230601; t=1723195562; x=1723800362;
 h=references:in-reply-to:cc:to:from:subject:message-id:date
 :x-gm-message-state:from:to:cc:subject:date:message-id:reply-to;
 bh=a8PX2V5PLbyzhSlDmOdo+Ur+wG+E4MKCxb6V+RSBbw0=;
 b=qv0AafCCerCJWAvU7qWPfnBb/dWDT73brfjRs4tDO/UgPpSNf47Fqd+CRfPfl+hRQW
 NsoUEFAU/DdGBoup+hdVOl6kwP/kjwLN8UKdIp9boI0nIDzLEd6IcIfwHz7pKiQ9pMz/
 nOSyjD3P4XP9HZ+BF83imFAml7oDYF0wrAo7yyJiesCOsHivh3R0a0pEtySOm91dvu7E
 gxOouCjYiffrH2861WBCN41ORmrnJM0F5MEBwbDS+h+sRjF6WJe1BqrwPz5tqN4DaNKD
 /D12gYAbkrb6+2pOQqZT/fan1miVIaE1MEalA/dKuhqSPdOYBOJLW+i14lXNYma8D2kj
 WFcw==
X-Gm-Message-State: AOJu0YxZGIK1kco8VFjPn0HCuR9gALaBrcD9ynuiqlFl5nUCowK2sFtL
 JCtSmUzjc0MqGibrv9zp5AQPU4BqKWhhv7wxemgunhJ/C9P8PQ81EBVBMw5XceQibXmM+xcxMIM
 J2LmWLq4w+SP+eq+hu+37ffDsbL5EIATGwM2pk2nhcemNOy85/54f/zk5
X-Google-Smtp-Source: AGHT+IEMDSNUwLerMv6nQiIhMJQe/jxQh+LPJarJrUHeIFLmN+9fJYpGzTZ916AMwSBN2+GDk6tV3iTzz1Lv
X-Received: by 2002:a05:622a:6202:b0:44f:ca27:ccad with SMTP id
 d75a77b69052e-453125c6752mr9160051cf.24.1723195562423; 
 Fri, 09 Aug 2024 02:26:02 -0700 (PDT)
Received: from postal.iol.unh.edu (postal.iol.unh.edu.
 [2606:4100:3880:1234::84]) by smtp-relay.gmail.com with ESMTPS id
 d75a77b69052e-451c879ed67sm3835361cf.28.2024.08.09.02.26.02
 (version=TLS1_2 cipher=ECDHE-ECDSA-AES128-GCM-SHA256 bits=128/128);
 Fri, 09 Aug 2024 02:26:02 -0700 (PDT)
X-Relaying-Domain: iol.unh.edu
Date: Fri, 09 Aug 2024 02:26:02 -0700 (PDT)
Message-ID: <66b5e0aa.c80a0220.2f2a8e.34a0SMTPIN_ADDED_MISSING@mx.google.com>
Received: from [172.17.0.3] (unknown [172.18.0.217])
 by postal.iol.unh.edu (Postfix) with ESMTP id ED7C36052500;
 Fri,  9 Aug 2024 05:26:01 -0400 (EDT)
Subject: |SUCCESS| pw143018-143022 [PATCH] [v16,5/5] dts: add API doc generat
From: dpdklab@iol.unh.edu
To: Test Report <test-report@dpdk.org>
Cc: dpdk-test-reports@iol.unh.edu
In-Reply-To: <20240808085452.426702-6-juraj.linkes@pantheon.tech>
References: <20240808085452.426702-6-juraj.linkes@pantheon.tech>
Content-Type: text/plain
X-BeenThere: test-report@dpdk.org
X-Mailman-Version: 2.1.29
Precedence: list
List-Id: automatic DPDK test reports <test-report.dpdk.org>
List-Unsubscribe: <https://mails.dpdk.org/options/test-report>,
 <mailto:test-report-request@dpdk.org?subject=unsubscribe>
List-Archive: <http://mails.dpdk.org/archives/test-report/>
List-Post: <mailto:test-report@dpdk.org>
List-Help: <mailto:test-report-request@dpdk.org?subject=help>
List-Subscribe: <https://mails.dpdk.org/listinfo/test-report>,
 <mailto:test-report-request@dpdk.org?subject=subscribe>
Errors-To: test-report-bounces@dpdk.org

Test-Label: iol-sample-apps-testing
Test-Status: SUCCESS
http://dpdk.org/patch/143022

_Testing PASS_

Submitter: Juraj Linkes <juraj.linkes@pantheon.tech>
Date: Thursday, August 08 2024 08:54:52 
DPDK git baseline: Repo:dpdk
  Branch: master
  CommitID:cb9187bc5c2b4bab0ad80194ac3b60491de14e8c

143018-143022 --> testing pass

Upstream job id: ACVP-FIPS-testing#6572

Test environment and result as below:

+--------------------+----------------------+----------------------+
|    Environment     | compressdev_zlib_pmd | dpdk_fips_validation |
+====================+======================+======================+
| Ubuntu 22.04 (ARM) | PASS                 | SKIPPED              |
+--------------------+----------------------+----------------------+
| Ubuntu 22.04       | PASS                 | SKIPPED              |
+--------------------+----------------------+----------------------+
| Ubuntu 20.04       | SKIPPED              | PASS                 |
+--------------------+----------------------+----------------------+


Ubuntu 22.04 (ARM)
	Kernel: 5.15.0-97-generic
	Compiler: gcc gcc (Ubuntu 11.4.0-1ubuntu1~22.04) 11.4.0

Ubuntu 22.04
	Kernel: 5.15.0-100-generic
	Compiler: gcc gcc (Ubuntu 11.4.0-1ubuntu1~22.04) 11.4.0

Ubuntu 20.04
	Kernel: 5.4.0-167-generic
	Compiler: gcc 9.4.0-1ubuntu1~20.04.1

To view detailed results, visit:
https://lab.dpdk.org/results/dashboard/patchsets/30747/

UNH-IOL DPDK Community Lab

To manage your email subscriptions, visit: 
https://lab.dpdk.org/results/dashboard/preferences/subscriptions/