From mboxrd@z Thu Jan  1 00:00:00 1970
Return-Path: <test-report-bounces@dpdk.org>
Received: from mails.dpdk.org (mails.dpdk.org [217.70.189.124])
	by inbox.dpdk.org (Postfix) with ESMTP id D36F645778
	for <public@inbox.dpdk.org>; Fri,  9 Aug 2024 13:23:42 +0200 (CEST)
Received: from mails.dpdk.org (localhost [127.0.0.1])
	by mails.dpdk.org (Postfix) with ESMTP id CB44142DC9;
	Fri,  9 Aug 2024 13:23:42 +0200 (CEST)
Received: from mail-yw1-f225.google.com (mail-yw1-f225.google.com
 [209.85.128.225])
 by mails.dpdk.org (Postfix) with ESMTP id 72B9742D78
 for <test-report@dpdk.org>; Fri,  9 Aug 2024 13:23:42 +0200 (CEST)
Received: by mail-yw1-f225.google.com with SMTP id
 00721157ae682-66a048806e6so18518597b3.3
 for <test-report@dpdk.org>; Fri, 09 Aug 2024 04:23:42 -0700 (PDT)
DKIM-Signature: v=1; a=rsa-sha256; c=relaxed/relaxed;
 d=iol.unh.edu; s=unh-iol; t=1723202622; x=1723807422; darn=dpdk.org;
 h=references:in-reply-to:cc:to:from:subject:message-id:date:from:to
 :cc:subject:date:message-id:reply-to;
 bh=p3t+mQkG4R1uOIB6mpoN3ZxPz5geTe9wC5F3MKm2cck=;
 b=hh01b+8hK4ZSIvcHhMK1ZvI4l2M9//mduu5hOKPZLR5EF9IYudIEXCcjWXRAv4VVSe
 1UwVwD5L/zsGebA5WPm15RixgdWLjHecxJFLJW2baHannrzmg0kko1VoE3ykKMoox3aJ
 82s7H5XWo/CIzVvHJAAQjZy+3p2vrCSEEZjRQ=
X-Google-DKIM-Signature: v=1; a=rsa-sha256; c=relaxed/relaxed;
 d=1e100.net; s=20230601; t=1723202622; x=1723807422;
 h=references:in-reply-to:cc:to:from:subject:message-id:date
 :x-gm-message-state:from:to:cc:subject:date:message-id:reply-to;
 bh=p3t+mQkG4R1uOIB6mpoN3ZxPz5geTe9wC5F3MKm2cck=;
 b=tRCXAnFtQT2jbNRcAu8vLl7JUv1FQEsERSKtnJjOA4n6hNc9O6LHNfWH6BS6RxN2Xt
 fzc3IeeJgKP9sGxLWChu8fJ5IMK9Qu0fVKGYJx9WhjsEaZF6y71KinmpRe2rUM1kPzj/
 5K1nLCFcX4RSSFyCv8HLDLIW36jvl68l6zt8VrKWW2pZ4nk05ZsLdXFZ9YPxXBGZ0NXD
 +rRgyr9PF/DW3cgpiWriNE2Sreg8uHTLc0x6xVWVUE4+i6zqdFCus0KxijnKkIqA2NBv
 cJKEHfYS6cKZN1yV74KNuFnddVUq77HED66nfKDb788BivMHEuiQg1nbEA8hx6XetxPn
 YiqA==
X-Gm-Message-State: AOJu0Yxk24tUeRNpTF1/9jztYbBAe7DsbWpQ4y1uxWM0W5MuNJw+rkg2
 /uEWDlrFtQjHR/j3cu5IDTJuguWmzTPQLtGwEeoOKsq9kkGjVyIqokUM5E6j2gzEZVMlGbLC1uq
 QzdeqUjPwS314ZA8cB6u+btgdrUb8LDd0RxFN2qPd
X-Google-Smtp-Source: AGHT+IFIi9XgFaA3dRYNi2Zb5roAf57fV9ZW04gu/BlBGUNN5tXd06/YE7xOtn8+WI2y/UUVak8+gqu7ITMq
X-Received: by 2002:a05:690c:2d85:b0:645:8fb:71c8 with SMTP id
 00721157ae682-69ec944a0dfmr11642727b3.37.1723202621832; 
 Fri, 09 Aug 2024 04:23:41 -0700 (PDT)
Received: from postal.iol.unh.edu (postal.iol.unh.edu. [132.177.123.84])
 by smtp-relay.gmail.com with ESMTPS id
 00721157ae682-68a1226c994sm16966727b3.25.2024.08.09.04.23.41
 (version=TLS1_2 cipher=ECDHE-ECDSA-AES128-GCM-SHA256 bits=128/128);
 Fri, 09 Aug 2024 04:23:41 -0700 (PDT)
X-Relaying-Domain: iol.unh.edu
Date: Fri, 09 Aug 2024 04:23:41 -0700 (PDT)
Message-ID: <66b5fc3d.0d0a0220.1fed0c.49dbSMTPIN_ADDED_MISSING@mx.google.com>
Received: from [172.21.0.6] (unknown [172.18.0.240])
 by postal.iol.unh.edu (Postfix) with ESMTP id 7672260526E2;
 Fri,  9 Aug 2024 07:23:41 -0400 (EDT)
Subject: |SUCCESS| pw143018-143022 [PATCH] [v16,5/5] dts: add API doc generat
From: dpdklab@iol.unh.edu
To: Test Report <test-report@dpdk.org>
Cc: dpdk-test-reports@iol.unh.edu
In-Reply-To: <20240808085452.426702-6-juraj.linkes@pantheon.tech>
References: <20240808085452.426702-6-juraj.linkes@pantheon.tech>
Content-Type: text/plain
X-BeenThere: test-report@dpdk.org
X-Mailman-Version: 2.1.29
Precedence: list
List-Id: automatic DPDK test reports <test-report.dpdk.org>
List-Unsubscribe: <https://mails.dpdk.org/options/test-report>,
 <mailto:test-report-request@dpdk.org?subject=unsubscribe>
List-Archive: <http://mails.dpdk.org/archives/test-report/>
List-Post: <mailto:test-report@dpdk.org>
List-Help: <mailto:test-report-request@dpdk.org?subject=help>
List-Subscribe: <https://mails.dpdk.org/listinfo/test-report>,
 <mailto:test-report-request@dpdk.org?subject=subscribe>
Errors-To: test-report-bounces@dpdk.org

Test-Label: iol-sample-apps-testing
Test-Status: SUCCESS
http://dpdk.org/patch/143022

_Testing PASS_

Submitter: Juraj Linkes <juraj.linkes@pantheon.tech>
Date: Thursday, August 08 2024 08:54:52 
DPDK git baseline: Repo:dpdk
  Branch: master
  CommitID:cb9187bc5c2b4bab0ad80194ac3b60491de14e8c

143018-143022 --> testing pass

Upstream job id: ACVP-FIPS-testing#6573

Test environment and result as below:

+--------------------+----------------------+----------------------+
|    Environment     | compressdev_zlib_pmd | dpdk_fips_validation |
+====================+======================+======================+
| Ubuntu 22.04 (ARM) | PASS                 | SKIPPED              |
+--------------------+----------------------+----------------------+
| Ubuntu 22.04       | PASS                 | SKIPPED              |
+--------------------+----------------------+----------------------+
| Ubuntu 20.04       | SKIPPED              | PASS                 |
+--------------------+----------------------+----------------------+


Ubuntu 22.04 (ARM)
	Kernel: 5.15.0-97-generic
	Compiler: gcc gcc (Ubuntu 11.4.0-1ubuntu1~22.04) 11.4.0

Ubuntu 22.04
	Kernel: 5.15.0-100-generic
	Compiler: gcc gcc (Ubuntu 11.4.0-1ubuntu1~22.04) 11.4.0

Ubuntu 20.04
	Kernel: 5.4.0-167-generic
	Compiler: gcc 9.4.0-1ubuntu1~20.04.1

To view detailed results, visit:
https://lab.dpdk.org/results/dashboard/patchsets/30747/

UNH-IOL DPDK Community Lab

To manage your email subscriptions, visit: 
https://lab.dpdk.org/results/dashboard/preferences/subscriptions/