From mboxrd@z Thu Jan  1 00:00:00 1970
Return-Path: <test-report-bounces@dpdk.org>
Received: from mails.dpdk.org (mails.dpdk.org [217.70.189.124])
	by inbox.dpdk.org (Postfix) with ESMTP id B9A9545794
	for <public@inbox.dpdk.org>; Sun, 11 Aug 2024 12:59:56 +0200 (CEST)
Received: from mails.dpdk.org (localhost [127.0.0.1])
	by mails.dpdk.org (Postfix) with ESMTP id 95BF7400D7;
	Sun, 11 Aug 2024 12:59:56 +0200 (CEST)
Received: from mail-il1-f227.google.com (mail-il1-f227.google.com
 [209.85.166.227])
 by mails.dpdk.org (Postfix) with ESMTP id B54B5400D5
 for <test-report@dpdk.org>; Sun, 11 Aug 2024 12:59:54 +0200 (CEST)
Received: by mail-il1-f227.google.com with SMTP id
 e9e14a558f8ab-39b3e127718so12279705ab.3
 for <test-report@dpdk.org>; Sun, 11 Aug 2024 03:59:54 -0700 (PDT)
DKIM-Signature: v=1; a=rsa-sha256; c=relaxed/relaxed;
 d=iol.unh.edu; s=unh-iol; t=1723373994; x=1723978794; darn=dpdk.org;
 h=references:in-reply-to:cc:to:from:subject:message-id:date:from:to
 :cc:subject:date:message-id:reply-to;
 bh=c6dRA8bWwX3rpRfTfmOT5ll1lL6MmzciFk0bqMcGpt4=;
 b=AnwyqA8f6OMfoc8yk5Us+J7Wf3AZ9x2i+DLWikY6mETsatbPknZW53z2QPu4JXpemG
 T/KtGYizmzJzdnEK/6TCEFvnXdXTxoKj10cI/jwwlvzmOyyqv28MIhCA1ONOHnNg/fjP
 PamqRtwBvqCelANPLVxLJqwkpfZoc5XCR/e1s=
X-Google-DKIM-Signature: v=1; a=rsa-sha256; c=relaxed/relaxed;
 d=1e100.net; s=20230601; t=1723373994; x=1723978794;
 h=references:in-reply-to:cc:to:from:subject:message-id:date
 :x-gm-message-state:from:to:cc:subject:date:message-id:reply-to;
 bh=c6dRA8bWwX3rpRfTfmOT5ll1lL6MmzciFk0bqMcGpt4=;
 b=eziIrZ796IGETOiDoqSkOB9E7PqhXQffDwyrCtANDlX+fJzt4HYyUybxPeIi9+PIcH
 Zv6k6kztj6IEKxgPp1ddDioNVg040mnliZN+BVFtILiLNyT2ELD5NvqXOw2mDyD7/puB
 3sTen3c8NAYbCu44QXUnMbW/Zu3lmxPaZC26XO+2DKm1rBT/Fk0z80lWzQT7EvJhRTo7
 YmD8E99WJqlyL4pekiuoFB301Ww8xJBsnchxtzDTYIgqqg0kmng0wMhqHtjHmJTeJK+Q
 fiIE+ZoDwz8eMfHVRpouA+IH1JVqqdaCZ3HoJxxi5MTjQDM0uK+x7giVZrTgap+mnhia
 BMFg==
X-Gm-Message-State: AOJu0Yy+A6EpPyzlP0aP0Qh2WLEXTk8PTaYiyX8COYUvSJgfIATaCBUa
 WzLRRO8+Agkq19mQVHXKe4HtiOwxw4vRc8TLo2k3xRMtN3EZg/pKbNyVqcZnVqG6G1vimTk/oqR
 UsHXK3YkIeJfhkGc4dqGb/I4iw56W4GCvcMWr1GGq
X-Google-Smtp-Source: AGHT+IGKV0JEJx/gvZtwiuzA2iMjbSHqTAl5MUd7twCoRmvaslEoYNn+4Q3NnoFp7YnagW95vDAdcR9zkQEQ
X-Received: by 2002:a05:6e02:1448:b0:396:e8b8:88d with SMTP id
 e9e14a558f8ab-39b7495ec54mr77470255ab.11.1723373993934; 
 Sun, 11 Aug 2024 03:59:53 -0700 (PDT)
Received: from postal.iol.unh.edu (postal.iol.unh.edu. [132.177.123.84])
 by smtp-relay.gmail.com with ESMTPS id
 e9e14a558f8ab-39c30a9e185sm1032415ab.27.2024.08.11.03.59.53
 (version=TLS1_2 cipher=ECDHE-ECDSA-AES128-GCM-SHA256 bits=128/128);
 Sun, 11 Aug 2024 03:59:53 -0700 (PDT)
X-Relaying-Domain: iol.unh.edu
Date: Sun, 11 Aug 2024 03:59:53 -0700 (PDT)
Message-ID: <66b899a9.050a0220.52e89.839dSMTPIN_ADDED_MISSING@mx.google.com>
Received: from [172.17.0.2] (unknown [172.18.0.217])
 by postal.iol.unh.edu (Postfix) with ESMTP id 4A0F06052500;
 Sun, 11 Aug 2024 06:59:53 -0400 (EDT)
Subject: |PENDING| pw143061 [PATCH] service: extend service function call sta
From: dpdklab@iol.unh.edu
To: Test Report <test-report@dpdk.org>
Cc: dpdk-test-reports@iol.unh.edu
In-Reply-To: <20240809202539.590510-1-mattias.ronnblom@ericsson.com>
References: <20240809202539.590510-1-mattias.ronnblom@ericsson.com>
Content-Type: text/plain
X-BeenThere: test-report@dpdk.org
X-Mailman-Version: 2.1.29
Precedence: list
List-Id: automatic DPDK test reports <test-report.dpdk.org>
List-Unsubscribe: <https://mails.dpdk.org/options/test-report>,
 <mailto:test-report-request@dpdk.org?subject=unsubscribe>
List-Archive: <http://mails.dpdk.org/archives/test-report/>
List-Post: <mailto:test-report@dpdk.org>
List-Help: <mailto:test-report-request@dpdk.org?subject=help>
List-Subscribe: <https://mails.dpdk.org/listinfo/test-report>,
 <mailto:test-report-request@dpdk.org?subject=subscribe>
Errors-To: test-report-bounces@dpdk.org

Test-Label: iol-compile-arm64-testing
Test-Status: PENDING
http://dpdk.org/patch/143061

_Testing pending_

Submitter: Mattias Ronnblom <mattias.ronnblom@ericsson.com>
Date: Friday, August 09 2024 20:25:39 
DPDK git baseline: Repo:dpdk
  Branch: master
  CommitID:cb9187bc5c2b4bab0ad80194ac3b60491de14e8c

143061 --> testing pending

Upstream job id: Generic-DPDK-Compile-Meson#286985

Test environment and result as below:

+----------------------------------------+--------------------+
|              Environment               | dpdk_meson_compile |
+========================================+====================+
| RHEL9 (ARM)                            | PASS               |
+----------------------------------------+--------------------+
| Ubuntu 20.04 ARM GCC Cross Compile     | PASS               |
+----------------------------------------+--------------------+
| Ubuntu 20.04 ARM SVE                   | PASS               |
+----------------------------------------+--------------------+
| Debian 12 with MUSDK                   | PASS               |
+----------------------------------------+--------------------+
| Fedora 37 (ARM)                        | PASS               |
+----------------------------------------+--------------------+
| Fedora 38 (ARM)                        | PASS               |
+----------------------------------------+--------------------+
| Fedora 38 (ARM Clang)                  | PEND               |
+----------------------------------------+--------------------+
| Fedora 39 (ARM)                        | PASS               |
+----------------------------------------+--------------------+
| Fedora 39 (ARM Clang)                  | PEND               |
+----------------------------------------+--------------------+
| Fedora 40 (ARM)                        | PASS               |
+----------------------------------------+--------------------+
| Fedora 40 (ARM Clang)                  | PEND               |
+----------------------------------------+--------------------+
| Ubuntu 20.04 (ARM)                     | PASS               |
+----------------------------------------+--------------------+
| Ubuntu 22.04 (ARM)                     | PASS               |
+----------------------------------------+--------------------+
| Ubuntu 24.04 (ARM)                     | PASS               |
+----------------------------------------+--------------------+
| CentOS Stream 9 (ARM)                  | PASS               |
+----------------------------------------+--------------------+
| Debian 11 (Buster) (ARM)               | PASS               |
+----------------------------------------+--------------------+
| Debian 12 (arm)                        | PEND               |
+----------------------------------------+--------------------+
| Ubuntu 20.04 ARM Clang Cross Compile   | PASS               |
+----------------------------------------+--------------------+
| Ubuntu 20.04 aarch32 GCC Cross Compile | PASS               |
+----------------------------------------+--------------------+


RHEL9 (ARM)
	Kernel: Depends on container host
	Compiler: gcc 11.4.1

Ubuntu 20.04 ARM GCC Cross Compile
	Kernel: 5.4.0-167-generic
	Compiler: aarch64-linux-gnu-gcc (Ubuntu 9.4.0-1ubuntu1~20.04.2) 9.4.0

Ubuntu 20.04 ARM SVE
	Kernel: 5.4.0-167-generic
	Compiler: gcc (Ubuntu 10.5.0-1ubuntu1~20.04) 10.5.0

Debian 12 with MUSDK
	Kernel: Container Host Kernel
	Compiler: gcc 12.2.0

Fedora 37 (ARM)
	Kernel: Depends on container host
	Compiler: gcc 12.3.1

Fedora 38 (ARM)
	Kernel: Depends on container host
	Compiler: gcc 13.2.1

Fedora 38 (ARM Clang)
	Kernel: Depends on container host
	Compiler: clang 16.0.6

Fedora 39 (ARM)
	Kernel: Depends on container host
	Compiler: gcc 13.2.1

Fedora 39 (ARM Clang)
	Kernel: Depends on container host
	Compiler: clang 17.0.6

Fedora 40 (ARM)
	Kernel: Depends on container host
	Compiler: gcc 14.1.1

Fedora 40 (ARM Clang)
	Kernel: Depends on container host
	Compiler: clang 18.1.6

Ubuntu 20.04 (ARM)
	Kernel: Container Host Kernel
	Compiler: gcc 9.4.0

Ubuntu 22.04 (ARM)
	Kernel: Container Host Kernel
	Compiler: gcc 11.4.0

Ubuntu 24.04 (ARM)
	Kernel: 5.4.0-167-generic
	Compiler: gcc 13.2.0

CentOS Stream 9 (ARM)
	Kernel: Container Host Kernel
	Compiler: gcc 11.4.1

Debian 11 (Buster) (ARM)
	Kernel: Container Host Kernel
	Compiler: gcc 10.2.1

Debian 12 (arm)
	Kernel: Container Host Kernel
	Compiler: gcc 12.2.0

Ubuntu 20.04 ARM Clang Cross Compile
	Kernel: 5.4.0-72-generic
	Compiler: clang 10.0.0-4ubuntu1

Ubuntu 20.04 aarch32 GCC Cross Compile
	Kernel: 5.4.0-167-generic
	Compiler: gcc 9.4.0

To view detailed results, visit:
https://lab.dpdk.org/results/dashboard/patchsets/30761/

UNH-IOL DPDK Community Lab

To manage your email subscriptions, visit: 
https://lab.dpdk.org/results/dashboard/preferences/subscriptions/