From mboxrd@z Thu Jan  1 00:00:00 1970
Return-Path: <test-report-bounces@dpdk.org>
Received: from mails.dpdk.org (mails.dpdk.org [217.70.189.124])
	by inbox.dpdk.org (Postfix) with ESMTP id 1C61F457AA
	for <public@inbox.dpdk.org>; Tue, 13 Aug 2024 05:31:03 +0200 (CEST)
Received: from mails.dpdk.org (localhost [127.0.0.1])
	by mails.dpdk.org (Postfix) with ESMTP id 17BFF4065B;
	Tue, 13 Aug 2024 05:31:03 +0200 (CEST)
Received: from mail-il1-f226.google.com (mail-il1-f226.google.com
 [209.85.166.226])
 by mails.dpdk.org (Postfix) with ESMTP id 0AE65402D0
 for <test-report@dpdk.org>; Tue, 13 Aug 2024 05:30:59 +0200 (CEST)
Received: by mail-il1-f226.google.com with SMTP id
 e9e14a558f8ab-39b3c36d3adso18134655ab.1
 for <test-report@dpdk.org>; Mon, 12 Aug 2024 20:30:58 -0700 (PDT)
DKIM-Signature: v=1; a=rsa-sha256; c=relaxed/relaxed;
 d=iol.unh.edu; s=unh-iol; t=1723519858; x=1724124658; darn=dpdk.org;
 h=references:in-reply-to:cc:to:from:subject:message-id:date:from:to
 :cc:subject:date:message-id:reply-to;
 bh=Gn7Ma7svX2sFqS3baT4HT2qYHucEma8Fyelpsxi9KOQ=;
 b=bbvHGMwc2C5SPC8mszzpcUa3E7PUSFR/klr8YR4PNNOw4zKyCvzQbaNlgvBu8Uplsc
 aaST2cIdGSE0RgBjpNe0fGwz5IjzczSXro5FWg59dTiBOT9V1vC+5XAbOAIJWHy8v1Ru
 4c+lOh1zadmTV/3fT6PCnxp/7+jSvOhNEj6cg=
X-Google-DKIM-Signature: v=1; a=rsa-sha256; c=relaxed/relaxed;
 d=1e100.net; s=20230601; t=1723519858; x=1724124658;
 h=references:in-reply-to:cc:to:from:subject:message-id:date
 :x-gm-message-state:from:to:cc:subject:date:message-id:reply-to;
 bh=Gn7Ma7svX2sFqS3baT4HT2qYHucEma8Fyelpsxi9KOQ=;
 b=Kr6fzMkG9Z3ooYKorZxlQvvkJlKVPh/qlnG6AxHNOxtZ2gxWyB+Htszn63nE0Tk1U8
 tv7vQHC3qOROXQO1AkzVyvTby5ZtQbOxBqDejG88oVNJmuF0v+cA2s9gWW7+tVvZyyvT
 0+xuArRDNPsGLogwcnoZ1WbfcxnA5yg98ucQs9KDAD9qkc7OkXoBZp7Y0aE1KIbhACl7
 hndNs2RQaTmYDHkcTF2FjKvIJaXXp+Kd8Xq7N+noOm5o0Co4VewHetnOwjKbhya7qH31
 8jzgDGf4c/ba1rixBYTeTUiNZJWufpPxFugpmc3jHp7ZbP0O8jLjvaFPdq1/wPf+leCz
 uurQ==
X-Gm-Message-State: AOJu0YwhlWZCZ2vnT0r4nna1TMWfeuJdmSZ4zF3+GZa/Dl1SfiglFqkL
 RrMT22+4Uum750MIxC5EvpfEfwUzH96TH44Ps1M8/8+c8475Nl4Q9qX4ct5ZgKwy0U9PoYrkTUR
 5OppZyfgoJ2c9jXkLWvZcD6OqzjO/+EngiVaZEbjGWXSBtvE6owyREOtd
X-Google-Smtp-Source: AGHT+IGdZOIPpRduZVPKhjcVRe/lMxsLyBSjn1ynT+LPXA51wDJhXJMiKPkM37G8UpiznQBkoZQxC1eLrUf5
X-Received: by 2002:a05:6e02:17c5:b0:39b:3a44:fe8a with SMTP id
 e9e14a558f8ab-39c477cd8a6mr26696185ab.4.1723519858221; 
 Mon, 12 Aug 2024 20:30:58 -0700 (PDT)
Received: from postal.iol.unh.edu (postal.iol.unh.edu.
 [2606:4100:3880:1234::84]) by smtp-relay.gmail.com with ESMTPS id
 e9e14a558f8ab-39c30af66bcsm3324065ab.70.2024.08.12.20.30.58
 (version=TLS1_2 cipher=ECDHE-ECDSA-AES128-GCM-SHA256 bits=128/128);
 Mon, 12 Aug 2024 20:30:58 -0700 (PDT)
X-Relaying-Domain: iol.unh.edu
Date: Mon, 12 Aug 2024 20:30:58 -0700 (PDT)
Message-ID: <66bad372.920a0220.2da38f.2b6eSMTPIN_ADDED_MISSING@mx.google.com>
Received: from [172.21.0.6] (unknown [172.18.0.240])
 by postal.iol.unh.edu (Postfix) with ESMTP id AAEEA605C380;
 Mon, 12 Aug 2024 23:30:57 -0400 (EDT)
Subject: |PENDING| pw143102-143104 [PATCH] [v7,3/3] event/dsw: add capability
From: dpdklab@iol.unh.edu
To: Test Report <test-report@dpdk.org>
Cc: dpdk-test-reports@iol.unh.edu
In-Reply-To: <20240812184153.982130-4-abdullah.sevincer@intel.com>
References: <20240812184153.982130-4-abdullah.sevincer@intel.com>
Content-Type: text/plain
X-BeenThere: test-report@dpdk.org
X-Mailman-Version: 2.1.29
Precedence: list
List-Id: automatic DPDK test reports <test-report.dpdk.org>
List-Unsubscribe: <https://mails.dpdk.org/options/test-report>,
 <mailto:test-report-request@dpdk.org?subject=unsubscribe>
List-Archive: <http://mails.dpdk.org/archives/test-report/>
List-Post: <mailto:test-report@dpdk.org>
List-Help: <mailto:test-report-request@dpdk.org?subject=help>
List-Subscribe: <https://mails.dpdk.org/listinfo/test-report>,
 <mailto:test-report-request@dpdk.org?subject=subscribe>
Errors-To: test-report-bounces@dpdk.org

Test-Label: iol-unit-arm64-testing
Test-Status: PENDING
http://dpdk.org/patch/143104

_Testing pending_

Submitter: Abdullah Sevincer <abdullah.sevincer@intel.com>
Date: Monday, August 12 2024 18:41:53 
DPDK git baseline: Repo:dpdk
  Branch: master
  CommitID:cb9187bc5c2b4bab0ad80194ac3b60491de14e8c

143102-143104 --> testing pending

Upstream job id: Generic-Unit-Test-DPDK#251491

Test environment and result as below:

+-----------------------------+----------------+--------------+------------------------------+---------------------------+
|         Environment         | dpdk_unit_test | lpm_autotest | cryptodev_sw_snow3g_autotest | cryptodev_sw_zuc_autotest |
+=============================+================+==============+==============================+===========================+
| CentOS Stream 9 (ARM)       | PASS           | SKIPPED      | SKIPPED                      | SKIPPED                   |
+-----------------------------+----------------+--------------+------------------------------+---------------------------+
| Debian 11 (Buster) (ARM)    | PASS           | SKIPPED      | SKIPPED                      | SKIPPED                   |
+-----------------------------+----------------+--------------+------------------------------+---------------------------+
| Fedora 37 (ARM)             | PEND           | SKIPPED      | SKIPPED                      | SKIPPED                   |
+-----------------------------+----------------+--------------+------------------------------+---------------------------+
| Debian 12 (arm)             | PEND           | SKIPPED      | PEND                         | PEND                      |
+-----------------------------+----------------+--------------+------------------------------+---------------------------+
| Fedora 38 (ARM)             | PEND           | SKIPPED      | SKIPPED                      | SKIPPED                   |
+-----------------------------+----------------+--------------+------------------------------+---------------------------+
| Fedora 38 (ARM Clang)       | PEND           | SKIPPED      | SKIPPED                      | SKIPPED                   |
+-----------------------------+----------------+--------------+------------------------------+---------------------------+
| Fedora 39 (ARM)             | PEND           | SKIPPED      | SKIPPED                      | SKIPPED                   |
+-----------------------------+----------------+--------------+------------------------------+---------------------------+
| Fedora 40 (ARM)             | PEND           | SKIPPED      | SKIPPED                      | SKIPPED                   |
+-----------------------------+----------------+--------------+------------------------------+---------------------------+
| Fedora 40 (ARM Clang)       | PEND           | SKIPPED      | SKIPPED                      | SKIPPED                   |
+-----------------------------+----------------+--------------+------------------------------+---------------------------+
| RHEL9 (ARM)                 | PEND           | SKIPPED      | SKIPPED                      | SKIPPED                   |
+-----------------------------+----------------+--------------+------------------------------+---------------------------+
| Ubuntu 20.04 (ARM)          | PEND           | SKIPPED      | SKIPPED                      | SKIPPED                   |
+-----------------------------+----------------+--------------+------------------------------+---------------------------+
| 32-bit Ubuntu 20.04.4 (ARM) | PASS           | SKIPPED      | SKIPPED                      | SKIPPED                   |
+-----------------------------+----------------+--------------+------------------------------+---------------------------+
| Ubuntu 22.04 (ARM)          | PEND           | SKIPPED      | SKIPPED                      | SKIPPED                   |
+-----------------------------+----------------+--------------+------------------------------+---------------------------+
| Ubuntu 24.04 (ARM)          | PEND           | SKIPPED      | SKIPPED                      | SKIPPED                   |
+-----------------------------+----------------+--------------+------------------------------+---------------------------+
| Fedora 39 (ARM Clang)       | PEND           | SKIPPED      | SKIPPED                      | SKIPPED                   |
+-----------------------------+----------------+--------------+------------------------------+---------------------------+
| Ubuntu 20.04 ARM SVE        | SKIPPED        | PASS         | SKIPPED                      | SKIPPED                   |
+-----------------------------+----------------+--------------+------------------------------+---------------------------+


CentOS Stream 9 (ARM)
	Kernel: Container Host Kernel
	Compiler: gcc 11.4.1

Debian 11 (Buster) (ARM)
	Kernel: Container Host Kernel
	Compiler: gcc 10.2.1

Fedora 37 (ARM)
	Kernel: Depends on container host
	Compiler: gcc 12.3.1

Debian 12 (arm)
	Kernel: Container Host Kernel
	Compiler: gcc 12.2.0

Fedora 38 (ARM)
	Kernel: Depends on container host
	Compiler: gcc 13.2.1

Fedora 38 (ARM Clang)
	Kernel: Depends on container host
	Compiler: clang 16.0.6

Fedora 39 (ARM)
	Kernel: Depends on container host
	Compiler: gcc 13.2.1

Fedora 40 (ARM)
	Kernel: Depends on container host
	Compiler: gcc 14.1.1

Fedora 40 (ARM Clang)
	Kernel: Depends on container host
	Compiler: clang 18.1.6

RHEL9 (ARM)
	Kernel: Depends on container host
	Compiler: gcc 11.4.1

Ubuntu 20.04 (ARM)
	Kernel: Container Host Kernel
	Compiler: gcc 9.4.0

32-bit Ubuntu 20.04.4 (ARM)
	Kernel: 5.4.0-155-generic aarch64
	Compiler: gcc 9.4

Ubuntu 22.04 (ARM)
	Kernel: Container Host Kernel
	Compiler: gcc 11.4.0

Ubuntu 24.04 (ARM)
	Kernel: 5.4.0-167-generic
	Compiler: gcc 13.2.0

Fedora 39 (ARM Clang)
	Kernel: Depends on container host
	Compiler: clang 17.0.6

Ubuntu 20.04 ARM SVE
	Kernel: 5.4.0-167-generic
	Compiler: gcc (Ubuntu 10.5.0-1ubuntu1~20.04) 10.5.0

To view detailed results, visit:
https://lab.dpdk.org/results/dashboard/patchsets/30777/

UNH-IOL DPDK Community Lab

To manage your email subscriptions, visit: 
https://lab.dpdk.org/results/dashboard/preferences/subscriptions/