From mboxrd@z Thu Jan  1 00:00:00 1970
Return-Path: <test-report-bounces@dpdk.org>
Received: from mails.dpdk.org (mails.dpdk.org [217.70.189.124])
	by inbox.dpdk.org (Postfix) with ESMTP id 7254A457AB
	for <public@inbox.dpdk.org>; Tue, 13 Aug 2024 06:16:20 +0200 (CEST)
Received: from mails.dpdk.org (localhost [127.0.0.1])
	by mails.dpdk.org (Postfix) with ESMTP id 6DF314065B;
	Tue, 13 Aug 2024 06:16:20 +0200 (CEST)
Received: from mail-oi1-f225.google.com (mail-oi1-f225.google.com
 [209.85.167.225])
 by mails.dpdk.org (Postfix) with ESMTP id AD641402D0
 for <test-report@dpdk.org>; Tue, 13 Aug 2024 06:16:19 +0200 (CEST)
Received: by mail-oi1-f225.google.com with SMTP id
 5614622812f47-3db16a98d16so3113870b6e.0
 for <test-report@dpdk.org>; Mon, 12 Aug 2024 21:16:19 -0700 (PDT)
DKIM-Signature: v=1; a=rsa-sha256; c=relaxed/relaxed;
 d=iol.unh.edu; s=unh-iol; t=1723522579; x=1724127379; darn=dpdk.org;
 h=references:in-reply-to:cc:to:from:subject:message-id:date:from:to
 :cc:subject:date:message-id:reply-to;
 bh=Te1d+0giIcMkNEME/dlbcEE/79EU3SwT7of1rC380nM=;
 b=F0cY309RTImFI/bcNqfIbYJ1CTbktsoE2EbscFJjmCJJgxGaO2PmVKGsvExF5VSA2w
 9t3nOco/IwYsNy5voYPp8IvjKE9GuJPPKt2RQiexH0QJ2Pcb4q/GGBKBwYtm8Q6kaAht
 V/7uwR7nxDW+bVEY9Xu9PWBs5IuYIILboDjwg=
X-Google-DKIM-Signature: v=1; a=rsa-sha256; c=relaxed/relaxed;
 d=1e100.net; s=20230601; t=1723522579; x=1724127379;
 h=references:in-reply-to:cc:to:from:subject:message-id:date
 :x-gm-message-state:from:to:cc:subject:date:message-id:reply-to;
 bh=Te1d+0giIcMkNEME/dlbcEE/79EU3SwT7of1rC380nM=;
 b=h41Be1PAKDzYn7qZ8zLJDmZ+n6GOzQ1KsFmAtOs5h5ptPDCStsHL+Mqkq0BzsqF+XZ
 VkQMiPvHscuE7DwdaEnnhLsyKtpMtOjzbQk9ImBvHNR2X/VuAbozkLIFxNoradUYlrca
 4lu8RydO1wAs//9zXXfMXfU+/U8KWKrmR/grxpCfwYCBBN8AlanZ1FFBCcO7Wo5TjNVN
 FqvMbfR1wvDj5Eh44dH7jLLPSacSnfuOX0Mi93h3ZeGaaLa4ZEJ2QFN17oE982pRcJZJ
 i0OlmkkRFQrvf1LrrpH4Pul4ewQocgUgyXHtsUpmkknSsFr/+RE6+vqUZjDbIpwgmRxP
 LCOg==
X-Gm-Message-State: AOJu0Yz+kvAlohXlt+NunSdlkBhdbHQQYoXm93TZLgBfAhfCK+gXR1Aq
 ruNLqKIRPynPlOzRnFKOJa77P8tsljf2pYaKUjBFupqpxvk7hUpAcL+NgSIj4So4Bhrvv8h1wi6
 oDxmw0iZ31Ar6sGGOf/58cDOeauxa2z5iSWSIWQxp
X-Google-Smtp-Source: AGHT+IGOR5QCWngbHtLUTdadh2IqLTfdbDLwHgGFSI4NXeH3Xkdmba0DZH8UhbOcpoNSEa/4hsDeSor6x5PV
X-Received: by 2002:a05:6870:469f:b0:261:72a:1336 with SMTP id
 586e51a60fabf-26fcb85fa6cmr2671908fac.50.1723522578980; 
 Mon, 12 Aug 2024 21:16:18 -0700 (PDT)
Received: from postal.iol.unh.edu (postal.iol.unh.edu. [132.177.123.84])
 by smtp-relay.gmail.com with ESMTPS id
 586e51a60fabf-26c7210d085sm415802fac.28.2024.08.12.21.16.18
 (version=TLS1_2 cipher=ECDHE-ECDSA-AES128-GCM-SHA256 bits=128/128);
 Mon, 12 Aug 2024 21:16:18 -0700 (PDT)
X-Relaying-Domain: iol.unh.edu
Date: Mon, 12 Aug 2024 21:16:18 -0700 (PDT)
Message-ID: <66bade12.050a0220.1babcd.73b8SMTPIN_ADDED_MISSING@mx.google.com>
Received: from [172.17.0.3] (unknown [172.18.0.217])
 by postal.iol.unh.edu (Postfix) with ESMTP id 70360605C380;
 Tue, 13 Aug 2024 00:16:18 -0400 (EDT)
Subject: |PENDING| pw143102-143104 [PATCH] [v7,3/3] event/dsw: add capability
From: dpdklab@iol.unh.edu
To: Test Report <test-report@dpdk.org>
Cc: dpdk-test-reports@iol.unh.edu
In-Reply-To: <20240812184153.982130-4-abdullah.sevincer@intel.com>
References: <20240812184153.982130-4-abdullah.sevincer@intel.com>
Content-Type: text/plain
X-BeenThere: test-report@dpdk.org
X-Mailman-Version: 2.1.29
Precedence: list
List-Id: automatic DPDK test reports <test-report.dpdk.org>
List-Unsubscribe: <https://mails.dpdk.org/options/test-report>,
 <mailto:test-report-request@dpdk.org?subject=unsubscribe>
List-Archive: <http://mails.dpdk.org/archives/test-report/>
List-Post: <mailto:test-report@dpdk.org>
List-Help: <mailto:test-report-request@dpdk.org?subject=help>
List-Subscribe: <https://mails.dpdk.org/listinfo/test-report>,
 <mailto:test-report-request@dpdk.org?subject=subscribe>
Errors-To: test-report-bounces@dpdk.org

Test-Label: iol-compile-arm64-testing
Test-Status: PENDING
http://dpdk.org/patch/143104

_Testing pending_

Submitter: Abdullah Sevincer <abdullah.sevincer@intel.com>
Date: Monday, August 12 2024 18:41:53 
DPDK git baseline: Repo:dpdk
  Branch: master
  CommitID:cb9187bc5c2b4bab0ad80194ac3b60491de14e8c

143102-143104 --> testing pending

Upstream job id: Generic-DPDK-Compile-Meson#287660

Test environment and result as below:

+----------------------------------------+--------------------+
|              Environment               | dpdk_meson_compile |
+========================================+====================+
| RHEL9 (ARM)                            | PASS               |
+----------------------------------------+--------------------+
| Ubuntu 20.04 ARM GCC Cross Compile     | PASS               |
+----------------------------------------+--------------------+
| Ubuntu 20.04 ARM SVE                   | PASS               |
+----------------------------------------+--------------------+
| Debian 12 with MUSDK                   | PASS               |
+----------------------------------------+--------------------+
| Fedora 37 (ARM)                        | PASS               |
+----------------------------------------+--------------------+
| Fedora 38 (ARM)                        | PASS               |
+----------------------------------------+--------------------+
| Fedora 39 (ARM Clang)                  | PEND               |
+----------------------------------------+--------------------+
| Fedora 40 (ARM)                        | PASS               |
+----------------------------------------+--------------------+
| Fedora 40 (ARM Clang)                  | PASS               |
+----------------------------------------+--------------------+
| Ubuntu 20.04 (ARM)                     | PASS               |
+----------------------------------------+--------------------+
| Ubuntu 22.04 (ARM)                     | PASS               |
+----------------------------------------+--------------------+
| Ubuntu 24.04 (ARM)                     | PASS               |
+----------------------------------------+--------------------+
| CentOS Stream 9 (ARM)                  | PASS               |
+----------------------------------------+--------------------+
| Debian 11 (Buster) (ARM)               | PASS               |
+----------------------------------------+--------------------+
| Debian 12 (arm)                        | PEND               |
+----------------------------------------+--------------------+
| Ubuntu 20.04 ARM Clang Cross Compile   | PASS               |
+----------------------------------------+--------------------+
| Ubuntu 20.04 aarch32 GCC Cross Compile | PASS               |
+----------------------------------------+--------------------+
| Fedora 39 (ARM)                        | PEND               |
+----------------------------------------+--------------------+
| Fedora 38 (ARM Clang)                  | PEND               |
+----------------------------------------+--------------------+


RHEL9 (ARM)
	Kernel: Depends on container host
	Compiler: gcc 11.4.1

Ubuntu 20.04 ARM GCC Cross Compile
	Kernel: 5.4.0-167-generic
	Compiler: aarch64-linux-gnu-gcc (Ubuntu 9.4.0-1ubuntu1~20.04.2) 9.4.0

Ubuntu 20.04 ARM SVE
	Kernel: 5.4.0-167-generic
	Compiler: gcc (Ubuntu 10.5.0-1ubuntu1~20.04) 10.5.0

Debian 12 with MUSDK
	Kernel: Container Host Kernel
	Compiler: gcc 12.2.0

Fedora 37 (ARM)
	Kernel: Depends on container host
	Compiler: gcc 12.3.1

Fedora 38 (ARM)
	Kernel: Depends on container host
	Compiler: gcc 13.2.1

Fedora 39 (ARM Clang)
	Kernel: Depends on container host
	Compiler: clang 17.0.6

Fedora 40 (ARM)
	Kernel: Depends on container host
	Compiler: gcc 14.1.1

Fedora 40 (ARM Clang)
	Kernel: Depends on container host
	Compiler: clang 18.1.6

Ubuntu 20.04 (ARM)
	Kernel: Container Host Kernel
	Compiler: gcc 9.4.0

Ubuntu 22.04 (ARM)
	Kernel: Container Host Kernel
	Compiler: gcc 11.4.0

Ubuntu 24.04 (ARM)
	Kernel: 5.4.0-167-generic
	Compiler: gcc 13.2.0

CentOS Stream 9 (ARM)
	Kernel: Container Host Kernel
	Compiler: gcc 11.4.1

Debian 11 (Buster) (ARM)
	Kernel: Container Host Kernel
	Compiler: gcc 10.2.1

Debian 12 (arm)
	Kernel: Container Host Kernel
	Compiler: gcc 12.2.0

Ubuntu 20.04 ARM Clang Cross Compile
	Kernel: 5.4.0-72-generic
	Compiler: clang 10.0.0-4ubuntu1

Ubuntu 20.04 aarch32 GCC Cross Compile
	Kernel: 5.4.0-167-generic
	Compiler: gcc 9.4.0

Fedora 39 (ARM)
	Kernel: Depends on container host
	Compiler: gcc 13.2.1

Fedora 38 (ARM Clang)
	Kernel: Depends on container host
	Compiler: clang 16.0.6

To view detailed results, visit:
https://lab.dpdk.org/results/dashboard/patchsets/30777/

UNH-IOL DPDK Community Lab

To manage your email subscriptions, visit: 
https://lab.dpdk.org/results/dashboard/preferences/subscriptions/