From mboxrd@z Thu Jan  1 00:00:00 1970
Return-Path: <test-report-bounces@dpdk.org>
Received: from mails.dpdk.org (mails.dpdk.org [217.70.189.124])
	by inbox.dpdk.org (Postfix) with ESMTP id DD333457AD
	for <public@inbox.dpdk.org>; Tue, 13 Aug 2024 08:25:07 +0200 (CEST)
Received: from mails.dpdk.org (localhost [127.0.0.1])
	by mails.dpdk.org (Postfix) with ESMTP id D1C744065B;
	Tue, 13 Aug 2024 08:25:07 +0200 (CEST)
Received: from mail-yw1-f226.google.com (mail-yw1-f226.google.com
 [209.85.128.226])
 by mails.dpdk.org (Postfix) with ESMTP id 7A49F402D0
 for <test-report@dpdk.org>; Tue, 13 Aug 2024 08:25:06 +0200 (CEST)
Received: by mail-yw1-f226.google.com with SMTP id
 00721157ae682-661d7e68e89so38341177b3.0
 for <test-report@dpdk.org>; Mon, 12 Aug 2024 23:25:06 -0700 (PDT)
DKIM-Signature: v=1; a=rsa-sha256; c=relaxed/relaxed;
 d=iol.unh.edu; s=unh-iol; t=1723530306; x=1724135106; darn=dpdk.org;
 h=references:in-reply-to:cc:to:from:subject:message-id:date:from:to
 :cc:subject:date:message-id:reply-to;
 bh=Y3xpd3VszurrqJfv5ZMRjjxm7CRc0Rq08J0DKhM5b6U=;
 b=dJ5o1OX9NtA6YiUc2LiTInwnGSjOTIHn9ll6lOb6/iHE02eb6iv/9Ff88zcvQZJqqk
 R5GnEEYT3XAtDOF2usz5oIbtX8w13SXoCWJG6okYSE55XOT4NONZqIic40CawEP0kDjz
 s9Nv6meDullP6Sj7xwy4NOr6Zryinu+fWmd2I=
X-Google-DKIM-Signature: v=1; a=rsa-sha256; c=relaxed/relaxed;
 d=1e100.net; s=20230601; t=1723530306; x=1724135106;
 h=references:in-reply-to:cc:to:from:subject:message-id:date
 :x-gm-message-state:from:to:cc:subject:date:message-id:reply-to;
 bh=Y3xpd3VszurrqJfv5ZMRjjxm7CRc0Rq08J0DKhM5b6U=;
 b=EUKrv/JKRYYM6nc8prwJ9e8vZNcIPqeTgGEdTr5KR4Kof2wxqhTxri/UQ1nZOLQPxr
 7uyBZxeWA2Qn1oyrh+iN+yQUWO8vLAz1swwgSnBoRXY6bw2cxLvVYN/3ARETrUQu+xPl
 wh649Kb8q5g10XdNrbG3h6PyYV81nRGRBOZuPgdqpaY41+bf1UQ8XgUfn90P4FFstEMD
 bjQGTE6MaZvH2Ie8WNQ7yBjh2qzzcv2KyUXI5ke5k1728DeUMqWwMWWongOJVm64A+gD
 DpU9tpR0vTQ8ovO4VSY7Gyf/B1NenHCZ9XAHtzQYXT09GfABvOKwrW1/CKSinH8ZQGm+
 2ujg==
X-Gm-Message-State: AOJu0YzZ7Zh3hUHjM/3k+c3oL8G1+QjONZK7LvOMgg4WrT53XqBgFJ9m
 4rl9zvGTB/6a0K7mCg1c6Yhq7H4fhMTPlUawObltGp9NJSInq18CFCuBAD2Suoop8rcYBQOy6GC
 Lx828QRCmdbneSP1F2TWesqv6ZqD5yvPQ5OOC2s4n
X-Google-Smtp-Source: AGHT+IE8r6W+PgpqQPGKfwMzv661D0sI9/ew7kMT8BpDiENEJrAXIzkohiE7tNdgkE6YWdCb8/DitBvVvvRX
X-Received: by 2002:a05:690c:4808:b0:630:8515:f076 with SMTP id
 00721157ae682-6a9e61fd383mr20083197b3.7.1723530305854; 
 Mon, 12 Aug 2024 23:25:05 -0700 (PDT)
Received: from postal.iol.unh.edu (postal.iol.unh.edu. [132.177.123.84])
 by smtp-relay.gmail.com with ESMTPS id
 00721157ae682-6a0a4616608sm5569467b3.68.2024.08.12.23.25.05
 (version=TLS1_2 cipher=ECDHE-ECDSA-AES128-GCM-SHA256 bits=128/128);
 Mon, 12 Aug 2024 23:25:05 -0700 (PDT)
X-Relaying-Domain: iol.unh.edu
Date: Mon, 12 Aug 2024 23:25:05 -0700 (PDT)
Message-ID: <66bafc41.0d0a0220.81340.252dSMTPIN_ADDED_MISSING@mx.google.com>
Received: from [172.21.0.7] (unknown [172.18.0.240])
 by postal.iol.unh.edu (Postfix) with ESMTP id 83F7D605C380;
 Tue, 13 Aug 2024 02:25:05 -0400 (EDT)
Subject: |PENDING| pw143105-143107 [PATCH] [v8,3/3] event/dsw: add capability
From: dpdklab@iol.unh.edu
To: Test Report <test-report@dpdk.org>
Cc: dpdk-test-reports@iol.unh.edu
In-Reply-To: <20240812200030.988314-4-abdullah.sevincer@intel.com>
References: <20240812200030.988314-4-abdullah.sevincer@intel.com>
Content-Type: text/plain
X-BeenThere: test-report@dpdk.org
X-Mailman-Version: 2.1.29
Precedence: list
List-Id: automatic DPDK test reports <test-report.dpdk.org>
List-Unsubscribe: <https://mails.dpdk.org/options/test-report>,
 <mailto:test-report-request@dpdk.org?subject=unsubscribe>
List-Archive: <http://mails.dpdk.org/archives/test-report/>
List-Post: <mailto:test-report@dpdk.org>
List-Help: <mailto:test-report-request@dpdk.org?subject=help>
List-Subscribe: <https://mails.dpdk.org/listinfo/test-report>,
 <mailto:test-report-request@dpdk.org?subject=subscribe>
Errors-To: test-report-bounces@dpdk.org

Test-Label: iol-compile-amd64-testing
Test-Status: PENDING
http://dpdk.org/patch/143107

_Testing pending_

Submitter: Abdullah Sevincer <abdullah.sevincer@intel.com>
Date: Monday, August 12 2024 20:00:30 
DPDK git baseline: Repo:dpdk
  Branch: master
  CommitID:cb9187bc5c2b4bab0ad80194ac3b60491de14e8c

143105-143107 --> testing pending

Upstream job id: Generic-VM-DPDK-Compile-Meson#28701

Test environment and result as below:

+---------------------+--------------------+------------------+-------------------+----------------------+
|     Environment     | dpdk_meson_compile | dpdk_compile_ovs | dpdk_compile_spdk | dpdk_mingw64_compile |
+=====================+====================+==================+===================+======================+
| CentOS Stream 9     | PEND               | PEND             | PEND              | SKIPPED              |
+---------------------+--------------------+------------------+-------------------+----------------------+
| Debian Bullseye     | PEND               | PEND             | PEND              | SKIPPED              |
+---------------------+--------------------+------------------+-------------------+----------------------+
| Debian 12           | PEND               | PEND             | PEND              | SKIPPED              |
+---------------------+--------------------+------------------+-------------------+----------------------+
| Fedora 37           | PEND               | PEND             | PEND              | SKIPPED              |
+---------------------+--------------------+------------------+-------------------+----------------------+
| Fedora 38 (Clang)   | PEND               | PEND             | PEND              | SKIPPED              |
+---------------------+--------------------+------------------+-------------------+----------------------+
| Fedora 38           | PEND               | PEND             | PEND              | SKIPPED              |
+---------------------+--------------------+------------------+-------------------+----------------------+
| Fedora 39 (Clang)   | PEND               | PEND             | PEND              | SKIPPED              |
+---------------------+--------------------+------------------+-------------------+----------------------+
| Fedora 40 (Clang)   | PEND               | PEND             | PEND              | SKIPPED              |
+---------------------+--------------------+------------------+-------------------+----------------------+
| Fedora 39           | PEND               | PEND             | PEND              | SKIPPED              |
+---------------------+--------------------+------------------+-------------------+----------------------+
| Fedora 40           | PEND               | PEND             | PEND              | SKIPPED              |
+---------------------+--------------------+------------------+-------------------+----------------------+
| Ubuntu 20.04        | PEND               | PEND             | SKIPPED           | SKIPPED              |
+---------------------+--------------------+------------------+-------------------+----------------------+
| openSUSE Leap 15    | PEND               | PEND             | SKIPPED           | SKIPPED              |
+---------------------+--------------------+------------------+-------------------+----------------------+
| RHEL9               | PEND               | PEND             | SKIPPED           | SKIPPED              |
+---------------------+--------------------+------------------+-------------------+----------------------+
| RHEL8               | PEND               | PEND             | SKIPPED           | SKIPPED              |
+---------------------+--------------------+------------------+-------------------+----------------------+
| Ubuntu 22.04        | PEND               | PEND             | PEND              | SKIPPED              |
+---------------------+--------------------+------------------+-------------------+----------------------+
| Ubuntu 24.04        | PEND               | PEND             | PEND              | SKIPPED              |
+---------------------+--------------------+------------------+-------------------+----------------------+
| Windows Server 2019 | PASS               | SKIPPED          | SKIPPED           | PASS                 |
+---------------------+--------------------+------------------+-------------------+----------------------+
| Alpine              | PEND               | PEND             | SKIPPED           | SKIPPED              |
+---------------------+--------------------+------------------+-------------------+----------------------+
| FreeBSD 13.3        | PASS               | SKIPPED          | SKIPPED           | SKIPPED              |
+---------------------+--------------------+------------------+-------------------+----------------------+
| FreeBSD 14.1        | PASS               | SKIPPED          | SKIPPED           | SKIPPED              |
+---------------------+--------------------+------------------+-------------------+----------------------+
| Windows Server 2022 | SKIPPED            | SKIPPED          | SKIPPED           | PASS                 |
+---------------------+--------------------+------------------+-------------------+----------------------+


CentOS Stream 9
	Kernel: 5.4.0-167-generic
	Compiler: gcc 11.4.1 20230605

Debian Bullseye
	Kernel: 5.4.0-167-generic
	Compiler: gcc 10.2.1-6

Debian 12
	Kernel: Container Host Kernel
	Compiler: gcc 12.2.0

Fedora 37
	Kernel: Depends on container host system
	Compiler: gcc 12.3.1

Fedora 38 (Clang)
	Kernel: Depends on container host
	Compiler: clang 16.0.6

Fedora 38
	Kernel: Depends on container host
	Compiler: gcc 13.2.1

Fedora 39 (Clang)
	Kernel: Depends on container host
	Compiler: clang 17.0.6

Fedora 40 (Clang)
	Kernel: Depends on container host
	Compiler: clang 18.1.6

Fedora 39
	Kernel: Depends on container host
	Compiler: gcc 13.2.1

Fedora 40
	Kernel: Depends on container host
	Compiler: gcc 14.1.1

Ubuntu 20.04
	Kernel: 5.4.0-167-generic
	Compiler: gcc 9.4.0-1ubuntu1~20.04.1

openSUSE Leap 15
	Kernel: 5.4.0-167-generic
	Compiler: gcc 7.5.0

RHEL9
	Kernel: Depends on container host
	Compiler: gcc 11.4.1

RHEL8
	Kernel: 5.4.0-167-generic
	Compiler: gcc 8.5.0 20210514 (Red Hat 8.5.0-20)

Ubuntu 22.04
	Kernel: 5.4.0-167-generic
	Compiler: gcc 11.4.0

Ubuntu 24.04
	Kernel: 5.4.0-167-generic
	Compiler: gcc 13.2.0

Windows Server 2019
	Kernel: 10.0.17763
	Compiler: clang 14.0 and gcc 8.1.0 (MinGW)

Alpine
	Kernel: 5.4.0-167-generic
	Compiler: gcc (Alpine 13.2.1_git20231014) 13.2.1 20231014

FreeBSD 13.3
	Kernel: 13.3-RELEASE-p1
	Compiler: clang 17.0.6

FreeBSD 14.1
	Kernel: 14.1
	Compiler: clang 18.1.5

Windows Server 2022
	Kernel: 10.0.20348.2031
	Compiler: clang 15.0.7, gcc 8.1.0 (MinGW), and MSVC VS 17.9

To view detailed results, visit:
https://lab.dpdk.org/results/dashboard/patchsets/30778/

UNH-IOL DPDK Community Lab

To manage your email subscriptions, visit: 
https://lab.dpdk.org/results/dashboard/preferences/subscriptions/