From mboxrd@z Thu Jan  1 00:00:00 1970
Return-Path: <test-report-bounces@dpdk.org>
Received: from mails.dpdk.org (mails.dpdk.org [217.70.189.124])
	by inbox.dpdk.org (Postfix) with ESMTP id 0A2AA457AF
	for <public@inbox.dpdk.org>; Tue, 13 Aug 2024 10:45:00 +0200 (CEST)
Received: from mails.dpdk.org (localhost [127.0.0.1])
	by mails.dpdk.org (Postfix) with ESMTP id 05D7E4065B;
	Tue, 13 Aug 2024 10:45:00 +0200 (CEST)
Received: from mail-ua1-f100.google.com (mail-ua1-f100.google.com
 [209.85.222.100])
 by mails.dpdk.org (Postfix) with ESMTP id 87A9D40647
 for <test-report@dpdk.org>; Tue, 13 Aug 2024 10:44:58 +0200 (CEST)
Received: by mail-ua1-f100.google.com with SMTP id
 a1e0cc1a2514c-825809a4decso1920066241.0
 for <test-report@dpdk.org>; Tue, 13 Aug 2024 01:44:58 -0700 (PDT)
DKIM-Signature: v=1; a=rsa-sha256; c=relaxed/relaxed;
 d=iol.unh.edu; s=unh-iol; t=1723538698; x=1724143498; darn=dpdk.org;
 h=references:in-reply-to:cc:to:from:subject:message-id:date:from:to
 :cc:subject:date:message-id:reply-to;
 bh=8cs6EEWl0F4nk3Rebd5SdxgP2dXNPbX1N9Xb+QyiBTQ=;
 b=LDYjT1lXlB9EZOP/yuWBVz5hxCJMoA4KcrCaIa8kqpeJLuCh9qlqlfwYl9PCVAVold
 P/ftv1FXkliN9/a3t9XkteQaC4FhZ/wheyrGEE2Ipbnb1fWGLIX2dUcaLnSbgTH5sEyw
 ZN9vDp0Jrs9wf1B4DGxXQWjLTWuC3m0Rn07uY=
X-Google-DKIM-Signature: v=1; a=rsa-sha256; c=relaxed/relaxed;
 d=1e100.net; s=20230601; t=1723538698; x=1724143498;
 h=references:in-reply-to:cc:to:from:subject:message-id:date
 :x-gm-message-state:from:to:cc:subject:date:message-id:reply-to;
 bh=8cs6EEWl0F4nk3Rebd5SdxgP2dXNPbX1N9Xb+QyiBTQ=;
 b=IE9kovvYZeVeW/feOLasnn0u7kanXa1lOSjsKFBaW8n85gD5zpBD6Vb556iuR/Kc4O
 xbA3dtrP1nPqKhoie1RlGf94/a5hYkXKcLXCt6ImmPpygIpbC0fUtI3usUKKQqCKMBvq
 k8QitANeL8jI8gOMnBK8as4NTs6sqbVASXJml1FzcEcC6dXhO8HHv96zV6aUKsAr42l9
 Pn9/FtalUWbuf4cNOfbsOOtF6eIj30HEI3MUxuRblcSNUJfpkkkcoM0R3MA7YGH5r5cq
 m8v7QhfQf+CBEhTfrOGYMnW2bcLVjpyt6vfMTedzN72Ume8KxNbqfRAGwAaCeGTEzRhv
 AwFA==
X-Gm-Message-State: AOJu0YzZ9WnCJOZbJ9B7TniMs380oFmO+UiovihZS8uW8gXMqvsabBUv
 f3oviePfzV41480PGIbqz06xo+kFb5W/TzKwjjD8ICgX1sAVg8epRUpW5mZdPSoQTNDPUWnz/qr
 1vFh8TeeseWXFqiFKHYXCk8VB3vN0tMSl2SRAfFP9
X-Google-Smtp-Source: AGHT+IFfISUofyWKcB7i+oBrYWRY0aGRCyX/W9i87UviWax1MQYWxrUpP42GKbP0M1vtK3c9xlaxMdvZQxKS
X-Received: by 2002:a05:6122:1da7:b0:4ef:280f:96ea with SMTP id
 71dfb90a1353d-4fabeee7c19mr3765331e0c.4.1723538697810; 
 Tue, 13 Aug 2024 01:44:57 -0700 (PDT)
Received: from postal.iol.unh.edu (postal.iol.unh.edu. [132.177.123.84])
 by smtp-relay.gmail.com with ESMTPS id
 71dfb90a1353d-4f91f4f8c76sm505180e0c.13.2024.08.13.01.44.57
 (version=TLS1_2 cipher=ECDHE-ECDSA-AES128-GCM-SHA256 bits=128/128);
 Tue, 13 Aug 2024 01:44:57 -0700 (PDT)
X-Relaying-Domain: iol.unh.edu
Date: Tue, 13 Aug 2024 01:44:57 -0700 (PDT)
Message-ID: <66bb1d09.050a0220.1f61f.c4aaSMTPIN_ADDED_MISSING@mx.google.com>
Received: from [172.21.0.7] (unknown [172.18.0.240])
 by postal.iol.unh.edu (Postfix) with ESMTP id 4E6DF60526E2;
 Tue, 13 Aug 2024 04:44:57 -0400 (EDT)
Subject: |PENDING| pw143105-143107 [PATCH] [v8,3/3] event/dsw: add capability
From: dpdklab@iol.unh.edu
To: Test Report <test-report@dpdk.org>
Cc: dpdk-test-reports@iol.unh.edu
In-Reply-To: <20240812200030.988314-4-abdullah.sevincer@intel.com>
References: <20240812200030.988314-4-abdullah.sevincer@intel.com>
Content-Type: text/plain
X-BeenThere: test-report@dpdk.org
X-Mailman-Version: 2.1.29
Precedence: list
List-Id: automatic DPDK test reports <test-report.dpdk.org>
List-Unsubscribe: <https://mails.dpdk.org/options/test-report>,
 <mailto:test-report-request@dpdk.org?subject=unsubscribe>
List-Archive: <http://mails.dpdk.org/archives/test-report/>
List-Post: <mailto:test-report@dpdk.org>
List-Help: <mailto:test-report-request@dpdk.org?subject=help>
List-Subscribe: <https://mails.dpdk.org/listinfo/test-report>,
 <mailto:test-report-request@dpdk.org?subject=subscribe>
Errors-To: test-report-bounces@dpdk.org

Test-Label: iol-unit-amd64-testing
Test-Status: PENDING
http://dpdk.org/patch/143107

_Testing pending_

Submitter: Abdullah Sevincer <abdullah.sevincer@intel.com>
Date: Monday, August 12 2024 20:00:30 
DPDK git baseline: Repo:dpdk
  Branch: master
  CommitID:cb9187bc5c2b4bab0ad80194ac3b60491de14e8c

143105-143107 --> testing pending

Upstream job id: Generic-Unit-Test-DPDK#251677

Test environment and result as below:

+---------------------+----------------+
|     Environment     | dpdk_unit_test |
+=====================+================+
| Windows Server 2019 | PASS           |
+---------------------+----------------+
| Windows Server 2022 | PASS           |
+---------------------+----------------+
| CentOS Stream 9     | PASS           |
+---------------------+----------------+
| Debian 12           | PASS           |
+---------------------+----------------+
| Debian Bullseye     | PASS           |
+---------------------+----------------+
| Fedora 37           | PASS           |
+---------------------+----------------+
| Fedora 38           | PASS           |
+---------------------+----------------+
| Fedora 38 (Clang)   | PASS           |
+---------------------+----------------+
| Fedora 39 (Clang)   | PASS           |
+---------------------+----------------+
| Fedora 40           | PASS           |
+---------------------+----------------+
| openSUSE Leap 15    | PASS           |
+---------------------+----------------+
| Fedora 40 (Clang)   | PEND           |
+---------------------+----------------+
| RHEL8               | PASS           |
+---------------------+----------------+
| RHEL9               | PASS           |
+---------------------+----------------+
| Ubuntu 20.04        | PASS           |
+---------------------+----------------+
| Ubuntu 22.04        | PEND           |
+---------------------+----------------+
| Ubuntu 24.04        | PEND           |
+---------------------+----------------+
| Fedora 39           | PEND           |
+---------------------+----------------+


Windows Server 2019
	Kernel: 10.0.17763
	Compiler: clang 14.0 and gcc 8.1.0 (MinGW)

Windows Server 2022
	Kernel: 10.0.20348.2031
	Compiler: clang 15.0.7, gcc 8.1.0 (MinGW), and MSVC VS 17.9

CentOS Stream 9
	Kernel: 5.4.0-167-generic
	Compiler: gcc 11.4.1 20230605

Debian 12
	Kernel: Container Host Kernel
	Compiler: gcc 12.2.0

Debian Bullseye
	Kernel: 5.4.0-167-generic
	Compiler: gcc 10.2.1-6

Fedora 37
	Kernel: Depends on container host system
	Compiler: gcc 12.3.1

Fedora 38
	Kernel: Depends on container host
	Compiler: gcc 13.2.1

Fedora 38 (Clang)
	Kernel: Depends on container host
	Compiler: clang 16.0.6

Fedora 39 (Clang)
	Kernel: Depends on container host
	Compiler: clang 17.0.6

Fedora 40
	Kernel: Depends on container host
	Compiler: gcc 14.1.1

openSUSE Leap 15
	Kernel: 5.4.0-167-generic
	Compiler: gcc 7.5.0

Fedora 40 (Clang)
	Kernel: Depends on container host
	Compiler: clang 18.1.6

RHEL8
	Kernel: 5.4.0-167-generic
	Compiler: gcc 8.5.0 20210514 (Red Hat 8.5.0-20)

RHEL9
	Kernel: Depends on container host
	Compiler: gcc 11.4.1

Ubuntu 20.04
	Kernel: 5.4.0-167-generic
	Compiler: gcc 9.4.0-1ubuntu1~20.04.1

Ubuntu 22.04
	Kernel: 5.4.0-167-generic
	Compiler: gcc 11.4.0

Ubuntu 24.04
	Kernel: 5.4.0-167-generic
	Compiler: gcc 13.2.0

Fedora 39
	Kernel: Depends on container host
	Compiler: gcc 13.2.1

To view detailed results, visit:
https://lab.dpdk.org/results/dashboard/patchsets/30778/

UNH-IOL DPDK Community Lab

To manage your email subscriptions, visit: 
https://lab.dpdk.org/results/dashboard/preferences/subscriptions/