From mboxrd@z Thu Jan  1 00:00:00 1970
Return-Path: <test-report-bounces@dpdk.org>
Received: from mails.dpdk.org (mails.dpdk.org [217.70.189.124])
	by inbox.dpdk.org (Postfix) with ESMTP id 2097D457B3
	for <public@inbox.dpdk.org>; Tue, 13 Aug 2024 18:36:02 +0200 (CEST)
Received: from mails.dpdk.org (localhost [127.0.0.1])
	by mails.dpdk.org (Postfix) with ESMTP id 1D53C402A8;
	Tue, 13 Aug 2024 18:36:02 +0200 (CEST)
Received: from mail-pj1-f99.google.com (mail-pj1-f99.google.com
 [209.85.216.99]) by mails.dpdk.org (Postfix) with ESMTP id BBB7B4028B
 for <test-report@dpdk.org>; Tue, 13 Aug 2024 18:36:00 +0200 (CEST)
Received: by mail-pj1-f99.google.com with SMTP id
 98e67ed59e1d1-2d1e3381cb1so3210736a91.0
 for <test-report@dpdk.org>; Tue, 13 Aug 2024 09:36:00 -0700 (PDT)
DKIM-Signature: v=1; a=rsa-sha256; c=relaxed/relaxed;
 d=iol.unh.edu; s=unh-iol; t=1723566960; x=1724171760; darn=dpdk.org;
 h=references:in-reply-to:cc:to:from:subject:message-id:date:from:to
 :cc:subject:date:message-id:reply-to;
 bh=Onc5VhjIiJUcETHElh9QQFYLQYdltp/FxDQayX+U2oY=;
 b=SOKpv9fTUC2lTEjaC0QOjbF0j/fe1J2SmlGI+iucp/qCUm5bhGFvPBaNeKNrWwjn19
 UFAIidbbRrnbZ/dLLS4klzFe8MPmqiPORF7t++CYfkl8SexnAEgar6fLx5saZY0KHMfg
 kLpKSE//2SPO/WWNPul0f9Ga6A+gLhx8KXpMo=
X-Google-DKIM-Signature: v=1; a=rsa-sha256; c=relaxed/relaxed;
 d=1e100.net; s=20230601; t=1723566960; x=1724171760;
 h=references:in-reply-to:cc:to:from:subject:message-id:date
 :x-gm-message-state:from:to:cc:subject:date:message-id:reply-to;
 bh=Onc5VhjIiJUcETHElh9QQFYLQYdltp/FxDQayX+U2oY=;
 b=T+QGt1eOwEYnpniih2NBkEFectm8CL4JYxLcqwkY9YE1L/vrTqgM2tSHCeG6Cltb/F
 UNQf6/Mg6sJ8CB9WWTuk3XV4KCee/gC4myAH+CCuDMOakCu148p04GAs1ztKPgbNtiyt
 pqoFkaqJk00mPuutC5yZR2Y8zkr2DknX6jzl+uxU1tpcWeHCF/YsEKxkBLQPdk6gw1TB
 2uo1p1lp2HDQPcOnKckKqFFOtyAkK9A9SULMm+od1g+7OtkyrjMwUcVnpm3/n2WuQ+RB
 Zd0Mz5WOpM1lKOD3zyM2Ejt8GPvX9VjaBlHrVXDizgkEKnCnpIROGaFd7627olq0pCeh
 M3xA==
X-Gm-Message-State: AOJu0Yzrs7w1Cd8PRfGMbaIOJjhYtVXSjsezTruU0woIWdXA7Pge38Qg
 cUzOVovRXUnWfeKo43+mXqxI5p2T40ZMAT/T7RjGFLWs7aR0XCRE1vak4b7xNfWGKIca2b2NGaY
 VVpiMu0Bwl5c/1qd9CWQOys1i2+XtIje9A4hC/BFp2EptGelmQ4LPvJz4
X-Google-Smtp-Source: AGHT+IGnuZvwMPzNPJx155wYN082e/UYunhHxnYyZRxxR5/j/eTRRnNsguSiSyT3ebghgouviSQYSP/crYM7
X-Received: by 2002:a17:90a:1116:b0:2c9:784b:4a49 with SMTP id
 98e67ed59e1d1-2d3aabed201mr18906a91.38.1723566959919; 
 Tue, 13 Aug 2024 09:35:59 -0700 (PDT)
Received: from postal.iol.unh.edu (postal.iol.unh.edu.
 [2606:4100:3880:1234::84]) by smtp-relay.gmail.com with ESMTPS id
 98e67ed59e1d1-2d1fce9eb32sm521142a91.5.2024.08.13.09.35.59
 (version=TLS1_2 cipher=ECDHE-ECDSA-AES128-GCM-SHA256 bits=128/128);
 Tue, 13 Aug 2024 09:35:59 -0700 (PDT)
X-Relaying-Domain: iol.unh.edu
Date: Tue, 13 Aug 2024 09:35:59 -0700 (PDT)
Message-ID: <66bb8b6f.170a0220.2031c9.9f2dSMTPIN_ADDED_MISSING@mx.google.com>
Received: from [172.21.0.6] (unknown [172.18.0.240])
 by postal.iol.unh.edu (Postfix) with ESMTP id 1C8E1605C351;
 Tue, 13 Aug 2024 12:35:59 -0400 (EDT)
Subject: |PENDING| pw143109-143110 [PATCH] [v2,3/3] test/bbdev: update for qu
From: dpdklab@iol.unh.edu
To: Test Report <test-report@dpdk.org>
Cc: dpdk-test-reports@iol.unh.edu
In-Reply-To: <20240812234201.2196633-4-nicolas.chautru@intel.com>
References: <20240812234201.2196633-4-nicolas.chautru@intel.com>
Content-Type: text/plain
X-BeenThere: test-report@dpdk.org
X-Mailman-Version: 2.1.29
Precedence: list
List-Id: automatic DPDK test reports <test-report.dpdk.org>
List-Unsubscribe: <https://mails.dpdk.org/options/test-report>,
 <mailto:test-report-request@dpdk.org?subject=unsubscribe>
List-Archive: <http://mails.dpdk.org/archives/test-report/>
List-Post: <mailto:test-report@dpdk.org>
List-Help: <mailto:test-report-request@dpdk.org?subject=help>
List-Subscribe: <https://mails.dpdk.org/listinfo/test-report>,
 <mailto:test-report-request@dpdk.org?subject=subscribe>
Errors-To: test-report-bounces@dpdk.org

Test-Label: iol-compile-amd64-testing
Test-Status: PENDING
http://dpdk.org/patch/143110

_Testing pending_

Submitter: Nicolas Chautru <nicolas.chautru@intel.com>
Date: Monday, August 12 2024 23:42:01 
DPDK git baseline: Repo:dpdk
  Branch: master
  CommitID:cb9187bc5c2b4bab0ad80194ac3b60491de14e8c

143109-143110 --> testing pending

Upstream job id: Generic-DPDK-Compile-Meson#288023

Test environment and result as below:

+---------------------+--------------------+------------------+-------------------+----------------------+
|     Environment     | dpdk_meson_compile | dpdk_compile_ovs | dpdk_compile_spdk | dpdk_mingw64_compile |
+=====================+====================+==================+===================+======================+
| CentOS Stream 9     | PEND               | PEND             | PEND              | SKIPPED              |
+---------------------+--------------------+------------------+-------------------+----------------------+
| Debian 12           | PASS               | PASS             | PASS              | SKIPPED              |
+---------------------+--------------------+------------------+-------------------+----------------------+
| Fedora 37           | PASS               | PASS             | PASS              | SKIPPED              |
+---------------------+--------------------+------------------+-------------------+----------------------+
| Debian Bullseye     | PASS               | PASS             | PASS              | SKIPPED              |
+---------------------+--------------------+------------------+-------------------+----------------------+
| Fedora 38           | PASS               | PASS             | PASS              | SKIPPED              |
+---------------------+--------------------+------------------+-------------------+----------------------+
| Fedora 38 (Clang)   | PEND               | PEND             | PEND              | SKIPPED              |
+---------------------+--------------------+------------------+-------------------+----------------------+
| Fedora 39 (Clang)   | PEND               | PEND             | PEND              | SKIPPED              |
+---------------------+--------------------+------------------+-------------------+----------------------+
| Fedora 40 (Clang)   | PEND               | PEND             | PEND              | SKIPPED              |
+---------------------+--------------------+------------------+-------------------+----------------------+
| Fedora 40           | PEND               | PEND             | PEND              | SKIPPED              |
+---------------------+--------------------+------------------+-------------------+----------------------+
| Fedora 39           | PEND               | PEND             | PEND              | SKIPPED              |
+---------------------+--------------------+------------------+-------------------+----------------------+
| openSUSE Leap 15    | PEND               | PEND             | SKIPPED           | SKIPPED              |
+---------------------+--------------------+------------------+-------------------+----------------------+
| RHEL8               | PEND               | PEND             | SKIPPED           | SKIPPED              |
+---------------------+--------------------+------------------+-------------------+----------------------+
| Ubuntu 20.04        | PEND               | PEND             | SKIPPED           | SKIPPED              |
+---------------------+--------------------+------------------+-------------------+----------------------+
| RHEL9               | PEND               | PEND             | SKIPPED           | SKIPPED              |
+---------------------+--------------------+------------------+-------------------+----------------------+
| Ubuntu 22.04        | PEND               | PEND             | PEND              | SKIPPED              |
+---------------------+--------------------+------------------+-------------------+----------------------+
| Ubuntu 24.04        | PEND               | PEND             | PEND              | SKIPPED              |
+---------------------+--------------------+------------------+-------------------+----------------------+
| Windows Server 2019 | PASS               | SKIPPED          | SKIPPED           | PASS                 |
+---------------------+--------------------+------------------+-------------------+----------------------+
| Windows Server 2022 | PEND               | SKIPPED          | SKIPPED           | SKIPPED              |
+---------------------+--------------------+------------------+-------------------+----------------------+
| Alpine              | PEND               | PEND             | SKIPPED           | SKIPPED              |
+---------------------+--------------------+------------------+-------------------+----------------------+


CentOS Stream 9
	Kernel: 5.4.0-167-generic
	Compiler: gcc 11.4.1 20230605

Debian 12
	Kernel: Container Host Kernel
	Compiler: gcc 12.2.0

Fedora 37
	Kernel: Depends on container host system
	Compiler: gcc 12.3.1

Debian Bullseye
	Kernel: 5.4.0-167-generic
	Compiler: gcc 10.2.1-6

Fedora 38
	Kernel: Depends on container host
	Compiler: gcc 13.2.1

Fedora 38 (Clang)
	Kernel: Depends on container host
	Compiler: clang 16.0.6

Fedora 39 (Clang)
	Kernel: Depends on container host
	Compiler: clang 17.0.6

Fedora 40 (Clang)
	Kernel: Depends on container host
	Compiler: clang 18.1.6

Fedora 40
	Kernel: Depends on container host
	Compiler: gcc 14.1.1

Fedora 39
	Kernel: Depends on container host
	Compiler: gcc 13.2.1

openSUSE Leap 15
	Kernel: 5.4.0-167-generic
	Compiler: gcc 7.5.0

RHEL8
	Kernel: 5.4.0-167-generic
	Compiler: gcc 8.5.0 20210514 (Red Hat 8.5.0-20)

Ubuntu 20.04
	Kernel: 5.4.0-167-generic
	Compiler: gcc 9.4.0-1ubuntu1~20.04.1

RHEL9
	Kernel: Depends on container host
	Compiler: gcc 11.4.1

Ubuntu 22.04
	Kernel: 5.4.0-167-generic
	Compiler: gcc 11.4.0

Ubuntu 24.04
	Kernel: 5.4.0-167-generic
	Compiler: gcc 13.2.0

Windows Server 2019
	Kernel: 10.0.17763
	Compiler: clang 14.0 and gcc 8.1.0 (MinGW)

Windows Server 2022
	Kernel: 10.0.20348.2031
	Compiler: clang 15.0.7, gcc 8.1.0 (MinGW), and MSVC VS 17.9

Alpine
	Kernel: 5.4.0-167-generic
	Compiler: gcc (Alpine 13.2.1_git20231014) 13.2.1 20231014

To view detailed results, visit:
https://lab.dpdk.org/results/dashboard/patchsets/30780/

UNH-IOL DPDK Community Lab

To manage your email subscriptions, visit: 
https://lab.dpdk.org/results/dashboard/preferences/subscriptions/