From mboxrd@z Thu Jan  1 00:00:00 1970
Return-Path: <test-report-bounces@dpdk.org>
Received: from mails.dpdk.org (mails.dpdk.org [217.70.189.124])
	by inbox.dpdk.org (Postfix) with ESMTP id 01BFE457B3
	for <public@inbox.dpdk.org>; Tue, 13 Aug 2024 18:43:25 +0200 (CEST)
Received: from mails.dpdk.org (localhost [127.0.0.1])
	by mails.dpdk.org (Postfix) with ESMTP id F1D31402A8;
	Tue, 13 Aug 2024 18:43:24 +0200 (CEST)
Received: from mail-pf1-f225.google.com (mail-pf1-f225.google.com
 [209.85.210.225])
 by mails.dpdk.org (Postfix) with ESMTP id 698C14028B
 for <test-report@dpdk.org>; Tue, 13 Aug 2024 18:43:19 +0200 (CEST)
Received: by mail-pf1-f225.google.com with SMTP id
 d2e1a72fcca58-710e39961f4so2299267b3a.3
 for <test-report@dpdk.org>; Tue, 13 Aug 2024 09:43:19 -0700 (PDT)
DKIM-Signature: v=1; a=rsa-sha256; c=relaxed/relaxed;
 d=iol.unh.edu; s=unh-iol; t=1723567398; x=1724172198; darn=dpdk.org;
 h=references:in-reply-to:cc:to:from:subject:message-id:date:from:to
 :cc:subject:date:message-id:reply-to;
 bh=WHnL5ZW0t/81XGwUlExDt5+9ALyXtacvrUbNnfsd2Ao=;
 b=jYkVxv+4TShi0poXOsuAoL7wId/P93t54vGFga6N/4zPDJvprsMNl8WBCTv8qP9mhf
 arfXc8y8TOkB66Y5fnvGpkc+cW2upfab80rFHReox2+TyWvkj06OoHrxK0MPdgqGKAys
 USYjcSlNR6eUIo4CV/cMfrNXclVm7M2FVKsj8=
X-Google-DKIM-Signature: v=1; a=rsa-sha256; c=relaxed/relaxed;
 d=1e100.net; s=20230601; t=1723567398; x=1724172198;
 h=references:in-reply-to:cc:to:from:subject:message-id:date
 :x-gm-message-state:from:to:cc:subject:date:message-id:reply-to;
 bh=WHnL5ZW0t/81XGwUlExDt5+9ALyXtacvrUbNnfsd2Ao=;
 b=ZGYt5o3FnZcjkxI1huWetHyk9kO5nZymOidehjkc/qqBE3z+JYTgQXQedt6+ZvYXsk
 +x+7oge4ZnAmW0AdFr9LgYsCBE+nqiDY4EtRhVWfqHN3UH0dnPYo2YBOipxE97AznhxR
 +lL4NbvKG+/uQrMnju4Nh2MwoEEPy+cEzdsCWE6fhPfUCPvf7tVnvYW9XWYsHnKgwrqQ
 +L8mKuTCVzFdteEj3Di3v8rR7h/yR1F0gO3+RmsRBSz7Se5iKk+lyL06C8Z89nj7atmF
 4CUfhB9QJqHN2cx+O6kRMGReEPLbrhfUWk3MDKEg0bzangQU7toLukAsmuG5cTEGRN8v
 KLUQ==
X-Gm-Message-State: AOJu0Yx32lGaVGcmTVP8B9k8MI2vhkyheHGYsw56o9mgX4ALwoWwZi68
 D6KsazmTxTIVJ4dypK7xintQrdkvcAtdJkV6sRECE5I2imzk92jA4nMHW4kRtSS64cV0ZKa+i3g
 iyo6LA3nXrnd7bxb5W+sB8deuezOHLaSJ2BcEX46gzEE+ASlfSePiTg0y
X-Google-Smtp-Source: AGHT+IHP7bYNvefuFBWFUE/n2ciDqu3/zschAmkT1136NRhbo+pa7+4J1XLdhuo7DqLnckLqE7uMY9L6xsiR
X-Received: by 2002:a05:6300:668b:b0:1c2:8be2:1b37 with SMTP id
 adf61e73a8af0-1c8eae2f70fmr329832637.5.1723567398539; 
 Tue, 13 Aug 2024 09:43:18 -0700 (PDT)
Received: from postal.iol.unh.edu (postal.iol.unh.edu.
 [2606:4100:3880:1234::84]) by smtp-relay.gmail.com with ESMTPS id
 d2e1a72fcca58-710e58cb0aasm631093b3a.15.2024.08.13.09.43.18
 (version=TLS1_2 cipher=ECDHE-ECDSA-AES128-GCM-SHA256 bits=128/128);
 Tue, 13 Aug 2024 09:43:18 -0700 (PDT)
X-Relaying-Domain: iol.unh.edu
Date: Tue, 13 Aug 2024 09:43:18 -0700 (PDT)
Message-ID: <66bb8d26.620a0220.5477d.11abSMTPIN_ADDED_MISSING@mx.google.com>
Received: from [172.21.0.7] (unknown [172.18.0.240])
 by postal.iol.unh.edu (Postfix) with ESMTP id 8F36E605C351;
 Tue, 13 Aug 2024 12:43:17 -0400 (EDT)
Subject: |PENDING| pw143109-143110 [PATCH] [v2,3/3] test/bbdev: update for qu
From: dpdklab@iol.unh.edu
To: Test Report <test-report@dpdk.org>
Cc: dpdk-test-reports@iol.unh.edu
In-Reply-To: <20240812234201.2196633-4-nicolas.chautru@intel.com>
References: <20240812234201.2196633-4-nicolas.chautru@intel.com>
Content-Type: text/plain
X-BeenThere: test-report@dpdk.org
X-Mailman-Version: 2.1.29
Precedence: list
List-Id: automatic DPDK test reports <test-report.dpdk.org>
List-Unsubscribe: <https://mails.dpdk.org/options/test-report>,
 <mailto:test-report-request@dpdk.org?subject=unsubscribe>
List-Archive: <http://mails.dpdk.org/archives/test-report/>
List-Post: <mailto:test-report@dpdk.org>
List-Help: <mailto:test-report-request@dpdk.org?subject=help>
List-Subscribe: <https://mails.dpdk.org/listinfo/test-report>,
 <mailto:test-report-request@dpdk.org?subject=subscribe>
Errors-To: test-report-bounces@dpdk.org

Test-Label: iol-compile-amd64-testing
Test-Status: PENDING
http://dpdk.org/patch/143110

_Testing pending_

Submitter: Nicolas Chautru <nicolas.chautru@intel.com>
Date: Monday, August 12 2024 23:42:01 
DPDK git baseline: Repo:dpdk
  Branch: master
  CommitID:cb9187bc5c2b4bab0ad80194ac3b60491de14e8c

143109-143110 --> testing pending

Upstream job id: Windows-Compile-DPDK-VS#2809

Test environment and result as below:

+---------------------+--------------------+------------------+-------------------+----------------------+-------------------+
|     Environment     | dpdk_meson_compile | dpdk_compile_ovs | dpdk_compile_spdk | dpdk_mingw64_compile | dpdk_msvc_compile |
+=====================+====================+==================+===================+======================+===================+
| CentOS Stream 9     | PASS               | PASS             | PASS              | SKIPPED              | SKIPPED           |
+---------------------+--------------------+------------------+-------------------+----------------------+-------------------+
| Debian 12           | PASS               | PASS             | PASS              | SKIPPED              | SKIPPED           |
+---------------------+--------------------+------------------+-------------------+----------------------+-------------------+
| Fedora 37           | PASS               | PASS             | PASS              | SKIPPED              | SKIPPED           |
+---------------------+--------------------+------------------+-------------------+----------------------+-------------------+
| Debian Bullseye     | PASS               | PASS             | PASS              | SKIPPED              | SKIPPED           |
+---------------------+--------------------+------------------+-------------------+----------------------+-------------------+
| Fedora 38           | PASS               | PASS             | PASS              | SKIPPED              | SKIPPED           |
+---------------------+--------------------+------------------+-------------------+----------------------+-------------------+
| Fedora 38 (Clang)   | PEND               | PEND             | PEND              | SKIPPED              | SKIPPED           |
+---------------------+--------------------+------------------+-------------------+----------------------+-------------------+
| Fedora 39 (Clang)   | PEND               | PEND             | PEND              | SKIPPED              | SKIPPED           |
+---------------------+--------------------+------------------+-------------------+----------------------+-------------------+
| Fedora 40 (Clang)   | PEND               | PEND             | PEND              | SKIPPED              | SKIPPED           |
+---------------------+--------------------+------------------+-------------------+----------------------+-------------------+
| Fedora 40           | PASS               | PASS             | PASS              | SKIPPED              | SKIPPED           |
+---------------------+--------------------+------------------+-------------------+----------------------+-------------------+
| Fedora 39           | PASS               | PASS             | PASS              | SKIPPED              | SKIPPED           |
+---------------------+--------------------+------------------+-------------------+----------------------+-------------------+
| openSUSE Leap 15    | PEND               | PEND             | SKIPPED           | SKIPPED              | SKIPPED           |
+---------------------+--------------------+------------------+-------------------+----------------------+-------------------+
| RHEL8               | PEND               | PEND             | SKIPPED           | SKIPPED              | SKIPPED           |
+---------------------+--------------------+------------------+-------------------+----------------------+-------------------+
| Ubuntu 20.04        | PEND               | PEND             | SKIPPED           | SKIPPED              | SKIPPED           |
+---------------------+--------------------+------------------+-------------------+----------------------+-------------------+
| RHEL9               | PEND               | PEND             | SKIPPED           | SKIPPED              | SKIPPED           |
+---------------------+--------------------+------------------+-------------------+----------------------+-------------------+
| Ubuntu 22.04        | PEND               | PEND             | PEND              | SKIPPED              | SKIPPED           |
+---------------------+--------------------+------------------+-------------------+----------------------+-------------------+
| Ubuntu 24.04        | PEND               | PEND             | PEND              | SKIPPED              | SKIPPED           |
+---------------------+--------------------+------------------+-------------------+----------------------+-------------------+
| Windows Server 2019 | PASS               | SKIPPED          | SKIPPED           | PASS                 | SKIPPED           |
+---------------------+--------------------+------------------+-------------------+----------------------+-------------------+
| Windows Server 2022 | PASS               | SKIPPED          | SKIPPED           | PASS                 | PASS              |
+---------------------+--------------------+------------------+-------------------+----------------------+-------------------+
| Alpine              | PEND               | PEND             | SKIPPED           | SKIPPED              | SKIPPED           |
+---------------------+--------------------+------------------+-------------------+----------------------+-------------------+
| FreeBSD 13.3        | PEND               | SKIPPED          | SKIPPED           | SKIPPED              | SKIPPED           |
+---------------------+--------------------+------------------+-------------------+----------------------+-------------------+


CentOS Stream 9
	Kernel: 5.4.0-167-generic
	Compiler: gcc 11.4.1 20230605

Debian 12
	Kernel: Container Host Kernel
	Compiler: gcc 12.2.0

Fedora 37
	Kernel: Depends on container host system
	Compiler: gcc 12.3.1

Debian Bullseye
	Kernel: 5.4.0-167-generic
	Compiler: gcc 10.2.1-6

Fedora 38
	Kernel: Depends on container host
	Compiler: gcc 13.2.1

Fedora 38 (Clang)
	Kernel: Depends on container host
	Compiler: clang 16.0.6

Fedora 39 (Clang)
	Kernel: Depends on container host
	Compiler: clang 17.0.6

Fedora 40 (Clang)
	Kernel: Depends on container host
	Compiler: clang 18.1.6

Fedora 40
	Kernel: Depends on container host
	Compiler: gcc 14.1.1

Fedora 39
	Kernel: Depends on container host
	Compiler: gcc 13.2.1

openSUSE Leap 15
	Kernel: 5.4.0-167-generic
	Compiler: gcc 7.5.0

RHEL8
	Kernel: 5.4.0-167-generic
	Compiler: gcc 8.5.0 20210514 (Red Hat 8.5.0-20)

Ubuntu 20.04
	Kernel: 5.4.0-167-generic
	Compiler: gcc 9.4.0-1ubuntu1~20.04.1

RHEL9
	Kernel: Depends on container host
	Compiler: gcc 11.4.1

Ubuntu 22.04
	Kernel: 5.4.0-167-generic
	Compiler: gcc 11.4.0

Ubuntu 24.04
	Kernel: 5.4.0-167-generic
	Compiler: gcc 13.2.0

Windows Server 2019
	Kernel: 10.0.17763
	Compiler: clang 14.0 and gcc 8.1.0 (MinGW)

Windows Server 2022
	Kernel: 10.0.20348.2031
	Compiler: clang 15.0.7, gcc 8.1.0 (MinGW), and MSVC VS 17.9

Alpine
	Kernel: 5.4.0-167-generic
	Compiler: gcc (Alpine 13.2.1_git20231014) 13.2.1 20231014

FreeBSD 13.3
	Kernel: 13.3-RELEASE-p1
	Compiler: clang 17.0.6

To view detailed results, visit:
https://lab.dpdk.org/results/dashboard/patchsets/30780/

UNH-IOL DPDK Community Lab

To manage your email subscriptions, visit: 
https://lab.dpdk.org/results/dashboard/preferences/subscriptions/