From mboxrd@z Thu Jan  1 00:00:00 1970
Return-Path: <test-report-bounces@dpdk.org>
Received: from mails.dpdk.org (mails.dpdk.org [217.70.189.124])
	by inbox.dpdk.org (Postfix) with ESMTP id 05775457B3
	for <public@inbox.dpdk.org>; Tue, 13 Aug 2024 19:10:16 +0200 (CEST)
Received: from mails.dpdk.org (localhost [127.0.0.1])
	by mails.dpdk.org (Postfix) with ESMTP id E75F340E15;
	Tue, 13 Aug 2024 19:10:16 +0200 (CEST)
Received: from mail-ot1-f98.google.com (mail-ot1-f98.google.com
 [209.85.210.98]) by mails.dpdk.org (Postfix) with ESMTP id BE4EE402A8
 for <test-report@dpdk.org>; Tue, 13 Aug 2024 19:10:15 +0200 (CEST)
Received: by mail-ot1-f98.google.com with SMTP id
 46e09a7af769-7093f3a1af9so3485188a34.1
 for <test-report@dpdk.org>; Tue, 13 Aug 2024 10:10:15 -0700 (PDT)
DKIM-Signature: v=1; a=rsa-sha256; c=relaxed/relaxed;
 d=iol.unh.edu; s=unh-iol; t=1723569015; x=1724173815; darn=dpdk.org;
 h=references:in-reply-to:cc:to:from:subject:message-id:date:from:to
 :cc:subject:date:message-id:reply-to;
 bh=1547jrs1oc7vKUKv+VAavvYvg199dNlJujLlTlpUrMg=;
 b=Dk90/FU2JtPJU1UP5KqbVjZ4maz4FUUySGtnFhShpDn1SYwAf/LScOQ1pW7DUkl50Y
 uJf0GicSTyiyd4xFt8Fl2ENhuRTp0bbwS7biK+buKgzb9Zg/NUQsqEA96N8rC2OrbOK3
 t65ro7E4XCzUYONW0J4PKHKcOoyXaNtQybtFA=
X-Google-DKIM-Signature: v=1; a=rsa-sha256; c=relaxed/relaxed;
 d=1e100.net; s=20230601; t=1723569015; x=1724173815;
 h=references:in-reply-to:cc:to:from:subject:message-id:date
 :x-gm-message-state:from:to:cc:subject:date:message-id:reply-to;
 bh=1547jrs1oc7vKUKv+VAavvYvg199dNlJujLlTlpUrMg=;
 b=UP432WkHWf+qVXvieWwm5eTywVrxBli296iwkpfldVLmzMSNz7yCOAvJ/oKvFPA6px
 RPJIXZJ7t22nZMIeh9V+qNIZysMfNLdQspTFySSBIdVmj+P6D1OV7PH1AkC4Z74+IM/m
 OhuljAJOC4KIt2W4hSrn7b2QTfNXQ6WJqQUr/OOdLo/8PWMJwsQysBk8SaI2F8tqZ6aq
 lMJiHYumgzAEx1F24OWRMWAKBt0jn/x5JCtgqBI4Blb7PwzuaDynJDnYOcAdpqBozP12
 8RmFuMgyac5P2qVlwd3L3U6URbxNfDCqZM0f4fa1kypUbUJD7PogAXkDSFZORNItEov1
 1qsA==
X-Gm-Message-State: AOJu0YyKlt2XZCHP5gtDjPjZPohma5EV7PUej3T29UeQfeMHN2SVYYqx
 RPpI+T/Dh/UdYD/7fdvPpwVnCydtL2K53viv4juEgmrIw3ho3PKZrffhl+GZ/TDwzT4ifHX6Q0N
 MWv0OWjdX6ArpV+sFZgkfPDR18GlpHaSTfGbVlHQE
X-Google-Smtp-Source: AGHT+IGkMFhXQSRDpqWyYu8EqOBqvFsf7RdHRAAIML8tojiP7dKawtBaTmFZ6wjWlz3OzGSDiJEz4D0zzxUA
X-Received: by 2002:a17:902:fc85:b0:1fd:64d2:62da with SMTP id
 d9443c01a7336-201d644b95cmr1955445ad.29.1723569004511; 
 Tue, 13 Aug 2024 10:10:04 -0700 (PDT)
Received: from postal.iol.unh.edu (postal.iol.unh.edu. [132.177.123.84])
 by smtp-relay.gmail.com with ESMTPS id
 d9443c01a7336-201cd0ff95esm1440635ad.23.2024.08.13.10.10.04
 (version=TLS1_2 cipher=ECDHE-ECDSA-AES128-GCM-SHA256 bits=128/128);
 Tue, 13 Aug 2024 10:10:04 -0700 (PDT)
X-Relaying-Domain: iol.unh.edu
Date: Tue, 13 Aug 2024 10:10:04 -0700 (PDT)
Message-ID: <66bb936c.170a0220.196298.4f67SMTPIN_ADDED_MISSING@mx.google.com>
Received: from [172.17.0.3] (unknown [172.18.0.217])
 by postal.iol.unh.edu (Postfix) with ESMTP id D9DA3605C380;
 Tue, 13 Aug 2024 13:10:03 -0400 (EDT)
Subject: |PENDING| pw143109-143110 [PATCH] [v2,3/3] test/bbdev: update for qu
From: dpdklab@iol.unh.edu
To: Test Report <test-report@dpdk.org>
Cc: dpdk-test-reports@iol.unh.edu
In-Reply-To: <20240812234201.2196633-4-nicolas.chautru@intel.com>
References: <20240812234201.2196633-4-nicolas.chautru@intel.com>
Content-Type: text/plain
X-BeenThere: test-report@dpdk.org
X-Mailman-Version: 2.1.29
Precedence: list
List-Id: automatic DPDK test reports <test-report.dpdk.org>
List-Unsubscribe: <https://mails.dpdk.org/options/test-report>,
 <mailto:test-report-request@dpdk.org?subject=unsubscribe>
List-Archive: <http://mails.dpdk.org/archives/test-report/>
List-Post: <mailto:test-report@dpdk.org>
List-Help: <mailto:test-report-request@dpdk.org?subject=help>
List-Subscribe: <https://mails.dpdk.org/listinfo/test-report>,
 <mailto:test-report-request@dpdk.org?subject=subscribe>
Errors-To: test-report-bounces@dpdk.org

Test-Label: iol-unit-arm64-testing
Test-Status: PENDING
http://dpdk.org/patch/143110

_Testing pending_

Submitter: Nicolas Chautru <nicolas.chautru@intel.com>
Date: Monday, August 12 2024 23:42:01 
DPDK git baseline: Repo:dpdk
  Branch: master
  CommitID:cb9187bc5c2b4bab0ad80194ac3b60491de14e8c

143109-143110 --> testing pending

Upstream job id: Generic-Unit-Test-DPDK#251837

Test environment and result as below:

+-----------------------------+----------------+--------------+---------------------------+------------------------------+
|         Environment         | dpdk_unit_test | lpm_autotest | cryptodev_sw_zuc_autotest | cryptodev_sw_snow3g_autotest |
+=============================+================+==============+===========================+==============================+
| 32-bit Ubuntu 20.04.4 (ARM) | PASS           | SKIPPED      | SKIPPED                   | SKIPPED                      |
+-----------------------------+----------------+--------------+---------------------------+------------------------------+
| Debian 11 (Buster) (ARM)    | PASS           | SKIPPED      | SKIPPED                   | SKIPPED                      |
+-----------------------------+----------------+--------------+---------------------------+------------------------------+
| Debian 12 (arm)             | PASS           | SKIPPED      | PASS                      | PASS                         |
+-----------------------------+----------------+--------------+---------------------------+------------------------------+
| Fedora 37 (ARM)             | PASS           | SKIPPED      | SKIPPED                   | SKIPPED                      |
+-----------------------------+----------------+--------------+---------------------------+------------------------------+
| Fedora 38 (ARM)             | PASS           | SKIPPED      | SKIPPED                   | SKIPPED                      |
+-----------------------------+----------------+--------------+---------------------------+------------------------------+
| Fedora 38 (ARM Clang)       | PASS           | SKIPPED      | SKIPPED                   | SKIPPED                      |
+-----------------------------+----------------+--------------+---------------------------+------------------------------+
| Fedora 39 (ARM)             | PASS           | SKIPPED      | SKIPPED                   | SKIPPED                      |
+-----------------------------+----------------+--------------+---------------------------+------------------------------+
| Fedora 39 (ARM Clang)       | PEND           | SKIPPED      | SKIPPED                   | SKIPPED                      |
+-----------------------------+----------------+--------------+---------------------------+------------------------------+
| Fedora 40 (ARM)             | PASS           | SKIPPED      | SKIPPED                   | SKIPPED                      |
+-----------------------------+----------------+--------------+---------------------------+------------------------------+
| Fedora 40 (ARM Clang)       | PEND           | SKIPPED      | SKIPPED                   | SKIPPED                      |
+-----------------------------+----------------+--------------+---------------------------+------------------------------+
| RHEL9 (ARM)                 | PASS           | SKIPPED      | SKIPPED                   | SKIPPED                      |
+-----------------------------+----------------+--------------+---------------------------+------------------------------+
| Ubuntu 20.04 (ARM)          | PEND           | SKIPPED      | SKIPPED                   | SKIPPED                      |
+-----------------------------+----------------+--------------+---------------------------+------------------------------+
| Ubuntu 22.04 (ARM)          | PEND           | SKIPPED      | SKIPPED                   | SKIPPED                      |
+-----------------------------+----------------+--------------+---------------------------+------------------------------+
| Ubuntu 24.04 (ARM)          | PEND           | SKIPPED      | SKIPPED                   | SKIPPED                      |
+-----------------------------+----------------+--------------+---------------------------+------------------------------+
| CentOS Stream 9 (ARM)       | PEND           | SKIPPED      | SKIPPED                   | SKIPPED                      |
+-----------------------------+----------------+--------------+---------------------------+------------------------------+
| Ubuntu 20.04 ARM SVE        | SKIPPED        | PASS         | SKIPPED                   | SKIPPED                      |
+-----------------------------+----------------+--------------+---------------------------+------------------------------+


32-bit Ubuntu 20.04.4 (ARM)
	Kernel: 5.4.0-155-generic aarch64
	Compiler: gcc 9.4

Debian 11 (Buster) (ARM)
	Kernel: Container Host Kernel
	Compiler: gcc 10.2.1

Debian 12 (arm)
	Kernel: Container Host Kernel
	Compiler: gcc 12.2.0

Fedora 37 (ARM)
	Kernel: Depends on container host
	Compiler: gcc 12.3.1

Fedora 38 (ARM)
	Kernel: Depends on container host
	Compiler: gcc 13.2.1

Fedora 38 (ARM Clang)
	Kernel: Depends on container host
	Compiler: clang 16.0.6

Fedora 39 (ARM)
	Kernel: Depends on container host
	Compiler: gcc 13.2.1

Fedora 39 (ARM Clang)
	Kernel: Depends on container host
	Compiler: clang 17.0.6

Fedora 40 (ARM)
	Kernel: Depends on container host
	Compiler: gcc 14.1.1

Fedora 40 (ARM Clang)
	Kernel: Depends on container host
	Compiler: clang 18.1.6

RHEL9 (ARM)
	Kernel: Depends on container host
	Compiler: gcc 11.4.1

Ubuntu 20.04 (ARM)
	Kernel: Container Host Kernel
	Compiler: gcc 9.4.0

Ubuntu 22.04 (ARM)
	Kernel: Container Host Kernel
	Compiler: gcc 11.4.0

Ubuntu 24.04 (ARM)
	Kernel: 5.4.0-167-generic
	Compiler: gcc 13.2.0

CentOS Stream 9 (ARM)
	Kernel: Container Host Kernel
	Compiler: gcc 11.4.1

Ubuntu 20.04 ARM SVE
	Kernel: 5.4.0-167-generic
	Compiler: gcc (Ubuntu 10.5.0-1ubuntu1~20.04) 10.5.0

To view detailed results, visit:
https://lab.dpdk.org/results/dashboard/patchsets/30780/

UNH-IOL DPDK Community Lab

To manage your email subscriptions, visit: 
https://lab.dpdk.org/results/dashboard/preferences/subscriptions/