From mboxrd@z Thu Jan  1 00:00:00 1970
Return-Path: <test-report-bounces@dpdk.org>
Received: from mails.dpdk.org (mails.dpdk.org [217.70.189.124])
	by inbox.dpdk.org (Postfix) with ESMTP id 5AE8F457B4
	for <public@inbox.dpdk.org>; Tue, 13 Aug 2024 20:55:54 +0200 (CEST)
Received: from mails.dpdk.org (localhost [127.0.0.1])
	by mails.dpdk.org (Postfix) with ESMTP id 5708D4065C;
	Tue, 13 Aug 2024 20:55:54 +0200 (CEST)
Received: from mail-oo1-f100.google.com (mail-oo1-f100.google.com
 [209.85.161.100])
 by mails.dpdk.org (Postfix) with ESMTP id 94C5F410DF
 for <test-report@dpdk.org>; Tue, 13 Aug 2024 20:55:46 +0200 (CEST)
Received: by mail-oo1-f100.google.com with SMTP id
 006d021491bc7-5d5b986a806so93443eaf.1
 for <test-report@dpdk.org>; Tue, 13 Aug 2024 11:55:46 -0700 (PDT)
DKIM-Signature: v=1; a=rsa-sha256; c=relaxed/relaxed;
 d=iol.unh.edu; s=unh-iol; t=1723575346; x=1724180146; darn=dpdk.org;
 h=references:in-reply-to:cc:to:from:subject:message-id:date:from:to
 :cc:subject:date:message-id:reply-to;
 bh=mvPfu2EkVb+Q/YMBjdB8MhctYWXs9bnzWg/nh+hreaY=;
 b=BXTXKA/SFr+M5lzFIYWJUapyCdUyhFbiBSL/wGm7V+Ktbp7v7w1nuvwBUCF/19ZOAp
 knsUuxFO2O4KP4Jb614vZleAi0Und0HN3WKyRSjGW8DGE3BTabRjT7vqYBI89gEm8zfd
 rEjENzykAtvLXOz7PExa7nc+jthUphedyBGYE=
X-Google-DKIM-Signature: v=1; a=rsa-sha256; c=relaxed/relaxed;
 d=1e100.net; s=20230601; t=1723575346; x=1724180146;
 h=references:in-reply-to:cc:to:from:subject:message-id:date
 :x-gm-message-state:from:to:cc:subject:date:message-id:reply-to;
 bh=mvPfu2EkVb+Q/YMBjdB8MhctYWXs9bnzWg/nh+hreaY=;
 b=uvwU5qiQWYi9Cn4pwA8Bkqzg0bgQDDlaF5xncDElVi8Aje3B5yjp0idvylGrJgEQ27
 a+4r0CZum2jnbq3Ltfc7vwkmWRwD9TwL6rcINKmUeUIRTBz8DWewWwtiXUTAmDLGjN80
 nkw8ciKcNBrC5ygEVBib9VWBecwzZHhiIUPwXC9KRtKQ6Cf/LSROZldkX6gQFyLzV6JX
 ogfNbQY/VNP4hKBtqE513rsK04XyrUqn29p1uKC32l+DCKFGUV+NwdUxvIF/XUTA0wD0
 QEWTWbEjP6QR1XidTfR8BZPSCZ/VbJ5Wu6/mdHeHwADiPOyVDxrG8OuCSTl1aEBeLWpC
 JLUQ==
X-Gm-Message-State: AOJu0YxjjaK8fMs0Ic//6m0IcETDREfWK6tCnbE3m6wAEuh2GQO9SJLt
 x79oW8un613uAw7BXJsmRiCHepyqMO8Cqqmt2q3eRWzRPybrnOak/C9EMu/6CdDt4yASY+MoEhl
 kuyTWsX8u5igrZwpGdFA8H6NCwNREacqAWbjTKBl7eQVx7aSixitwu+MF
X-Google-Smtp-Source: AGHT+IEup4CpoxFWbKRAsMIx07UMhOI4ScQe2Aqgf8KX3lemRMXXd62GsIqcajlHUbIDM/AgN9Jxp2xHQpQq
X-Received: by 2002:a05:6870:718d:b0:267:af82:431b with SMTP id
 586e51a60fabf-26fe558f35amr344654fac.21.1723575345791; 
 Tue, 13 Aug 2024 11:55:45 -0700 (PDT)
Received: from postal.iol.unh.edu (postal.iol.unh.edu.
 [2606:4100:3880:1234::84]) by smtp-relay.gmail.com with ESMTPS id
 586e51a60fabf-26c7203a6f7sm561332fac.10.2024.08.13.11.55.45
 (version=TLS1_2 cipher=ECDHE-ECDSA-AES128-GCM-SHA256 bits=128/128);
 Tue, 13 Aug 2024 11:55:45 -0700 (PDT)
X-Relaying-Domain: iol.unh.edu
Date: Tue, 13 Aug 2024 11:55:45 -0700 (PDT)
Message-ID: <66bbac31.050a0220.2091f8.daa4SMTPIN_ADDED_MISSING@mx.google.com>
Received: from [172.21.0.7] (unknown [172.18.0.240])
 by postal.iol.unh.edu (Postfix) with ESMTP id 400D5605C380;
 Tue, 13 Aug 2024 14:55:45 -0400 (EDT)
Subject: |PENDING| pw143114-143117 [PATCH] [v6,4/4] test: restore cfgfile tes
From: dpdklab@iol.unh.edu
To: Test Report <test-report@dpdk.org>
Cc: dpdk-test-reports@iol.unh.edu
In-Reply-To: <20240813160039.5861-5-stephen@networkplumber.org>
References: <20240813160039.5861-5-stephen@networkplumber.org>
Content-Type: text/plain
X-BeenThere: test-report@dpdk.org
X-Mailman-Version: 2.1.29
Precedence: list
List-Id: automatic DPDK test reports <test-report.dpdk.org>
List-Unsubscribe: <https://mails.dpdk.org/options/test-report>,
 <mailto:test-report-request@dpdk.org?subject=unsubscribe>
List-Archive: <http://mails.dpdk.org/archives/test-report/>
List-Post: <mailto:test-report@dpdk.org>
List-Help: <mailto:test-report-request@dpdk.org?subject=help>
List-Subscribe: <https://mails.dpdk.org/listinfo/test-report>,
 <mailto:test-report-request@dpdk.org?subject=subscribe>
Errors-To: test-report-bounces@dpdk.org

Test-Label: iol-compile-amd64-testing
Test-Status: PENDING
http://dpdk.org/patch/143117

_Testing pending_

Submitter: Stephen Hemminger <stephen@networkplumber.org>
Date: Tuesday, August 13 2024 15:57:55 
DPDK git baseline: Repo:dpdk
  Branch: master
  CommitID:cb9187bc5c2b4bab0ad80194ac3b60491de14e8c

143114-143117 --> testing pending

Upstream job id: Generic-DPDK-Compile-Meson#288093

Test environment and result as below:

+---------------------+--------------------+------------------+-------------------+-----------------------+----------------------+-------------------+
|     Environment     | dpdk_meson_compile | dpdk_compile_ovs | dpdk_compile_spdk | dpdk_win_llvm_compile | dpdk_mingw64_compile | dpdk_msvc_compile |
+=====================+====================+==================+===================+=======================+======================+===================+
| CentOS Stream 9     | PASS               | PASS             | PASS              | SKIPPED               | SKIPPED              | SKIPPED           |
+---------------------+--------------------+------------------+-------------------+-----------------------+----------------------+-------------------+
| Debian Bullseye     | PASS               | PASS             | PASS              | SKIPPED               | SKIPPED              | SKIPPED           |
+---------------------+--------------------+------------------+-------------------+-----------------------+----------------------+-------------------+
| Debian 12           | PASS               | PASS             | PASS              | SKIPPED               | SKIPPED              | SKIPPED           |
+---------------------+--------------------+------------------+-------------------+-----------------------+----------------------+-------------------+
| Fedora 37           | PASS               | PASS             | PASS              | SKIPPED               | SKIPPED              | SKIPPED           |
+---------------------+--------------------+------------------+-------------------+-----------------------+----------------------+-------------------+
| Fedora 38           | PASS               | PASS             | PASS              | SKIPPED               | SKIPPED              | SKIPPED           |
+---------------------+--------------------+------------------+-------------------+-----------------------+----------------------+-------------------+
| Fedora 39           | PASS               | PASS             | PASS              | SKIPPED               | SKIPPED              | SKIPPED           |
+---------------------+--------------------+------------------+-------------------+-----------------------+----------------------+-------------------+
| Fedora 38 (Clang)   | PEND               | PEND             | PEND              | SKIPPED               | SKIPPED              | SKIPPED           |
+---------------------+--------------------+------------------+-------------------+-----------------------+----------------------+-------------------+
| Fedora 39 (Clang)   | PEND               | PEND             | PEND              | SKIPPED               | SKIPPED              | SKIPPED           |
+---------------------+--------------------+------------------+-------------------+-----------------------+----------------------+-------------------+
| Fedora 40 (Clang)   | PEND               | PEND             | PEND              | SKIPPED               | SKIPPED              | SKIPPED           |
+---------------------+--------------------+------------------+-------------------+-----------------------+----------------------+-------------------+
| Fedora 40           | PASS               | PASS             | PASS              | SKIPPED               | SKIPPED              | SKIPPED           |
+---------------------+--------------------+------------------+-------------------+-----------------------+----------------------+-------------------+
| openSUSE Leap 15    | PEND               | PEND             | SKIPPED           | SKIPPED               | SKIPPED              | SKIPPED           |
+---------------------+--------------------+------------------+-------------------+-----------------------+----------------------+-------------------+
| RHEL8               | PASS               | PASS             | SKIPPED           | SKIPPED               | SKIPPED              | SKIPPED           |
+---------------------+--------------------+------------------+-------------------+-----------------------+----------------------+-------------------+
| RHEL9               | PASS               | PASS             | SKIPPED           | SKIPPED               | SKIPPED              | SKIPPED           |
+---------------------+--------------------+------------------+-------------------+-----------------------+----------------------+-------------------+
| Ubuntu 20.04        | PASS               | PASS             | SKIPPED           | SKIPPED               | SKIPPED              | SKIPPED           |
+---------------------+--------------------+------------------+-------------------+-----------------------+----------------------+-------------------+
| Ubuntu 22.04        | PEND               | PEND             | PEND              | SKIPPED               | SKIPPED              | SKIPPED           |
+---------------------+--------------------+------------------+-------------------+-----------------------+----------------------+-------------------+
| Alpine              | PEND               | PEND             | SKIPPED           | SKIPPED               | SKIPPED              | SKIPPED           |
+---------------------+--------------------+------------------+-------------------+-----------------------+----------------------+-------------------+
| FreeBSD 13.3        | PASS               | SKIPPED          | SKIPPED           | SKIPPED               | SKIPPED              | SKIPPED           |
+---------------------+--------------------+------------------+-------------------+-----------------------+----------------------+-------------------+
| FreeBSD 14.1        | PASS               | SKIPPED          | SKIPPED           | SKIPPED               | SKIPPED              | SKIPPED           |
+---------------------+--------------------+------------------+-------------------+-----------------------+----------------------+-------------------+
| Windows Server 2022 | SKIPPED            | SKIPPED          | SKIPPED           | PASS                  | PASS                 | PASS              |
+---------------------+--------------------+------------------+-------------------+-----------------------+----------------------+-------------------+


CentOS Stream 9
	Kernel: 5.4.0-167-generic
	Compiler: gcc 11.4.1 20230605

Debian Bullseye
	Kernel: 5.4.0-167-generic
	Compiler: gcc 10.2.1-6

Debian 12
	Kernel: Container Host Kernel
	Compiler: gcc 12.2.0

Fedora 37
	Kernel: Depends on container host system
	Compiler: gcc 12.3.1

Fedora 38
	Kernel: Depends on container host
	Compiler: gcc 13.2.1

Fedora 39
	Kernel: Depends on container host
	Compiler: gcc 13.2.1

Fedora 38 (Clang)
	Kernel: Depends on container host
	Compiler: clang 16.0.6

Fedora 39 (Clang)
	Kernel: Depends on container host
	Compiler: clang 17.0.6

Fedora 40 (Clang)
	Kernel: Depends on container host
	Compiler: clang 18.1.6

Fedora 40
	Kernel: Depends on container host
	Compiler: gcc 14.1.1

openSUSE Leap 15
	Kernel: 5.4.0-167-generic
	Compiler: gcc 7.5.0

RHEL8
	Kernel: 5.4.0-167-generic
	Compiler: gcc 8.5.0 20210514 (Red Hat 8.5.0-20)

RHEL9
	Kernel: Depends on container host
	Compiler: gcc 11.4.1

Ubuntu 20.04
	Kernel: 5.4.0-167-generic
	Compiler: gcc 9.4.0-1ubuntu1~20.04.1

Ubuntu 22.04
	Kernel: 5.4.0-167-generic
	Compiler: gcc 11.4.0

Alpine
	Kernel: 5.4.0-167-generic
	Compiler: gcc (Alpine 13.2.1_git20231014) 13.2.1 20231014

FreeBSD 13.3
	Kernel: 13.3-RELEASE-p1
	Compiler: clang 17.0.6

FreeBSD 14.1
	Kernel: 14.1
	Compiler: clang 18.1.5

Windows Server 2022
	Kernel: 10.0.20348.2031
	Compiler: clang 15.0.7, gcc 8.1.0 (MinGW), and MSVC VS 17.9

To view detailed results, visit:
https://lab.dpdk.org/results/dashboard/patchsets/30783/

UNH-IOL DPDK Community Lab

To manage your email subscriptions, visit: 
https://lab.dpdk.org/results/dashboard/preferences/subscriptions/