From mboxrd@z Thu Jan  1 00:00:00 1970
Return-Path: <test-report-bounces@dpdk.org>
Received: from mails.dpdk.org (mails.dpdk.org [217.70.189.124])
	by inbox.dpdk.org (Postfix) with ESMTP id 6176B457B4
	for <public@inbox.dpdk.org>; Tue, 13 Aug 2024 21:08:33 +0200 (CEST)
Received: from mails.dpdk.org (localhost [127.0.0.1])
	by mails.dpdk.org (Postfix) with ESMTP id 5CAC74065C;
	Tue, 13 Aug 2024 21:08:33 +0200 (CEST)
Received: from mail-pl1-f228.google.com (mail-pl1-f228.google.com
 [209.85.214.228])
 by mails.dpdk.org (Postfix) with ESMTP id 29710402A8
 for <test-report@dpdk.org>; Tue, 13 Aug 2024 21:08:30 +0200 (CEST)
Received: by mail-pl1-f228.google.com with SMTP id
 d9443c01a7336-1fd90c2fc68so40505185ad.1
 for <test-report@dpdk.org>; Tue, 13 Aug 2024 12:08:30 -0700 (PDT)
DKIM-Signature: v=1; a=rsa-sha256; c=relaxed/relaxed;
 d=iol.unh.edu; s=unh-iol; t=1723576109; x=1724180909; darn=dpdk.org;
 h=references:in-reply-to:cc:to:from:subject:message-id:date:from:to
 :cc:subject:date:message-id:reply-to;
 bh=d8OfNLo0Vvobkh/FoGe948818mQMnO8tFwMBij/+26A=;
 b=O5/ANgAIemxYytSjCd7P9Ss87rQPdz25lbXsoOEAgt561fKUzDxH2LAHfFjTgu4LiL
 G3m42Q4sxM+/eD9ajGuMhqgQgcx4vDr5zU1SOxxO+pXI+z3z8QLETOo9yuToYb6skFsc
 gm0GHbarNF5qVHSFkhE5Yqa3B5/sd9VRGW724=
X-Google-DKIM-Signature: v=1; a=rsa-sha256; c=relaxed/relaxed;
 d=1e100.net; s=20230601; t=1723576109; x=1724180909;
 h=references:in-reply-to:cc:to:from:subject:message-id:date
 :x-gm-message-state:from:to:cc:subject:date:message-id:reply-to;
 bh=d8OfNLo0Vvobkh/FoGe948818mQMnO8tFwMBij/+26A=;
 b=cPmuuslAzemLTDhD7WynGSWoFXKkL7hH/b1HUsm+uDAiYf/nCssUVQHPnWpRYbV459
 cMgFqKO+H9xT8nlVQjgKtNHNIFLrKC9PYlnWj4ATHAQ/T/D1Vmvgm0VwHQDmgs+daiYk
 a4KgSMR3BfCl3ScHeTTzZBqnKfCjdpIFMOq69wTi5m6XqizEIl2SYS5kLlk20pNfKvDf
 5NesM2WUOhoTfZtDDh9fEMaLsjsXC7fYqB6Q+ejYNvGqBB5Hfu2mhVaJwP0rQa+vP65z
 aWkWciT02REdh448LQ8YqZ/mQPdmgBaamzMC9snO7IGsuAs/Am1xolU2cU7uBzkBMkkV
 KZBA==
X-Gm-Message-State: AOJu0YxdDoHR4BkTxuX1o4xfPbbkN31q68yRNNZG4bEtnMj0bPGmH4hq
 xdwFkqzyjQ3gfigMbw5OsScujJBE9UkiLnbMjg1pEuddFgBDj1TfiW6oz98bxwt3I8rOy0LZCkK
 v+31lS/XiU5qiVJ/VtozNxewa3ZF3S0yGIrqRgDW6
X-Google-Smtp-Source: AGHT+IHnLIPJNwGgEPnIoRRvns47QH/P6Q+uKLW2+jn7bc0ixVk9lp0RYq/5c96D/UNPpCaQlJPh11nzft5l
X-Received: by 2002:a17:903:22c8:b0:1fb:3e8c:95a6 with SMTP id
 d9443c01a7336-201d64a5a4dmr5895405ad.40.1723576109091; 
 Tue, 13 Aug 2024 12:08:29 -0700 (PDT)
Received: from postal.iol.unh.edu (postal.iol.unh.edu. [132.177.123.84])
 by smtp-relay.gmail.com with ESMTPS id
 d9443c01a7336-201cd1a9504sm1504955ad.116.2024.08.13.12.08.28
 (version=TLS1_2 cipher=ECDHE-ECDSA-AES128-GCM-SHA256 bits=128/128);
 Tue, 13 Aug 2024 12:08:29 -0700 (PDT)
X-Relaying-Domain: iol.unh.edu
Date: Tue, 13 Aug 2024 12:08:29 -0700 (PDT)
Message-ID: <66bbaf2d.170a0220.373d1a.4f3eSMTPIN_ADDED_MISSING@mx.google.com>
Received: from [172.21.0.6] (unknown [172.18.0.240])
 by postal.iol.unh.edu (Postfix) with ESMTP id 78DE9605C380;
 Tue, 13 Aug 2024 15:08:28 -0400 (EDT)
Subject: |PENDING| pw143114-143117 [PATCH] [v6,4/4] test: restore cfgfile tes
From: dpdklab@iol.unh.edu
To: Test Report <test-report@dpdk.org>
Cc: dpdk-test-reports@iol.unh.edu
In-Reply-To: <20240813160039.5861-5-stephen@networkplumber.org>
References: <20240813160039.5861-5-stephen@networkplumber.org>
Content-Type: text/plain
X-BeenThere: test-report@dpdk.org
X-Mailman-Version: 2.1.29
Precedence: list
List-Id: automatic DPDK test reports <test-report.dpdk.org>
List-Unsubscribe: <https://mails.dpdk.org/options/test-report>,
 <mailto:test-report-request@dpdk.org?subject=unsubscribe>
List-Archive: <http://mails.dpdk.org/archives/test-report/>
List-Post: <mailto:test-report@dpdk.org>
List-Help: <mailto:test-report-request@dpdk.org?subject=help>
List-Subscribe: <https://mails.dpdk.org/listinfo/test-report>,
 <mailto:test-report-request@dpdk.org?subject=subscribe>
Errors-To: test-report-bounces@dpdk.org

Test-Label: iol-unit-amd64-testing
Test-Status: PENDING
http://dpdk.org/patch/143117

_Testing pending_

Submitter: Stephen Hemminger <stephen@networkplumber.org>
Date: Tuesday, August 13 2024 15:57:55 
DPDK git baseline: Repo:dpdk
  Branch: master
  CommitID:cb9187bc5c2b4bab0ad80194ac3b60491de14e8c

143114-143117 --> testing pending

Upstream job id: Generic-VM-Unit-Test-DPDK#24836

Test environment and result as below:

+---------------------+----------------+
|     Environment     | dpdk_unit_test |
+=====================+================+
| Windows Server 2019 | PASS           |
+---------------------+----------------+
| Windows Server 2022 | PEND           |
+---------------------+----------------+
| CentOS Stream 9     | PASS           |
+---------------------+----------------+
| Debian Bullseye     | PASS           |
+---------------------+----------------+
| Debian 12           | PASS           |
+---------------------+----------------+
| Fedora 37           | PASS           |
+---------------------+----------------+
| Fedora 38           | PEND           |
+---------------------+----------------+
| Fedora 38 (Clang)   | PEND           |
+---------------------+----------------+
| Fedora 39           | PEND           |
+---------------------+----------------+
| Fedora 39 (Clang)   | PEND           |
+---------------------+----------------+
| Fedora 40           | PEND           |
+---------------------+----------------+
| Fedora 40 (Clang)   | PEND           |
+---------------------+----------------+
| openSUSE Leap 15    | PEND           |
+---------------------+----------------+
| RHEL8               | PEND           |
+---------------------+----------------+
| RHEL9               | PEND           |
+---------------------+----------------+
| Ubuntu 20.04        | PEND           |
+---------------------+----------------+
| Ubuntu 22.04        | PEND           |
+---------------------+----------------+
| Ubuntu 24.04        | PEND           |
+---------------------+----------------+


Windows Server 2019
	Kernel: 10.0.17763
	Compiler: clang 14.0 and gcc 8.1.0 (MinGW)

Windows Server 2022
	Kernel: 10.0.20348.2031
	Compiler: clang 15.0.7, gcc 8.1.0 (MinGW), and MSVC VS 17.9

CentOS Stream 9
	Kernel: 5.4.0-167-generic
	Compiler: gcc 11.4.1 20230605

Debian Bullseye
	Kernel: 5.4.0-167-generic
	Compiler: gcc 10.2.1-6

Debian 12
	Kernel: Container Host Kernel
	Compiler: gcc 12.2.0

Fedora 37
	Kernel: Depends on container host system
	Compiler: gcc 12.3.1

Fedora 38
	Kernel: Depends on container host
	Compiler: gcc 13.2.1

Fedora 38 (Clang)
	Kernel: Depends on container host
	Compiler: clang 16.0.6

Fedora 39
	Kernel: Depends on container host
	Compiler: gcc 13.2.1

Fedora 39 (Clang)
	Kernel: Depends on container host
	Compiler: clang 17.0.6

Fedora 40
	Kernel: Depends on container host
	Compiler: gcc 14.1.1

Fedora 40 (Clang)
	Kernel: Depends on container host
	Compiler: clang 18.1.6

openSUSE Leap 15
	Kernel: 5.4.0-167-generic
	Compiler: gcc 7.5.0

RHEL8
	Kernel: 5.4.0-167-generic
	Compiler: gcc 8.5.0 20210514 (Red Hat 8.5.0-20)

RHEL9
	Kernel: Depends on container host
	Compiler: gcc 11.4.1

Ubuntu 20.04
	Kernel: 5.4.0-167-generic
	Compiler: gcc 9.4.0-1ubuntu1~20.04.1

Ubuntu 22.04
	Kernel: 5.4.0-167-generic
	Compiler: gcc 11.4.0

Ubuntu 24.04
	Kernel: 5.4.0-167-generic
	Compiler: gcc 13.2.0

To view detailed results, visit:
https://lab.dpdk.org/results/dashboard/patchsets/30783/

UNH-IOL DPDK Community Lab

To manage your email subscriptions, visit: 
https://lab.dpdk.org/results/dashboard/preferences/subscriptions/