From mboxrd@z Thu Jan  1 00:00:00 1970
Return-Path: <test-report-bounces@dpdk.org>
Received: from mails.dpdk.org (mails.dpdk.org [217.70.189.124])
	by inbox.dpdk.org (Postfix) with ESMTP id 0E80F457B4
	for <public@inbox.dpdk.org>; Tue, 13 Aug 2024 21:19:43 +0200 (CEST)
Received: from mails.dpdk.org (localhost [127.0.0.1])
	by mails.dpdk.org (Postfix) with ESMTP id 06F4E4065C;
	Tue, 13 Aug 2024 21:19:43 +0200 (CEST)
Received: from mail-oa1-f100.google.com (mail-oa1-f100.google.com
 [209.85.160.100])
 by mails.dpdk.org (Postfix) with ESMTP id 4D954402A8
 for <test-report@dpdk.org>; Tue, 13 Aug 2024 21:19:41 +0200 (CEST)
Received: by mail-oa1-f100.google.com with SMTP id
 586e51a60fabf-260fed6c380so4098853fac.1
 for <test-report@dpdk.org>; Tue, 13 Aug 2024 12:19:41 -0700 (PDT)
DKIM-Signature: v=1; a=rsa-sha256; c=relaxed/relaxed;
 d=iol.unh.edu; s=unh-iol; t=1723576780; x=1724181580; darn=dpdk.org;
 h=references:in-reply-to:cc:to:from:subject:message-id:date:from:to
 :cc:subject:date:message-id:reply-to;
 bh=6YIwEdKpYT+RdQv53tHiIxfApLvnBMmAZMMXaEcnJgs=;
 b=ceyqaxjoyxztmIWgz8mop6Kr9Z5gj0CUX/jGAVeQmcjWOIv7hFYzrv5ke2FCHCz5Zt
 fgtx1AFjalISRMrI347+Bo2TASbx8wf7Sd1xegSXat6Ft9eF7Dx2Qsqb8T264ZjtM+1M
 MltQhktusWeyaTC+z/fCy7BespGN5Zd3HGuNM=
X-Google-DKIM-Signature: v=1; a=rsa-sha256; c=relaxed/relaxed;
 d=1e100.net; s=20230601; t=1723576780; x=1724181580;
 h=references:in-reply-to:cc:to:from:subject:message-id:date
 :x-gm-message-state:from:to:cc:subject:date:message-id:reply-to;
 bh=6YIwEdKpYT+RdQv53tHiIxfApLvnBMmAZMMXaEcnJgs=;
 b=FMpCTBs8K9DxLR6q4gVm23CKFMlOkR8FL8tjuvQeNKG1H1HngNxhWEtNwHnRra9Qdo
 U0LSUQq2lXXY6N9M/2aIDtXDXNs+/ScFglmlZmXyj4Ulsz3sZpvbZOXuU/9jaaM6N9ZA
 jXdy24l/7fcN33iyrWwzNm909UybhDkQry6VkeDWr1fcehaSvel27XuER9urLvwjQFAl
 BekL6Fa34RnhixDhVT6wc/escL+A6f+zrKbcI9mRQvuFaq7+K/ltnoaXGJBuwztYpgmU
 Td8+nnMhn3Kjr24vrlrUC0mcnZHAqjBYktIXhrUljoQOUktQ7c64HM76IRqmrGx0pS7k
 Bdcg==
X-Gm-Message-State: AOJu0YwGCni1XxcgE2Bc0FTRQz+cpGj3DVBoQ87jCtJm+ldSFvgO9RLw
 VAOo9u03EbgC/SH9PmdoG7jKUvMGPabeoDJVQmdzOz3TNS28Et7XoQM8leBYiN+d2YxYSGy0JZ7
 Y8f55BrJEBwLdyIuW8UU1swZM+DFapHm8TDG73ujC
X-Google-Smtp-Source: AGHT+IGEPGKqtUz5UviaGPsM/2wK5zSgu0DdxzK5ObeUPUOfQ44r/71MRcRmb6iZKZ91gwwkQ2FAGItjMNEd
X-Received: by 2002:a05:6871:b12:b0:25e:23b4:cf3e with SMTP id
 586e51a60fabf-26fe5c6f86fmr757100fac.44.1723576780486; 
 Tue, 13 Aug 2024 12:19:40 -0700 (PDT)
Received: from postal.iol.unh.edu (postal.iol.unh.edu. [132.177.123.84])
 by smtp-relay.gmail.com with ESMTPS id
 586e51a60fabf-26c7229fba7sm543352fac.31.2024.08.13.12.19.40
 (version=TLS1_2 cipher=ECDHE-ECDSA-AES128-GCM-SHA256 bits=128/128);
 Tue, 13 Aug 2024 12:19:40 -0700 (PDT)
X-Relaying-Domain: iol.unh.edu
Date: Tue, 13 Aug 2024 12:19:40 -0700 (PDT)
Message-ID: <66bbb1cc.050a0220.38d938.c2d6SMTPIN_ADDED_MISSING@mx.google.com>
Received: from [172.17.0.3] (unknown [172.18.0.217])
 by postal.iol.unh.edu (Postfix) with ESMTP id 163B8605C380;
 Tue, 13 Aug 2024 15:19:40 -0400 (EDT)
Subject: |PENDING| pw143114-143117 [PATCH] [v6,4/4] test: restore cfgfile tes
From: dpdklab@iol.unh.edu
To: Test Report <test-report@dpdk.org>
Cc: dpdk-test-reports@iol.unh.edu
In-Reply-To: <20240813160039.5861-5-stephen@networkplumber.org>
References: <20240813160039.5861-5-stephen@networkplumber.org>
Content-Type: text/plain
X-BeenThere: test-report@dpdk.org
X-Mailman-Version: 2.1.29
Precedence: list
List-Id: automatic DPDK test reports <test-report.dpdk.org>
List-Unsubscribe: <https://mails.dpdk.org/options/test-report>,
 <mailto:test-report-request@dpdk.org?subject=unsubscribe>
List-Archive: <http://mails.dpdk.org/archives/test-report/>
List-Post: <mailto:test-report@dpdk.org>
List-Help: <mailto:test-report-request@dpdk.org?subject=help>
List-Subscribe: <https://mails.dpdk.org/listinfo/test-report>,
 <mailto:test-report-request@dpdk.org?subject=subscribe>
Errors-To: test-report-bounces@dpdk.org

Test-Label: iol-unit-amd64-testing
Test-Status: PENDING
http://dpdk.org/patch/143117

_Testing pending_

Submitter: Stephen Hemminger <stephen@networkplumber.org>
Date: Tuesday, August 13 2024 15:57:55 
DPDK git baseline: Repo:dpdk
  Branch: master
  CommitID:cb9187bc5c2b4bab0ad80194ac3b60491de14e8c

143114-143117 --> testing pending

Upstream job id: Generic-Unit-Test-DPDK#251902

Test environment and result as below:

+---------------------+----------------+
|     Environment     | dpdk_unit_test |
+=====================+================+
| Windows Server 2019 | PASS           |
+---------------------+----------------+
| Windows Server 2022 | PASS           |
+---------------------+----------------+
| CentOS Stream 9     | PASS           |
+---------------------+----------------+
| Debian Bullseye     | PASS           |
+---------------------+----------------+
| Debian 12           | PASS           |
+---------------------+----------------+
| Fedora 37           | PASS           |
+---------------------+----------------+
| Fedora 38           | PASS           |
+---------------------+----------------+
| Fedora 38 (Clang)   | PASS           |
+---------------------+----------------+
| Fedora 39           | PASS           |
+---------------------+----------------+
| Fedora 39 (Clang)   | PEND           |
+---------------------+----------------+
| Fedora 40           | PASS           |
+---------------------+----------------+
| Fedora 40 (Clang)   | PEND           |
+---------------------+----------------+
| openSUSE Leap 15    | PASS           |
+---------------------+----------------+
| RHEL8               | PEND           |
+---------------------+----------------+
| RHEL9               | PEND           |
+---------------------+----------------+
| Ubuntu 20.04        | PEND           |
+---------------------+----------------+
| Ubuntu 22.04        | PEND           |
+---------------------+----------------+
| Ubuntu 24.04        | PEND           |
+---------------------+----------------+


Windows Server 2019
	Kernel: 10.0.17763
	Compiler: clang 14.0 and gcc 8.1.0 (MinGW)

Windows Server 2022
	Kernel: 10.0.20348.2031
	Compiler: clang 15.0.7, gcc 8.1.0 (MinGW), and MSVC VS 17.9

CentOS Stream 9
	Kernel: 5.4.0-167-generic
	Compiler: gcc 11.4.1 20230605

Debian Bullseye
	Kernel: 5.4.0-167-generic
	Compiler: gcc 10.2.1-6

Debian 12
	Kernel: Container Host Kernel
	Compiler: gcc 12.2.0

Fedora 37
	Kernel: Depends on container host system
	Compiler: gcc 12.3.1

Fedora 38
	Kernel: Depends on container host
	Compiler: gcc 13.2.1

Fedora 38 (Clang)
	Kernel: Depends on container host
	Compiler: clang 16.0.6

Fedora 39
	Kernel: Depends on container host
	Compiler: gcc 13.2.1

Fedora 39 (Clang)
	Kernel: Depends on container host
	Compiler: clang 17.0.6

Fedora 40
	Kernel: Depends on container host
	Compiler: gcc 14.1.1

Fedora 40 (Clang)
	Kernel: Depends on container host
	Compiler: clang 18.1.6

openSUSE Leap 15
	Kernel: 5.4.0-167-generic
	Compiler: gcc 7.5.0

RHEL8
	Kernel: 5.4.0-167-generic
	Compiler: gcc 8.5.0 20210514 (Red Hat 8.5.0-20)

RHEL9
	Kernel: Depends on container host
	Compiler: gcc 11.4.1

Ubuntu 20.04
	Kernel: 5.4.0-167-generic
	Compiler: gcc 9.4.0-1ubuntu1~20.04.1

Ubuntu 22.04
	Kernel: 5.4.0-167-generic
	Compiler: gcc 11.4.0

Ubuntu 24.04
	Kernel: 5.4.0-167-generic
	Compiler: gcc 13.2.0

To view detailed results, visit:
https://lab.dpdk.org/results/dashboard/patchsets/30783/

UNH-IOL DPDK Community Lab

To manage your email subscriptions, visit: 
https://lab.dpdk.org/results/dashboard/preferences/subscriptions/