From mboxrd@z Thu Jan  1 00:00:00 1970
Return-Path: <test-report-bounces@dpdk.org>
Received: from mails.dpdk.org (mails.dpdk.org [217.70.189.124])
	by inbox.dpdk.org (Postfix) with ESMTP id 07E4C457B4
	for <public@inbox.dpdk.org>; Tue, 13 Aug 2024 23:04:35 +0200 (CEST)
Received: from mails.dpdk.org (localhost [127.0.0.1])
	by mails.dpdk.org (Postfix) with ESMTP id 02D7B402C5;
	Tue, 13 Aug 2024 23:04:35 +0200 (CEST)
Received: from mail-io1-f100.google.com (mail-io1-f100.google.com
 [209.85.166.100])
 by mails.dpdk.org (Postfix) with ESMTP id F3D1A402A8
 for <test-report@dpdk.org>; Tue, 13 Aug 2024 23:04:33 +0200 (CEST)
Received: by mail-io1-f100.google.com with SMTP id
 ca18e2360f4ac-81f921c418eso9646939f.0
 for <test-report@dpdk.org>; Tue, 13 Aug 2024 14:04:33 -0700 (PDT)
DKIM-Signature: v=1; a=rsa-sha256; c=relaxed/relaxed;
 d=iol.unh.edu; s=unh-iol; t=1723583073; x=1724187873; darn=dpdk.org;
 h=references:in-reply-to:cc:to:from:subject:message-id:date:from:to
 :cc:subject:date:message-id:reply-to;
 bh=GYA+W4HDnqhKrrpE39DEI5YiQq+/4KIWcmxaRxoI7y0=;
 b=RSRe5ZVGpICq06jE9Yz+QCNRKeBud2RvxKvH/2jMl01kSk/kJdsZ8AlmAlYoAP5RaQ
 60D2tp+z/Wp1o/0seJiqcoNPlESPq6XCzAHimqiO/L4LwbhdzvgPgjg34H1WAo6t+9+O
 GeHbbA6jbt80BYUmXBJ/YUDzDhHPLb7FWxFQw=
X-Google-DKIM-Signature: v=1; a=rsa-sha256; c=relaxed/relaxed;
 d=1e100.net; s=20230601; t=1723583073; x=1724187873;
 h=references:in-reply-to:cc:to:from:subject:message-id:date
 :x-gm-message-state:from:to:cc:subject:date:message-id:reply-to;
 bh=GYA+W4HDnqhKrrpE39DEI5YiQq+/4KIWcmxaRxoI7y0=;
 b=tCXKHLb9iu1+x8ImTiFhZB3A80/b9Ydo4f6OcrgCJMwj7HN6xHEPxdO/rCPPDvWtq1
 TlX3qQZvNKQmlb1oV8oyanOCVauQCym144OwAGLQI6XOWMf0cr6/TTd8SCx6RyiWeuNQ
 3nOkCA+zoHyuiwql+1bjzb/FXgAGrbXvSIgfVzagE30AC32p/c0LT0om3+eiHXVdPftO
 n75CxyujSBqy7z491k6FpT1hug+Im/j+61o91p8QzgeyykQWgvd9Sli1hbhas7nrpnY6
 6kpWO3qssUAAwMlyI1GlYhRibuImJchqm12ZVWac+y0DwReY+fP4Sr3RsrHenCA82J1M
 hbLg==
X-Gm-Message-State: AOJu0YymK27XdXswHpxDISU1uIJr2pQB6dfAyLucxHqAs5jSJMrwY1x1
 5GJVvF7bFW3T5sIPtQxCLdJHmPvC5EP9OAPlYm6LMyOyktq17iQT+yA+KvHJ4efiKHXx/BPm39i
 TW0D+r28zEWt6u4/xSAsM2UCxXM9qJ7FQ7eVXD56a
X-Google-Smtp-Source: AGHT+IEzeZnO5Jc5vhhXI4hMUjwh5jn7RRWkmFRuR8KFqjVuueoDGd19Z7cW1jbTa18Z6EtetgiaJkrbCCk8
X-Received: by 2002:a6b:7d4b:0:b0:7fb:c0c8:2fc7 with SMTP id
 ca18e2360f4ac-824cbfd4573mr376856839f.3.1723583073251; 
 Tue, 13 Aug 2024 14:04:33 -0700 (PDT)
Received: from postal.iol.unh.edu (postal.iol.unh.edu. [132.177.123.84])
 by smtp-relay.gmail.com with ESMTPS id
 ca18e2360f4ac-822670d71cdsm25826839f.1.2024.08.13.14.04.33
 (version=TLS1_2 cipher=ECDHE-ECDSA-AES128-GCM-SHA256 bits=128/128);
 Tue, 13 Aug 2024 14:04:33 -0700 (PDT)
X-Relaying-Domain: iol.unh.edu
Date: Tue, 13 Aug 2024 14:04:33 -0700 (PDT)
Message-ID: <66bbca61.050a0220.280745.d8eaSMTPIN_ADDED_MISSING@mx.google.com>
Received: from [172.21.0.9] (unknown [172.18.0.240])
 by postal.iol.unh.edu (Postfix) with ESMTP id B19CD605C380;
 Tue, 13 Aug 2024 17:04:32 -0400 (EDT)
Subject: |PENDING| pw143119 [PATCH] doc: add new driver guidelines
From: dpdklab@iol.unh.edu
To: Test Report <test-report@dpdk.org>
Cc: dpdk-test-reports@iol.unh.edu
In-Reply-To: <20240813201250.9383-1-nandinipersad361@gmail.com>
References: <20240813201250.9383-1-nandinipersad361@gmail.com>
Content-Type: text/plain
X-BeenThere: test-report@dpdk.org
X-Mailman-Version: 2.1.29
Precedence: list
List-Id: automatic DPDK test reports <test-report.dpdk.org>
List-Unsubscribe: <https://mails.dpdk.org/options/test-report>,
 <mailto:test-report-request@dpdk.org?subject=unsubscribe>
List-Archive: <http://mails.dpdk.org/archives/test-report/>
List-Post: <mailto:test-report@dpdk.org>
List-Help: <mailto:test-report-request@dpdk.org?subject=help>
List-Subscribe: <https://mails.dpdk.org/listinfo/test-report>,
 <mailto:test-report-request@dpdk.org?subject=subscribe>
Errors-To: test-report-bounces@dpdk.org

Test-Label: iol-unit-amd64-testing
Test-Status: PENDING
http://dpdk.org/patch/143119

_Testing pending_

Submitter: Nandini Persad <nandinipersad361@gmail.com>
Date: Tuesday, August 13 2024 20:12:50 
DPDK git baseline: Repo:dpdk
  Branch: master
  CommitID:cb9187bc5c2b4bab0ad80194ac3b60491de14e8c

143119 --> testing pending

Upstream job id: Generic-Unit-Test-DPDK#251942

Test environment and result as below:

+---------------------+----------------+
|     Environment     | dpdk_unit_test |
+=====================+================+
| CentOS Stream 9     | PASS           |
+---------------------+----------------+
| Debian Bullseye     | PASS           |
+---------------------+----------------+
| Debian 12           | PASS           |
+---------------------+----------------+
| Fedora 37           | PASS           |
+---------------------+----------------+
| Fedora 38           | PASS           |
+---------------------+----------------+
| Fedora 39 (Clang)   | PASS           |
+---------------------+----------------+
| Fedora 39           | PASS           |
+---------------------+----------------+
| Fedora 38 (Clang)   | PEND           |
+---------------------+----------------+
| Fedora 40 (Clang)   | PEND           |
+---------------------+----------------+
| Fedora 40           | PASS           |
+---------------------+----------------+
| openSUSE Leap 15    | PASS           |
+---------------------+----------------+
| RHEL8               | PEND           |
+---------------------+----------------+
| RHEL9               | PEND           |
+---------------------+----------------+
| Ubuntu 20.04        | PEND           |
+---------------------+----------------+
| Ubuntu 22.04        | PEND           |
+---------------------+----------------+
| Ubuntu 24.04        | PEND           |
+---------------------+----------------+
| Windows Server 2019 | PASS           |
+---------------------+----------------+
| Windows Server 2022 | PASS           |
+---------------------+----------------+


CentOS Stream 9
	Kernel: 5.4.0-167-generic
	Compiler: gcc 11.4.1 20230605

Debian Bullseye
	Kernel: 5.4.0-167-generic
	Compiler: gcc 10.2.1-6

Debian 12
	Kernel: Container Host Kernel
	Compiler: gcc 12.2.0

Fedora 37
	Kernel: Depends on container host system
	Compiler: gcc 12.3.1

Fedora 38
	Kernel: Depends on container host
	Compiler: gcc 13.2.1

Fedora 39 (Clang)
	Kernel: Depends on container host
	Compiler: clang 17.0.6

Fedora 39
	Kernel: Depends on container host
	Compiler: gcc 13.2.1

Fedora 38 (Clang)
	Kernel: Depends on container host
	Compiler: clang 16.0.6

Fedora 40 (Clang)
	Kernel: Depends on container host
	Compiler: clang 18.1.6

Fedora 40
	Kernel: Depends on container host
	Compiler: gcc 14.1.1

openSUSE Leap 15
	Kernel: 5.4.0-167-generic
	Compiler: gcc 7.5.0

RHEL8
	Kernel: 5.4.0-167-generic
	Compiler: gcc 8.5.0 20210514 (Red Hat 8.5.0-20)

RHEL9
	Kernel: Depends on container host
	Compiler: gcc 11.4.1

Ubuntu 20.04
	Kernel: 5.4.0-167-generic
	Compiler: gcc 9.4.0-1ubuntu1~20.04.1

Ubuntu 22.04
	Kernel: 5.4.0-167-generic
	Compiler: gcc 11.4.0

Ubuntu 24.04
	Kernel: 5.4.0-167-generic
	Compiler: gcc 13.2.0

Windows Server 2019
	Kernel: 10.0.17763
	Compiler: clang 14.0 and gcc 8.1.0 (MinGW)

Windows Server 2022
	Kernel: 10.0.20348.2031
	Compiler: clang 15.0.7, gcc 8.1.0 (MinGW), and MSVC VS 17.9

To view detailed results, visit:
https://lab.dpdk.org/results/dashboard/patchsets/30785/

UNH-IOL DPDK Community Lab

To manage your email subscriptions, visit: 
https://lab.dpdk.org/results/dashboard/preferences/subscriptions/