From mboxrd@z Thu Jan  1 00:00:00 1970
Return-Path: <test-report-bounces@dpdk.org>
Received: from mails.dpdk.org (mails.dpdk.org [217.70.189.124])
	by inbox.dpdk.org (Postfix) with ESMTP id CC5DE457B4
	for <public@inbox.dpdk.org>; Tue, 13 Aug 2024 23:18:21 +0200 (CEST)
Received: from mails.dpdk.org (localhost [127.0.0.1])
	by mails.dpdk.org (Postfix) with ESMTP id C66114065C;
	Tue, 13 Aug 2024 23:18:21 +0200 (CEST)
Received: from mail-ot1-f97.google.com (mail-ot1-f97.google.com
 [209.85.210.97]) by mails.dpdk.org (Postfix) with ESMTP id 2A65B402C5
 for <test-report@dpdk.org>; Tue, 13 Aug 2024 23:18:20 +0200 (CEST)
Received: by mail-ot1-f97.google.com with SMTP id
 46e09a7af769-7093d565310so4292437a34.2
 for <test-report@dpdk.org>; Tue, 13 Aug 2024 14:18:20 -0700 (PDT)
DKIM-Signature: v=1; a=rsa-sha256; c=relaxed/relaxed;
 d=iol.unh.edu; s=unh-iol; t=1723583899; x=1724188699; darn=dpdk.org;
 h=references:in-reply-to:cc:to:from:subject:message-id:date:from:to
 :cc:subject:date:message-id:reply-to;
 bh=1Ne8OpjoCWZd685csqPdB2vEsCoiqXwaGBhN+THJhfQ=;
 b=HE9ZXR/OA87dTT389bqMnOug7fQX4cEfyhpOJtbw5Gnq3Cf/IjLaFD67IiEixRVLf1
 E0yKvdMjNT+9RKHZ6wYytL3qnPjtxWSXofCq30FIsOtt07o5tCsQNu8A1P5DmgG2ChHS
 yhP52Ct4xvYjeMXTwH9HJMZeIzZWP56d6dYrk=
X-Google-DKIM-Signature: v=1; a=rsa-sha256; c=relaxed/relaxed;
 d=1e100.net; s=20230601; t=1723583899; x=1724188699;
 h=references:in-reply-to:cc:to:from:subject:message-id:date
 :x-gm-message-state:from:to:cc:subject:date:message-id:reply-to;
 bh=1Ne8OpjoCWZd685csqPdB2vEsCoiqXwaGBhN+THJhfQ=;
 b=H2gCe/raqSZqfS+HGjG15HVb9mn5mTsKtY9cW0Yx+D07RB4oyIt4qnyzyX7SzsVilV
 aXkFXqFvEmdZAY8ii/2dF4pQzqQ7IG7uE+WMqEy7EPu5jyH7ekC7db/GlhMnCnZgwuwR
 PgX+YyOAp1hF4B9kJDNNtuAgaYo/gTPT8+6wvKNjMxANioFOPrIL8TcGPapkJPqcgzKE
 rZN5wktyjEjXffCRgM69q39j3PGuzhT43P/lqc5AEwEe40TRFSBuwHwk/TVSuoIFDMXd
 s0AzhE8b9oGZQkDuZptK7KcVYLB67VL881hYPjRNvBW0s3gF+Q1aw/1B80PQNme4lYmi
 8APA==
X-Gm-Message-State: AOJu0YxtE6kw0twSg+mJ93ORZ0o0XejKmpWjihTOFcPLbj89ijAR/0HE
 C7RQ3ARrY0krwYWpc1bvYZiIWckOI39ekQ5eo857q7h36CGV+QUt6aTpifkjkPJK0dNP/osczFO
 uWmiiJ4bsCqQcxp4Cm4s+KKuJKaaNnrkwA64Gt9hFaSOnka0G6BaP++Bg
X-Google-Smtp-Source: AGHT+IEMwFRMDlMMK7lEaBK4EOMLTHjDdDuXRURvFTizsDs0muzzipK46FnJ5XnhEgxu0fxdyeUASvbkicTL
X-Received: by 2002:a05:6358:5241:b0:19f:4ca6:86c2 with SMTP id
 e5c5f4694b2df-1b1aad61cdemr83087955d.25.1723583899309; 
 Tue, 13 Aug 2024 14:18:19 -0700 (PDT)
Received: from postal.iol.unh.edu (postal.iol.unh.edu.
 [2606:4100:3880:1234::84]) by smtp-relay.gmail.com with ESMTPS id
 6a1803df08f44-6bd82c6a05esm3456386d6.14.2024.08.13.14.18.19
 (version=TLS1_2 cipher=ECDHE-ECDSA-AES128-GCM-SHA256 bits=128/128);
 Tue, 13 Aug 2024 14:18:19 -0700 (PDT)
X-Relaying-Domain: iol.unh.edu
Date: Tue, 13 Aug 2024 14:18:19 -0700 (PDT)
Message-ID: <66bbcd9b.0c0a0220.2d539d.1b01SMTPIN_ADDED_MISSING@mx.google.com>
Received: from [172.17.0.3] (unknown [172.18.0.217])
 by postal.iol.unh.edu (Postfix) with ESMTP id 06525605C380;
 Tue, 13 Aug 2024 17:18:19 -0400 (EDT)
Subject: |PENDING| pw143119 [PATCH] doc: add new driver guidelines
From: dpdklab@iol.unh.edu
To: Test Report <test-report@dpdk.org>
Cc: dpdk-test-reports@iol.unh.edu
In-Reply-To: <20240813201250.9383-1-nandinipersad361@gmail.com>
References: <20240813201250.9383-1-nandinipersad361@gmail.com>
Content-Type: text/plain
X-BeenThere: test-report@dpdk.org
X-Mailman-Version: 2.1.29
Precedence: list
List-Id: automatic DPDK test reports <test-report.dpdk.org>
List-Unsubscribe: <https://mails.dpdk.org/options/test-report>,
 <mailto:test-report-request@dpdk.org?subject=unsubscribe>
List-Archive: <http://mails.dpdk.org/archives/test-report/>
List-Post: <mailto:test-report@dpdk.org>
List-Help: <mailto:test-report-request@dpdk.org?subject=help>
List-Subscribe: <https://mails.dpdk.org/listinfo/test-report>,
 <mailto:test-report-request@dpdk.org?subject=subscribe>
Errors-To: test-report-bounces@dpdk.org

Test-Label: iol-compile-amd64-testing
Test-Status: PENDING
http://dpdk.org/patch/143119

_Testing pending_

Submitter: Nandini Persad <nandinipersad361@gmail.com>
Date: Tuesday, August 13 2024 20:12:50 
DPDK git baseline: Repo:dpdk
  Branch: master
  CommitID:cb9187bc5c2b4bab0ad80194ac3b60491de14e8c

143119 --> testing pending

Upstream job id: Generic-DPDK-Compile-Meson#288141

Test environment and result as below:

+---------------------+--------------------+------------------+-------------------+----------------------+-------------------+-----------------------+
|     Environment     | dpdk_meson_compile | dpdk_compile_ovs | dpdk_compile_spdk | dpdk_mingw64_compile | dpdk_msvc_compile | dpdk_win_llvm_compile |
+=====================+====================+==================+===================+======================+===================+=======================+
| CentOS Stream 9     | PASS               | PASS             | PASS              | SKIPPED              | SKIPPED           | SKIPPED               |
+---------------------+--------------------+------------------+-------------------+----------------------+-------------------+-----------------------+
| Debian Bullseye     | PASS               | PASS             | PASS              | SKIPPED              | SKIPPED           | SKIPPED               |
+---------------------+--------------------+------------------+-------------------+----------------------+-------------------+-----------------------+
| Debian 12           | PASS               | PASS             | PASS              | SKIPPED              | SKIPPED           | SKIPPED               |
+---------------------+--------------------+------------------+-------------------+----------------------+-------------------+-----------------------+
| Fedora 37           | PASS               | PASS             | PASS              | SKIPPED              | SKIPPED           | SKIPPED               |
+---------------------+--------------------+------------------+-------------------+----------------------+-------------------+-----------------------+
| Fedora 38 (Clang)   | PEND               | PEND             | PEND              | SKIPPED              | SKIPPED           | SKIPPED               |
+---------------------+--------------------+------------------+-------------------+----------------------+-------------------+-----------------------+
| Fedora 38           | PASS               | PASS             | PASS              | SKIPPED              | SKIPPED           | SKIPPED               |
+---------------------+--------------------+------------------+-------------------+----------------------+-------------------+-----------------------+
| Fedora 39 (Clang)   | PEND               | PEND             | PEND              | SKIPPED              | SKIPPED           | SKIPPED               |
+---------------------+--------------------+------------------+-------------------+----------------------+-------------------+-----------------------+
| Fedora 39           | PASS               | PASS             | PASS              | SKIPPED              | SKIPPED           | SKIPPED               |
+---------------------+--------------------+------------------+-------------------+----------------------+-------------------+-----------------------+
| Fedora 40 (Clang)   | PEND               | PEND             | PEND              | SKIPPED              | SKIPPED           | SKIPPED               |
+---------------------+--------------------+------------------+-------------------+----------------------+-------------------+-----------------------+
| openSUSE Leap 15    | PASS               | PASS             | SKIPPED           | SKIPPED              | SKIPPED           | SKIPPED               |
+---------------------+--------------------+------------------+-------------------+----------------------+-------------------+-----------------------+
| Fedora 40           | PASS               | PASS             | PASS              | SKIPPED              | SKIPPED           | SKIPPED               |
+---------------------+--------------------+------------------+-------------------+----------------------+-------------------+-----------------------+
| RHEL8               | PASS               | PASS             | SKIPPED           | SKIPPED              | SKIPPED           | SKIPPED               |
+---------------------+--------------------+------------------+-------------------+----------------------+-------------------+-----------------------+
| RHEL9               | PASS               | PASS             | SKIPPED           | SKIPPED              | SKIPPED           | SKIPPED               |
+---------------------+--------------------+------------------+-------------------+----------------------+-------------------+-----------------------+
| Ubuntu 24.04        | PEND               | PEND             | PEND              | SKIPPED              | SKIPPED           | SKIPPED               |
+---------------------+--------------------+------------------+-------------------+----------------------+-------------------+-----------------------+
| Ubuntu 22.04        | PEND               | PEND             | PEND              | SKIPPED              | SKIPPED           | SKIPPED               |
+---------------------+--------------------+------------------+-------------------+----------------------+-------------------+-----------------------+
| Ubuntu 20.04        | PASS               | PASS             | SKIPPED           | SKIPPED              | SKIPPED           | SKIPPED               |
+---------------------+--------------------+------------------+-------------------+----------------------+-------------------+-----------------------+
| Alpine              | PEND               | PEND             | SKIPPED           | SKIPPED              | SKIPPED           | SKIPPED               |
+---------------------+--------------------+------------------+-------------------+----------------------+-------------------+-----------------------+
| FreeBSD 13.3        | PASS               | SKIPPED          | SKIPPED           | SKIPPED              | SKIPPED           | SKIPPED               |
+---------------------+--------------------+------------------+-------------------+----------------------+-------------------+-----------------------+
| FreeBSD 14.1        | PASS               | SKIPPED          | SKIPPED           | SKIPPED              | SKIPPED           | SKIPPED               |
+---------------------+--------------------+------------------+-------------------+----------------------+-------------------+-----------------------+
| Windows Server 2022 | SKIPPED            | SKIPPED          | SKIPPED           | PASS                 | PASS              | PASS                  |
+---------------------+--------------------+------------------+-------------------+----------------------+-------------------+-----------------------+


CentOS Stream 9
	Kernel: 5.4.0-167-generic
	Compiler: gcc 11.4.1 20230605

Debian Bullseye
	Kernel: 5.4.0-167-generic
	Compiler: gcc 10.2.1-6

Debian 12
	Kernel: Container Host Kernel
	Compiler: gcc 12.2.0

Fedora 37
	Kernel: Depends on container host system
	Compiler: gcc 12.3.1

Fedora 38 (Clang)
	Kernel: Depends on container host
	Compiler: clang 16.0.6

Fedora 38
	Kernel: Depends on container host
	Compiler: gcc 13.2.1

Fedora 39 (Clang)
	Kernel: Depends on container host
	Compiler: clang 17.0.6

Fedora 39
	Kernel: Depends on container host
	Compiler: gcc 13.2.1

Fedora 40 (Clang)
	Kernel: Depends on container host
	Compiler: clang 18.1.6

openSUSE Leap 15
	Kernel: 5.4.0-167-generic
	Compiler: gcc 7.5.0

Fedora 40
	Kernel: Depends on container host
	Compiler: gcc 14.1.1

RHEL8
	Kernel: 5.4.0-167-generic
	Compiler: gcc 8.5.0 20210514 (Red Hat 8.5.0-20)

RHEL9
	Kernel: Depends on container host
	Compiler: gcc 11.4.1

Ubuntu 24.04
	Kernel: 5.4.0-167-generic
	Compiler: gcc 13.2.0

Ubuntu 22.04
	Kernel: 5.4.0-167-generic
	Compiler: gcc 11.4.0

Ubuntu 20.04
	Kernel: 5.4.0-167-generic
	Compiler: gcc 9.4.0-1ubuntu1~20.04.1

Alpine
	Kernel: 5.4.0-167-generic
	Compiler: gcc (Alpine 13.2.1_git20231014) 13.2.1 20231014

FreeBSD 13.3
	Kernel: 13.3-RELEASE-p1
	Compiler: clang 17.0.6

FreeBSD 14.1
	Kernel: 14.1
	Compiler: clang 18.1.5

Windows Server 2022
	Kernel: 10.0.20348.2031
	Compiler: clang 15.0.7, gcc 8.1.0 (MinGW), and MSVC VS 17.9

To view detailed results, visit:
https://lab.dpdk.org/results/dashboard/patchsets/30785/

UNH-IOL DPDK Community Lab

To manage your email subscriptions, visit: 
https://lab.dpdk.org/results/dashboard/preferences/subscriptions/