From mboxrd@z Thu Jan  1 00:00:00 1970
Return-Path: <test-report-bounces@dpdk.org>
Received: from mails.dpdk.org (mails.dpdk.org [217.70.189.124])
	by inbox.dpdk.org (Postfix) with ESMTP id 58FF2457C0
	for <public@inbox.dpdk.org>; Wed, 14 Aug 2024 12:53:41 +0200 (CEST)
Received: from mails.dpdk.org (localhost [127.0.0.1])
	by mails.dpdk.org (Postfix) with ESMTP id 54FB1427DE;
	Wed, 14 Aug 2024 12:53:41 +0200 (CEST)
Received: from mail-il1-f226.google.com (mail-il1-f226.google.com
 [209.85.166.226])
 by mails.dpdk.org (Postfix) with ESMTP id B6EB442D45
 for <test-report@dpdk.org>; Wed, 14 Aug 2024 12:52:35 +0200 (CEST)
Received: by mail-il1-f226.google.com with SMTP id
 e9e14a558f8ab-396675b83afso30713695ab.0
 for <test-report@dpdk.org>; Wed, 14 Aug 2024 03:52:35 -0700 (PDT)
DKIM-Signature: v=1; a=rsa-sha256; c=relaxed/relaxed;
 d=iol.unh.edu; s=unh-iol; t=1723632755; x=1724237555; darn=dpdk.org;
 h=references:in-reply-to:cc:to:from:subject:message-id:date:from:to
 :cc:subject:date:message-id:reply-to;
 bh=uKlRcmlSM6j3Zveejer0iKLhlxhjYV+dpDLZkWWSCqo=;
 b=irfMroXPurRBfHDDn2wiZM240CiCJX6bk7KmJJAOBkT4QYs0im/2isiF1iR9uHqcq5
 GegMRxHMGyYjvvBeusIDbXOy6KEhDS04kf1ry1NKnwu3FMMONLY84BENyGpP7n8bisHt
 +E316fJplSvexHFUaXtUYR7ZySqLjGviHhPpM=
X-Google-DKIM-Signature: v=1; a=rsa-sha256; c=relaxed/relaxed;
 d=1e100.net; s=20230601; t=1723632755; x=1724237555;
 h=references:in-reply-to:cc:to:from:subject:message-id:date
 :x-gm-message-state:from:to:cc:subject:date:message-id:reply-to;
 bh=uKlRcmlSM6j3Zveejer0iKLhlxhjYV+dpDLZkWWSCqo=;
 b=qGesL0e9QHQq/qmnXO9m6MJnFpY8UfFlOYv0b8smF79DKuoteUijD2UfQF22BTP5+9
 6kfFBU67UIvrzh2+sw5VlkgmZvIIrMhxk0R9S+t7IsY+52ATAjihUOD/kgXF9lgSKtsl
 XxOBocYh+woFsAADXNfFaiPK6h3PSR1Gv/tMJJ0+B5SSDjJ8pN6uQ0yMoKruRaKgLlQz
 g1M1GxAKffl/SLba5u6GUHQ5XH+ESZZnwpvl9ZlQSewKzwtewuavwMSrSG8QAdFJMb23
 6xLxmuoBRiTr0B/XlLS4we/G3r6N8P3WkqBsLVdYDYVBkgmP8pUiA+wIezA31VBcW2mJ
 KLOw==
X-Gm-Message-State: AOJu0YwgS2HcsGYwis3DF4dYqReEu/KXlhg1kL03Fn+ksTta85llLODG
 1k8brqUU1pMy+bVXFwuxQ39egEaAVz7RFOTGtXkc6n75DaSWTd09ZY3m6CBszWfteTI/dRRmpBr
 Ky2JO+eHcP/BMpmliYimzlixaopyOgoQQ9mTOF8l/QQ6E4TH4WaLGakHO
X-Google-Smtp-Source: AGHT+IFxeaP+IofaFHIEFeD94ewuI4st2tqexTIQRFSZvPTutfVP9NS5l4OQslxL3WQ4dIyiBM6hRLvV7uTF
X-Received: by 2002:a05:6e02:156e:b0:385:e2e5:ac37 with SMTP id
 e9e14a558f8ab-39d124bfdddmr25581865ab.22.1723632754860; 
 Wed, 14 Aug 2024 03:52:34 -0700 (PDT)
Received: from postal.iol.unh.edu (postal.iol.unh.edu.
 [2606:4100:3880:1234::84]) by smtp-relay.gmail.com with ESMTPS id
 e9e14a558f8ab-39c30af6c0fsm4920495ab.75.2024.08.14.03.52.34
 (version=TLS1_2 cipher=ECDHE-ECDSA-AES128-GCM-SHA256 bits=128/128);
 Wed, 14 Aug 2024 03:52:34 -0700 (PDT)
X-Relaying-Domain: iol.unh.edu
Date: Wed, 14 Aug 2024 03:52:34 -0700 (PDT)
Message-ID: <66bc8c72.920a0220.abccd.a3bcSMTPIN_ADDED_MISSING@mx.google.com>
Received: from [172.17.0.4] (unknown [172.18.0.217])
 by postal.iol.unh.edu (Postfix) with ESMTP id 5DDC06052500;
 Wed, 14 Aug 2024 06:52:34 -0400 (EDT)
Subject: |PENDING| pw143123-143148 [PATCH] [RFC,v2,26/26] config: add compute
From: dpdklab@iol.unh.edu
To: Test Report <test-report@dpdk.org>
Cc: dpdk-test-reports@iol.unh.edu
In-Reply-To: <20240813160003.423935-27-bruce.richards@intel.com>
References: <20240813160003.423935-27-bruce.richards@intel.com>
Content-Type: text/plain
X-BeenThere: test-report@dpdk.org
X-Mailman-Version: 2.1.29
Precedence: list
List-Id: automatic DPDK test reports <test-report.dpdk.org>
List-Unsubscribe: <https://mails.dpdk.org/options/test-report>,
 <mailto:test-report-request@dpdk.org?subject=unsubscribe>
List-Archive: <http://mails.dpdk.org/archives/test-report/>
List-Post: <mailto:test-report@dpdk.org>
List-Help: <mailto:test-report-request@dpdk.org?subject=help>
List-Subscribe: <https://mails.dpdk.org/listinfo/test-report>,
 <mailto:test-report-request@dpdk.org?subject=subscribe>
Errors-To: test-report-bounces@dpdk.org

Test-Label: iol-compile-amd64-testing
Test-Status: PENDING
http://dpdk.org/patch/143148

_Testing pending_

Submitter: Bruce Richardson <bruce.richards@intel.com>
Date: Tuesday, August 13 2024 16:00:03 
DPDK git baseline: Repo:dpdk
  Branch: master
  CommitID:cb9187bc5c2b4bab0ad80194ac3b60491de14e8c

143123-143148 --> testing pending

Upstream job id: Generic-DPDK-Compile-Meson#288388

Test environment and result as below:

+---------------------+--------------------+------------------+-------------------+----------------------+-----------------------+-------------------+
|     Environment     | dpdk_meson_compile | dpdk_compile_ovs | dpdk_compile_spdk | dpdk_mingw64_compile | dpdk_win_llvm_compile | dpdk_msvc_compile |
+=====================+====================+==================+===================+======================+=======================+===================+
| CentOS Stream 9     | PASS               | PASS             | PASS              | SKIPPED              | SKIPPED               | SKIPPED           |
+---------------------+--------------------+------------------+-------------------+----------------------+-----------------------+-------------------+
| Debian Bullseye     | PASS               | PASS             | PASS              | SKIPPED              | SKIPPED               | SKIPPED           |
+---------------------+--------------------+------------------+-------------------+----------------------+-----------------------+-------------------+
| Debian 12           | PEND               | PEND             | PEND              | SKIPPED              | SKIPPED               | SKIPPED           |
+---------------------+--------------------+------------------+-------------------+----------------------+-----------------------+-------------------+
| Fedora 38           | PASS               | PASS             | PASS              | SKIPPED              | SKIPPED               | SKIPPED           |
+---------------------+--------------------+------------------+-------------------+----------------------+-----------------------+-------------------+
| Fedora 37           | PASS               | PASS             | PASS              | SKIPPED              | SKIPPED               | SKIPPED           |
+---------------------+--------------------+------------------+-------------------+----------------------+-----------------------+-------------------+
| Fedora 38 (Clang)   | PASS               | PASS             | PASS              | SKIPPED              | SKIPPED               | SKIPPED           |
+---------------------+--------------------+------------------+-------------------+----------------------+-----------------------+-------------------+
| Fedora 39 (Clang)   | PASS               | PASS             | PASS              | SKIPPED              | SKIPPED               | SKIPPED           |
+---------------------+--------------------+------------------+-------------------+----------------------+-----------------------+-------------------+
| Fedora 39           | PASS               | PASS             | PASS              | SKIPPED              | SKIPPED               | SKIPPED           |
+---------------------+--------------------+------------------+-------------------+----------------------+-----------------------+-------------------+
| Fedora 40 (Clang)   | PASS               | PASS             | PASS              | SKIPPED              | SKIPPED               | SKIPPED           |
+---------------------+--------------------+------------------+-------------------+----------------------+-----------------------+-------------------+
| Fedora 40           | PASS               | PASS             | PASS              | SKIPPED              | SKIPPED               | SKIPPED           |
+---------------------+--------------------+------------------+-------------------+----------------------+-----------------------+-------------------+
| openSUSE Leap 15    | PASS               | PASS             | SKIPPED           | SKIPPED              | SKIPPED               | SKIPPED           |
+---------------------+--------------------+------------------+-------------------+----------------------+-----------------------+-------------------+
| RHEL8               | PASS               | PASS             | SKIPPED           | SKIPPED              | SKIPPED               | SKIPPED           |
+---------------------+--------------------+------------------+-------------------+----------------------+-----------------------+-------------------+
| Ubuntu 22.04        | PEND               | PEND             | PEND              | SKIPPED              | SKIPPED               | SKIPPED           |
+---------------------+--------------------+------------------+-------------------+----------------------+-----------------------+-------------------+
| RHEL9               | PASS               | PASS             | SKIPPED           | SKIPPED              | SKIPPED               | SKIPPED           |
+---------------------+--------------------+------------------+-------------------+----------------------+-----------------------+-------------------+
| Ubuntu 20.04        | PASS               | PASS             | SKIPPED           | SKIPPED              | SKIPPED               | SKIPPED           |
+---------------------+--------------------+------------------+-------------------+----------------------+-----------------------+-------------------+
| Ubuntu 24.04        | PEND               | PEND             | PEND              | SKIPPED              | SKIPPED               | SKIPPED           |
+---------------------+--------------------+------------------+-------------------+----------------------+-----------------------+-------------------+
| Alpine              | PEND               | PEND             | SKIPPED           | SKIPPED              | SKIPPED               | SKIPPED           |
+---------------------+--------------------+------------------+-------------------+----------------------+-----------------------+-------------------+
| FreeBSD 13.3        | PASS               | SKIPPED          | SKIPPED           | SKIPPED              | SKIPPED               | SKIPPED           |
+---------------------+--------------------+------------------+-------------------+----------------------+-----------------------+-------------------+
| FreeBSD 14.1        | PEND               | SKIPPED          | SKIPPED           | SKIPPED              | SKIPPED               | SKIPPED           |
+---------------------+--------------------+------------------+-------------------+----------------------+-----------------------+-------------------+
| Windows Server 2022 | SKIPPED            | SKIPPED          | SKIPPED           | PASS                 | PASS                  | PASS              |
+---------------------+--------------------+------------------+-------------------+----------------------+-----------------------+-------------------+


CentOS Stream 9
	Kernel: 5.4.0-167-generic
	Compiler: gcc 11.4.1 20230605

Debian Bullseye
	Kernel: 5.4.0-167-generic
	Compiler: gcc 10.2.1-6

Debian 12
	Kernel: Container Host Kernel
	Compiler: gcc 12.2.0

Fedora 38
	Kernel: Depends on container host
	Compiler: gcc 13.2.1

Fedora 37
	Kernel: Depends on container host system
	Compiler: gcc 12.3.1

Fedora 38 (Clang)
	Kernel: Depends on container host
	Compiler: clang 16.0.6

Fedora 39 (Clang)
	Kernel: Depends on container host
	Compiler: clang 17.0.6

Fedora 39
	Kernel: Depends on container host
	Compiler: gcc 13.2.1

Fedora 40 (Clang)
	Kernel: Depends on container host
	Compiler: clang 18.1.6

Fedora 40
	Kernel: Depends on container host
	Compiler: gcc 14.1.1

openSUSE Leap 15
	Kernel: 5.4.0-167-generic
	Compiler: gcc 7.5.0

RHEL8
	Kernel: 5.4.0-167-generic
	Compiler: gcc 8.5.0 20210514 (Red Hat 8.5.0-20)

Ubuntu 22.04
	Kernel: 5.4.0-167-generic
	Compiler: gcc 11.4.0

RHEL9
	Kernel: Depends on container host
	Compiler: gcc 11.4.1

Ubuntu 20.04
	Kernel: 5.4.0-167-generic
	Compiler: gcc 9.4.0-1ubuntu1~20.04.1

Ubuntu 24.04
	Kernel: 5.4.0-167-generic
	Compiler: gcc 13.2.0

Alpine
	Kernel: 5.4.0-167-generic
	Compiler: gcc (Alpine 13.2.1_git20231014) 13.2.1 20231014

FreeBSD 13.3
	Kernel: 13.3-RELEASE-p1
	Compiler: clang 17.0.6

FreeBSD 14.1
	Kernel: 14.1
	Compiler: clang 18.1.5

Windows Server 2022
	Kernel: 10.0.20348.2031
	Compiler: clang 15.0.7, gcc 8.1.0 (MinGW), and MSVC VS 17.9

To view detailed results, visit:
https://lab.dpdk.org/results/dashboard/patchsets/30789/

UNH-IOL DPDK Community Lab

To manage your email subscriptions, visit: 
https://lab.dpdk.org/results/dashboard/preferences/subscriptions/