From mboxrd@z Thu Jan  1 00:00:00 1970
Return-Path: <test-report-bounces@dpdk.org>
Received: from mails.dpdk.org (mails.dpdk.org [217.70.189.124])
	by inbox.dpdk.org (Postfix) with ESMTP id 08B37457C0
	for <public@inbox.dpdk.org>; Wed, 14 Aug 2024 13:03:55 +0200 (CEST)
Received: from mails.dpdk.org (localhost [127.0.0.1])
	by mails.dpdk.org (Postfix) with ESMTP id 03BB540E09;
	Wed, 14 Aug 2024 13:03:55 +0200 (CEST)
Received: from mail-yw1-f227.google.com (mail-yw1-f227.google.com
 [209.85.128.227])
 by mails.dpdk.org (Postfix) with ESMTP id 3D0EF40274
 for <test-report@dpdk.org>; Wed, 14 Aug 2024 13:03:53 +0200 (CEST)
Received: by mail-yw1-f227.google.com with SMTP id
 00721157ae682-690ad83d4d7so61350627b3.3
 for <test-report@dpdk.org>; Wed, 14 Aug 2024 04:03:53 -0700 (PDT)
DKIM-Signature: v=1; a=rsa-sha256; c=relaxed/relaxed;
 d=iol.unh.edu; s=unh-iol; t=1723633432; x=1724238232; darn=dpdk.org;
 h=references:in-reply-to:cc:to:from:subject:message-id:date:from:to
 :cc:subject:date:message-id:reply-to;
 bh=un53AHNQ+869sJAA131B1j4hA6UR7j+ikjs01MmKg4M=;
 b=dgVVxtEs1cKSK/Q84xz8lEyUyzhDBX6O31aeKZizxMIcsDSprYYqZobjVba1ftcQOk
 OmlVRd/qZHzL2xOOw7Qvdbq6XWXaqIo66NM/k3gdUx7fuylXQ0k7r/BUGQq0HxWo34Fb
 H42T045nEmsLK43ueN74u0xHsaBbBGSl++0hQ=
X-Google-DKIM-Signature: v=1; a=rsa-sha256; c=relaxed/relaxed;
 d=1e100.net; s=20230601; t=1723633432; x=1724238232;
 h=references:in-reply-to:cc:to:from:subject:message-id:date
 :x-gm-message-state:from:to:cc:subject:date:message-id:reply-to;
 bh=un53AHNQ+869sJAA131B1j4hA6UR7j+ikjs01MmKg4M=;
 b=pm0sKEJvdOqZsC5+5Va2MuzPpfa+oSllEnfngyP2lgHWz/LfHoZ6fyD5Xyj+sL7Nzl
 WLlIrBOTVpml+hkTAEnHrmcUMLVrMyK8nMh9fpQd1IsXnsxf3qlWXsJflE0sgvrZhAjy
 5mbcXSmleAttvK4D/TdtGMzjTgKKks7XwgmaqBFt/qAXraywIlvXqhQ8/Y011z6P5JeP
 Aq0WV2xIwKFheoHO3f/XWd/NmYh6eWfomokQZqUgUWGN+YDHnQROtkpuaKdapvw9sLGk
 x0vNAKAvm4fhsU6RK6B836GAwyY02n+7AhiGTho6Q4yJrBIMqtRAds0e71Y3zc3oZJ36
 2IEQ==
X-Gm-Message-State: AOJu0Yxbw24pjtz8tUAgFipI1iybCpkvTvPsjFg2S96xPgRDPV4oH3Mc
 RGNBYcGHa9oMg1z4DewEbV7Bsjq9gx4xOfvBUMFOD3ET0MRMUUtiUZO/UYYimwXBtGw9dLIhkI/
 DJ2K5+waJbPAGejx3oU5YsCpRisS80Zf2h3DeIBabsjxoxYC26YYKV6Wf
X-Google-Smtp-Source: AGHT+IHSosDNpdFLnrC6oOMgSYQEGsghC22a/w7ZseeqIeB/fven9WP17GSy8Cd+lNlQA0MEgn8ByuYdn0f8
X-Received: by 2002:a05:690c:4e02:b0:6ad:dedf:f005 with SMTP id
 00721157ae682-6addedff200mr7056617b3.17.1723633432615; 
 Wed, 14 Aug 2024 04:03:52 -0700 (PDT)
Received: from postal.iol.unh.edu (postal.iol.unh.edu.
 [2606:4100:3880:1234::84]) by smtp-relay.gmail.com with ESMTPS id
 00721157ae682-6adbaa1ee87sm270967b3.67.2024.08.14.04.03.52
 (version=TLS1_2 cipher=ECDHE-ECDSA-AES128-GCM-SHA256 bits=128/128);
 Wed, 14 Aug 2024 04:03:52 -0700 (PDT)
X-Relaying-Domain: iol.unh.edu
Date: Wed, 14 Aug 2024 04:03:52 -0700 (PDT)
Message-ID: <66bc8f18.050a0220.c4403.188cSMTPIN_ADDED_MISSING@mx.google.com>
Received: from [172.17.0.4] (unknown [172.18.0.217])
 by postal.iol.unh.edu (Postfix) with ESMTP id 528B06052500;
 Wed, 14 Aug 2024 07:03:52 -0400 (EDT)
Subject: |PENDING| pw143123-143148 [PATCH] [RFC,v2,26/26] config: add compute
From: dpdklab@iol.unh.edu
To: Test Report <test-report@dpdk.org>
Cc: dpdk-test-reports@iol.unh.edu
In-Reply-To: <20240813160003.423935-27-bruce.richards@intel.com>
References: <20240813160003.423935-27-bruce.richards@intel.com>
Content-Type: text/plain
X-BeenThere: test-report@dpdk.org
X-Mailman-Version: 2.1.29
Precedence: list
List-Id: automatic DPDK test reports <test-report.dpdk.org>
List-Unsubscribe: <https://mails.dpdk.org/options/test-report>,
 <mailto:test-report-request@dpdk.org?subject=unsubscribe>
List-Archive: <http://mails.dpdk.org/archives/test-report/>
List-Post: <mailto:test-report@dpdk.org>
List-Help: <mailto:test-report-request@dpdk.org?subject=help>
List-Subscribe: <https://mails.dpdk.org/listinfo/test-report>,
 <mailto:test-report-request@dpdk.org?subject=subscribe>
Errors-To: test-report-bounces@dpdk.org

Test-Label: iol-unit-amd64-testing
Test-Status: PENDING
http://dpdk.org/patch/143148

_Testing pending_

Submitter: Bruce Richardson <bruce.richards@intel.com>
Date: Tuesday, August 13 2024 16:00:03 
DPDK git baseline: Repo:dpdk
  Branch: master
  CommitID:cb9187bc5c2b4bab0ad80194ac3b60491de14e8c

143123-143148 --> testing pending

Upstream job id: Generic-Unit-Test-DPDK#252141

Test environment and result as below:

+---------------------+----------------+
|     Environment     | dpdk_unit_test |
+=====================+================+
| Windows Server 2019 | PASS           |
+---------------------+----------------+
| Windows Server 2022 | PASS           |
+---------------------+----------------+
| CentOS Stream 9     | PASS           |
+---------------------+----------------+
| Debian Bullseye     | PASS           |
+---------------------+----------------+
| Debian 12           | PASS           |
+---------------------+----------------+
| Fedora 37           | PEND           |
+---------------------+----------------+
| Fedora 38           | PEND           |
+---------------------+----------------+
| Fedora 38 (Clang)   | PEND           |
+---------------------+----------------+
| Fedora 39           | PASS           |
+---------------------+----------------+
| Fedora 39 (Clang)   | PEND           |
+---------------------+----------------+
| Fedora 40           | PEND           |
+---------------------+----------------+
| Fedora 40 (Clang)   | PEND           |
+---------------------+----------------+
| openSUSE Leap 15    | PEND           |
+---------------------+----------------+
| RHEL8               | PEND           |
+---------------------+----------------+
| RHEL9               | PEND           |
+---------------------+----------------+
| Ubuntu 20.04        | PEND           |
+---------------------+----------------+


Windows Server 2019
	Kernel: 10.0.17763
	Compiler: clang 14.0 and gcc 8.1.0 (MinGW)

Windows Server 2022
	Kernel: 10.0.20348.2031
	Compiler: clang 15.0.7, gcc 8.1.0 (MinGW), and MSVC VS 17.9

CentOS Stream 9
	Kernel: 5.4.0-167-generic
	Compiler: gcc 11.4.1 20230605

Debian Bullseye
	Kernel: 5.4.0-167-generic
	Compiler: gcc 10.2.1-6

Debian 12
	Kernel: Container Host Kernel
	Compiler: gcc 12.2.0

Fedora 37
	Kernel: Depends on container host system
	Compiler: gcc 12.3.1

Fedora 38
	Kernel: Depends on container host
	Compiler: gcc 13.2.1

Fedora 38 (Clang)
	Kernel: Depends on container host
	Compiler: clang 16.0.6

Fedora 39
	Kernel: Depends on container host
	Compiler: gcc 13.2.1

Fedora 39 (Clang)
	Kernel: Depends on container host
	Compiler: clang 17.0.6

Fedora 40
	Kernel: Depends on container host
	Compiler: gcc 14.1.1

Fedora 40 (Clang)
	Kernel: Depends on container host
	Compiler: clang 18.1.6

openSUSE Leap 15
	Kernel: 5.4.0-167-generic
	Compiler: gcc 7.5.0

RHEL8
	Kernel: 5.4.0-167-generic
	Compiler: gcc 8.5.0 20210514 (Red Hat 8.5.0-20)

RHEL9
	Kernel: Depends on container host
	Compiler: gcc 11.4.1

Ubuntu 20.04
	Kernel: 5.4.0-167-generic
	Compiler: gcc 9.4.0-1ubuntu1~20.04.1

To view detailed results, visit:
https://lab.dpdk.org/results/dashboard/patchsets/30789/

UNH-IOL DPDK Community Lab

To manage your email subscriptions, visit: 
https://lab.dpdk.org/results/dashboard/preferences/subscriptions/