From mboxrd@z Thu Jan  1 00:00:00 1970
Return-Path: <test-report-bounces@dpdk.org>
Received: from mails.dpdk.org (mails.dpdk.org [217.70.189.124])
	by inbox.dpdk.org (Postfix) with ESMTP id F30C6457C2
	for <public@inbox.dpdk.org>; Wed, 14 Aug 2024 13:29:08 +0200 (CEST)
Received: from mails.dpdk.org (localhost [127.0.0.1])
	by mails.dpdk.org (Postfix) with ESMTP id EC6C040BA0;
	Wed, 14 Aug 2024 13:29:08 +0200 (CEST)
Received: from mail-io1-f98.google.com (mail-io1-f98.google.com
 [209.85.166.98]) by mails.dpdk.org (Postfix) with ESMTP id 1054140274
 for <test-report@dpdk.org>; Wed, 14 Aug 2024 13:29:07 +0200 (CEST)
Received: by mail-io1-f98.google.com with SMTP id
 ca18e2360f4ac-81f9339e541so254050739f.3
 for <test-report@dpdk.org>; Wed, 14 Aug 2024 04:29:06 -0700 (PDT)
DKIM-Signature: v=1; a=rsa-sha256; c=relaxed/relaxed;
 d=iol.unh.edu; s=unh-iol; t=1723634946; x=1724239746; darn=dpdk.org;
 h=references:in-reply-to:cc:to:from:subject:message-id:date:from:to
 :cc:subject:date:message-id:reply-to;
 bh=sKXJEjXcx4SwEEyYjemvJjBWKIkdC2s6hngtZ7STQ74=;
 b=MGwWXxjK0coEfc1KT7U5yXNibV8Q4OIkdornEB0l/cH4S/jXeAxXr1obTk4BhYF5O0
 z8a+drGnlbqL29hY7a7YSmen+T0ph5VxQPwDGMhRq7buBHFo1h4tWYroRWUHw5btBZ4j
 3VLh8vvY6jdLhSV1SLBd3Yjv2L5c3+cbT8ijU=
X-Google-DKIM-Signature: v=1; a=rsa-sha256; c=relaxed/relaxed;
 d=1e100.net; s=20230601; t=1723634946; x=1724239746;
 h=references:in-reply-to:cc:to:from:subject:message-id:date
 :x-gm-message-state:from:to:cc:subject:date:message-id:reply-to;
 bh=sKXJEjXcx4SwEEyYjemvJjBWKIkdC2s6hngtZ7STQ74=;
 b=YsQNeR6uroM8pa/MqxKZ4D/Z9jO6SAYw+HqV2l61UHB8t4hd2wnYTzkmw0A+MaAeTT
 LYGDQK5mpOwadMhBROfyFh+ZwnVzttcKDyruc3FQ3yp9NmA24Erw+4mp9beDPjYZ3Aun
 VJ3DNJBza1Hugj2IRdMGWNIQ9qyn3bafCd4pi4Z1fnaehIwLfosFef9+yFcoYWcdiBYW
 5OGgyM0TyVo3oxqhrqdAh+4jBREbgW5HkjLyzZ6sIdQKZuBZj92K0HZPC6k9AwGhabax
 pcyatUV175MgF3JuAtwQHxbkrFJpDG4EbyPJdjTctvcwtnNLG59pSrkNOdnRmaOVcTgL
 QQSA==
X-Gm-Message-State: AOJu0YwpbuBLfkOTRLRGUm639je9opoXTr9QlLu5JAV2XlwsmjnIwuVe
 YXQeu76WHvLtM4N95xVYm4iG4PmelrrpSE5mPYDl7fpA28Vv+Xoxnq55u/CO/IiDThw3nlA4PMI
 cnNoxfQW1uo+beKvkVbisHAmAVh69fZq+y3EtY15A
X-Google-Smtp-Source: AGHT+IENUd45BNwgcWHY8/4qBXkyHNvLErA+AibLtgGOJlH3ZZghMKvKnGIhG2gnuVEi/VohIXGE4SinJDUc
X-Received: by 2002:a05:6602:15d4:b0:81f:9328:9631 with SMTP id
 ca18e2360f4ac-824dacd4d74mr296946939f.2.1723634946060; 
 Wed, 14 Aug 2024 04:29:06 -0700 (PDT)
Received: from postal.iol.unh.edu (postal.iol.unh.edu. [132.177.123.84])
 by smtp-relay.gmail.com with ESMTPS id
 8926c6da1cb9f-4ca769ef2a3sm275327173.54.2024.08.14.04.29.05
 (version=TLS1_2 cipher=ECDHE-ECDSA-AES128-GCM-SHA256 bits=128/128);
 Wed, 14 Aug 2024 04:29:06 -0700 (PDT)
X-Relaying-Domain: iol.unh.edu
Date: Wed, 14 Aug 2024 04:29:06 -0700 (PDT)
Message-ID: <66bc9502.050a0220.284d4a.df95SMTPIN_ADDED_MISSING@mx.google.com>
Received: from [172.21.0.6] (unknown [172.18.0.240])
 by postal.iol.unh.edu (Postfix) with ESMTP id 807C96052500;
 Wed, 14 Aug 2024 07:29:05 -0400 (EDT)
Subject: |PENDING| pw143123-143148 [PATCH] [RFC,v2,26/26] config: add compute
From: dpdklab@iol.unh.edu
To: Test Report <test-report@dpdk.org>
Cc: dpdk-test-reports@iol.unh.edu
In-Reply-To: <20240813160003.423935-27-bruce.richards@intel.com>
References: <20240813160003.423935-27-bruce.richards@intel.com>
Content-Type: text/plain
X-BeenThere: test-report@dpdk.org
X-Mailman-Version: 2.1.29
Precedence: list
List-Id: automatic DPDK test reports <test-report.dpdk.org>
List-Unsubscribe: <https://mails.dpdk.org/options/test-report>,
 <mailto:test-report-request@dpdk.org?subject=unsubscribe>
List-Archive: <http://mails.dpdk.org/archives/test-report/>
List-Post: <mailto:test-report@dpdk.org>
List-Help: <mailto:test-report-request@dpdk.org?subject=help>
List-Subscribe: <https://mails.dpdk.org/listinfo/test-report>,
 <mailto:test-report-request@dpdk.org?subject=subscribe>
Errors-To: test-report-bounces@dpdk.org

Test-Label: iol-unit-amd64-testing
Test-Status: PENDING
http://dpdk.org/patch/143148

_Testing pending_

Submitter: Bruce Richardson <bruce.richards@intel.com>
Date: Tuesday, August 13 2024 16:00:03 
DPDK git baseline: Repo:dpdk
  Branch: master
  CommitID:cb9187bc5c2b4bab0ad80194ac3b60491de14e8c

143123-143148 --> testing pending

Upstream job id: Generic-Unit-Test-DPDK#252150

Test environment and result as below:

+---------------------+----------------+
|     Environment     | dpdk_unit_test |
+=====================+================+
| Windows Server 2019 | PASS           |
+---------------------+----------------+
| Windows Server 2022 | PASS           |
+---------------------+----------------+
| CentOS Stream 9     | PASS           |
+---------------------+----------------+
| Debian Bullseye     | PASS           |
+---------------------+----------------+
| Debian 12           | PASS           |
+---------------------+----------------+
| Fedora 37           | PASS           |
+---------------------+----------------+
| Fedora 38           | PASS           |
+---------------------+----------------+
| Fedora 38 (Clang)   | PASS           |
+---------------------+----------------+
| Fedora 39           | PASS           |
+---------------------+----------------+
| Fedora 39 (Clang)   | PASS           |
+---------------------+----------------+
| Fedora 40           | PASS           |
+---------------------+----------------+
| Fedora 40 (Clang)   | PASS           |
+---------------------+----------------+
| openSUSE Leap 15    | PASS           |
+---------------------+----------------+
| RHEL8               | PASS           |
+---------------------+----------------+
| RHEL9               | PEND           |
+---------------------+----------------+
| Ubuntu 20.04        | PEND           |
+---------------------+----------------+
| Ubuntu 22.04        | PEND           |
+---------------------+----------------+
| Ubuntu 24.04        | PEND           |
+---------------------+----------------+


Windows Server 2019
	Kernel: 10.0.17763
	Compiler: clang 14.0 and gcc 8.1.0 (MinGW)

Windows Server 2022
	Kernel: 10.0.20348.2031
	Compiler: clang 15.0.7, gcc 8.1.0 (MinGW), and MSVC VS 17.9

CentOS Stream 9
	Kernel: 5.4.0-167-generic
	Compiler: gcc 11.4.1 20230605

Debian Bullseye
	Kernel: 5.4.0-167-generic
	Compiler: gcc 10.2.1-6

Debian 12
	Kernel: Container Host Kernel
	Compiler: gcc 12.2.0

Fedora 37
	Kernel: Depends on container host system
	Compiler: gcc 12.3.1

Fedora 38
	Kernel: Depends on container host
	Compiler: gcc 13.2.1

Fedora 38 (Clang)
	Kernel: Depends on container host
	Compiler: clang 16.0.6

Fedora 39
	Kernel: Depends on container host
	Compiler: gcc 13.2.1

Fedora 39 (Clang)
	Kernel: Depends on container host
	Compiler: clang 17.0.6

Fedora 40
	Kernel: Depends on container host
	Compiler: gcc 14.1.1

Fedora 40 (Clang)
	Kernel: Depends on container host
	Compiler: clang 18.1.6

openSUSE Leap 15
	Kernel: 5.4.0-167-generic
	Compiler: gcc 7.5.0

RHEL8
	Kernel: 5.4.0-167-generic
	Compiler: gcc 8.5.0 20210514 (Red Hat 8.5.0-20)

RHEL9
	Kernel: Depends on container host
	Compiler: gcc 11.4.1

Ubuntu 20.04
	Kernel: 5.4.0-167-generic
	Compiler: gcc 9.4.0-1ubuntu1~20.04.1

Ubuntu 22.04
	Kernel: 5.4.0-167-generic
	Compiler: gcc 11.4.0

Ubuntu 24.04
	Kernel: 5.4.0-167-generic
	Compiler: gcc 13.2.0

To view detailed results, visit:
https://lab.dpdk.org/results/dashboard/patchsets/30789/

UNH-IOL DPDK Community Lab

To manage your email subscriptions, visit: 
https://lab.dpdk.org/results/dashboard/preferences/subscriptions/