From mboxrd@z Thu Jan  1 00:00:00 1970
Return-Path: <test-report-bounces@dpdk.org>
Received: from mails.dpdk.org (mails.dpdk.org [217.70.189.124])
	by inbox.dpdk.org (Postfix) with ESMTP id 040EC457C2
	for <public@inbox.dpdk.org>; Wed, 14 Aug 2024 13:34:24 +0200 (CEST)
Received: from mails.dpdk.org (localhost [127.0.0.1])
	by mails.dpdk.org (Postfix) with ESMTP id D9EFC40BA0;
	Wed, 14 Aug 2024 13:34:24 +0200 (CEST)
Received: from mail-pl1-f226.google.com (mail-pl1-f226.google.com
 [209.85.214.226])
 by mails.dpdk.org (Postfix) with ESMTP id 1249E40274
 for <test-report@dpdk.org>; Wed, 14 Aug 2024 13:34:24 +0200 (CEST)
Received: by mail-pl1-f226.google.com with SMTP id
 d9443c01a7336-1fc66fc35f2so6101135ad.0
 for <test-report@dpdk.org>; Wed, 14 Aug 2024 04:34:23 -0700 (PDT)
DKIM-Signature: v=1; a=rsa-sha256; c=relaxed/relaxed;
 d=iol.unh.edu; s=unh-iol; t=1723635263; x=1724240063; darn=dpdk.org;
 h=references:in-reply-to:cc:to:from:subject:message-id:date:from:to
 :cc:subject:date:message-id:reply-to;
 bh=bXgwipFvr8xKjazfXuOMchUX3/mnTQRao/V5y9FGWQ8=;
 b=EWHjN+or2iJ1+WwNbt9jxTYGcQQFrphH5K/5ScxB/+/NsAPMQMdEkKllXPQ0cROJfG
 HSHNX8h5bekUQXsLyqApiYfHVEKUAkPC+cd5MOvJR0InbhrckdgKA7mDwgdox6f9NOD3
 oj4wH4qvFjxfwtrdM7KZ1cyRPSPj+L8lwoQbA=
X-Google-DKIM-Signature: v=1; a=rsa-sha256; c=relaxed/relaxed;
 d=1e100.net; s=20230601; t=1723635263; x=1724240063;
 h=references:in-reply-to:cc:to:from:subject:message-id:date
 :x-gm-message-state:from:to:cc:subject:date:message-id:reply-to;
 bh=bXgwipFvr8xKjazfXuOMchUX3/mnTQRao/V5y9FGWQ8=;
 b=qtkzYlhjeSnEfPNQjn8JQO5SeWmyy5ftdYhUtyWvr/yB0MG87NwkFxw3scZscu4uYt
 hHfpxJhX33uJ7Tz/c/HSEbwJcgCXgRwN+8A2vDdZcsldmkEUVpQGD1ws9zRrl6idDK7c
 nJRh6tgsZ7VOnnCv8Y6lE3Gc1zAzqBWNPPGvlUuqxZFfCZpyxucOfDbCa9SmA84hxJOD
 ICLxfFyS5oO+xQTAmLzgAep8xfgHHRW375mLm8nzQ4fMf1x3iuXl9Z6GpKXpqpNhJdHa
 YgiPXBnQVg04ob9upmgmoHfpEMF8kyhxnwVyRlaAoadunVMFgB8vCRkBfcHP/nlj9Hp5
 a0ew==
X-Gm-Message-State: AOJu0YyXOkBdinNhczkwliXzhMeFciG/Q1BVwXbjWvsdi4+DHzyHTw6e
 lM+Q561qZVHOalHiMWYzCw7NNknfeE29pxTbKPcsmPeLrnvtgdF67lgk5jfduXKyKIHsuaOtHK3
 AeiFcMjHsnKXpZTf9m60dE9dcZQcwpHNe+A7yMbTXGHOcqKHRVkQ4zGlI
X-Google-Smtp-Source: AGHT+IETktztoOSNEj3WRpt8aPKSvgyhEJR0z0+DtW6JiB0Ag0+uK6YO1Qr+GvfbjSkE56dQPKJKP1dE0cNP
X-Received: by 2002:a17:902:fc8f:b0:1ff:43a8:22f2 with SMTP id
 d9443c01a7336-201cbc6134emr63770445ad.24.1723635263140; 
 Wed, 14 Aug 2024 04:34:23 -0700 (PDT)
Received: from postal.iol.unh.edu (postal.iol.unh.edu.
 [2606:4100:3880:1234::84]) by smtp-relay.gmail.com with ESMTPS id
 d9443c01a7336-201cd36e48bsm2237015ad.143.2024.08.14.04.34.23
 (version=TLS1_2 cipher=ECDHE-ECDSA-AES128-GCM-SHA256 bits=128/128);
 Wed, 14 Aug 2024 04:34:23 -0700 (PDT)
X-Relaying-Domain: iol.unh.edu
Date: Wed, 14 Aug 2024 04:34:23 -0700 (PDT)
Message-ID: <66bc963f.170a0220.2b71b4.9b97SMTPIN_ADDED_MISSING@mx.google.com>
Received: from [172.21.0.6] (unknown [172.18.0.240])
 by postal.iol.unh.edu (Postfix) with ESMTP id 76B156052500;
 Wed, 14 Aug 2024 07:34:22 -0400 (EDT)
Subject: |PENDING| pw143123-143148 [PATCH] [RFC,v2,26/26] config: add compute
From: dpdklab@iol.unh.edu
To: Test Report <test-report@dpdk.org>
Cc: dpdk-test-reports@iol.unh.edu
In-Reply-To: <20240813160003.423935-27-bruce.richards@intel.com>
References: <20240813160003.423935-27-bruce.richards@intel.com>
Content-Type: text/plain
X-BeenThere: test-report@dpdk.org
X-Mailman-Version: 2.1.29
Precedence: list
List-Id: automatic DPDK test reports <test-report.dpdk.org>
List-Unsubscribe: <https://mails.dpdk.org/options/test-report>,
 <mailto:test-report-request@dpdk.org?subject=unsubscribe>
List-Archive: <http://mails.dpdk.org/archives/test-report/>
List-Post: <mailto:test-report@dpdk.org>
List-Help: <mailto:test-report-request@dpdk.org?subject=help>
List-Subscribe: <https://mails.dpdk.org/listinfo/test-report>,
 <mailto:test-report-request@dpdk.org?subject=subscribe>
Errors-To: test-report-bounces@dpdk.org

Test-Label: iol-compile-arm64-testing
Test-Status: PENDING
http://dpdk.org/patch/143148

_Testing pending_

Submitter: Bruce Richardson <bruce.richards@intel.com>
Date: Tuesday, August 13 2024 16:00:03 
DPDK git baseline: Repo:dpdk
  Branch: master
  CommitID:cb9187bc5c2b4bab0ad80194ac3b60491de14e8c

143123-143148 --> testing pending

Upstream job id: Generic-DPDK-Compile-Meson#288397

Test environment and result as below:

+----------------------------------------+--------------------+
|              Environment               | dpdk_meson_compile |
+========================================+====================+
| RHEL9 (ARM)                            | PASS               |
+----------------------------------------+--------------------+
| Ubuntu 20.04 ARM GCC Cross Compile     | PEND               |
+----------------------------------------+--------------------+
| Ubuntu 20.04 ARM SVE                   | PASS               |
+----------------------------------------+--------------------+
| Fedora 37 (ARM)                        | PEND               |
+----------------------------------------+--------------------+
| Fedora 38 (ARM)                        | PASS               |
+----------------------------------------+--------------------+
| Debian 12 with MUSDK                   | PASS               |
+----------------------------------------+--------------------+
| Fedora 39 (ARM)                        | PASS               |
+----------------------------------------+--------------------+
| Fedora 38 (ARM Clang)                  | PEND               |
+----------------------------------------+--------------------+
| Fedora 39 (ARM Clang)                  | PEND               |
+----------------------------------------+--------------------+
| Fedora 40 (ARM)                        | PASS               |
+----------------------------------------+--------------------+
| Fedora 40 (ARM Clang)                  | PEND               |
+----------------------------------------+--------------------+
| Ubuntu 22.04 (ARM)                     | PEND               |
+----------------------------------------+--------------------+
| Ubuntu 24.04 (ARM)                     | PEND               |
+----------------------------------------+--------------------+
| CentOS Stream 9 (ARM)                  | PEND               |
+----------------------------------------+--------------------+
| Debian 11 (Buster) (ARM)               | PEND               |
+----------------------------------------+--------------------+
| Debian 12 (arm)                        | PEND               |
+----------------------------------------+--------------------+
| Ubuntu 20.04 ARM Clang Cross Compile   | PEND               |
+----------------------------------------+--------------------+
| Ubuntu 20.04 aarch32 GCC Cross Compile | PASS               |
+----------------------------------------+--------------------+


RHEL9 (ARM)
	Kernel: Depends on container host
	Compiler: gcc 11.4.1

Ubuntu 20.04 ARM GCC Cross Compile
	Kernel: 5.4.0-167-generic
	Compiler: aarch64-linux-gnu-gcc (Ubuntu 9.4.0-1ubuntu1~20.04.2) 9.4.0

Ubuntu 20.04 ARM SVE
	Kernel: 5.4.0-167-generic
	Compiler: gcc (Ubuntu 10.5.0-1ubuntu1~20.04) 10.5.0

Fedora 37 (ARM)
	Kernel: Depends on container host
	Compiler: gcc 12.3.1

Fedora 38 (ARM)
	Kernel: Depends on container host
	Compiler: gcc 13.2.1

Debian 12 with MUSDK
	Kernel: Container Host Kernel
	Compiler: gcc 12.2.0

Fedora 39 (ARM)
	Kernel: Depends on container host
	Compiler: gcc 13.2.1

Fedora 38 (ARM Clang)
	Kernel: Depends on container host
	Compiler: clang 16.0.6

Fedora 39 (ARM Clang)
	Kernel: Depends on container host
	Compiler: clang 17.0.6

Fedora 40 (ARM)
	Kernel: Depends on container host
	Compiler: gcc 14.1.1

Fedora 40 (ARM Clang)
	Kernel: Depends on container host
	Compiler: clang 18.1.6

Ubuntu 22.04 (ARM)
	Kernel: Container Host Kernel
	Compiler: gcc 11.4.0

Ubuntu 24.04 (ARM)
	Kernel: 5.4.0-167-generic
	Compiler: gcc 13.2.0

CentOS Stream 9 (ARM)
	Kernel: Container Host Kernel
	Compiler: gcc 11.4.1

Debian 11 (Buster) (ARM)
	Kernel: Container Host Kernel
	Compiler: gcc 10.2.1

Debian 12 (arm)
	Kernel: Container Host Kernel
	Compiler: gcc 12.2.0

Ubuntu 20.04 ARM Clang Cross Compile
	Kernel: 5.4.0-72-generic
	Compiler: clang 10.0.0-4ubuntu1

Ubuntu 20.04 aarch32 GCC Cross Compile
	Kernel: 5.4.0-167-generic
	Compiler: gcc 9.4.0

To view detailed results, visit:
https://lab.dpdk.org/results/dashboard/patchsets/30789/

UNH-IOL DPDK Community Lab

To manage your email subscriptions, visit: 
https://lab.dpdk.org/results/dashboard/preferences/subscriptions/