From mboxrd@z Thu Jan  1 00:00:00 1970
Return-Path: <test-report-bounces@dpdk.org>
Received: from mails.dpdk.org (mails.dpdk.org [217.70.189.124])
	by inbox.dpdk.org (Postfix) with ESMTP id 42D1D457C2
	for <public@inbox.dpdk.org>; Wed, 14 Aug 2024 13:40:52 +0200 (CEST)
Received: from mails.dpdk.org (localhost [127.0.0.1])
	by mails.dpdk.org (Postfix) with ESMTP id 3E32640BA0;
	Wed, 14 Aug 2024 13:40:52 +0200 (CEST)
Received: from mail-qv1-f97.google.com (mail-qv1-f97.google.com
 [209.85.219.97]) by mails.dpdk.org (Postfix) with ESMTP id 1EC2840274
 for <test-report@dpdk.org>; Wed, 14 Aug 2024 13:40:50 +0200 (CEST)
Received: by mail-qv1-f97.google.com with SMTP id
 6a1803df08f44-6bf66fe9d8bso763396d6.0
 for <test-report@dpdk.org>; Wed, 14 Aug 2024 04:40:50 -0700 (PDT)
DKIM-Signature: v=1; a=rsa-sha256; c=relaxed/relaxed;
 d=iol.unh.edu; s=unh-iol; t=1723635649; x=1724240449; darn=dpdk.org;
 h=references:in-reply-to:cc:to:from:subject:message-id:date:from:to
 :cc:subject:date:message-id:reply-to;
 bh=piuzNrPlNI8cIf9gdRY7WW8hIS3BBYG0wcIVipSfya8=;
 b=Y6VmnFYaP+e+tMLC44F5Wl5LzPJv7Q2zgZMbAU3OmMWD0EvLgWx4oucPWahSfav/gb
 uTHyP6nYLunJMG9mzpxF8jTmCaQm6SB15nnrVrqYvGd9ju/zUv5j97xQsa5JKTglZJPb
 tKgQK0Y3o/JkZKtQveQbpJQnTh6LNSVGdyCEg=
X-Google-DKIM-Signature: v=1; a=rsa-sha256; c=relaxed/relaxed;
 d=1e100.net; s=20230601; t=1723635649; x=1724240449;
 h=references:in-reply-to:cc:to:from:subject:message-id:date
 :x-gm-message-state:from:to:cc:subject:date:message-id:reply-to;
 bh=piuzNrPlNI8cIf9gdRY7WW8hIS3BBYG0wcIVipSfya8=;
 b=hbANHYg6JTnY3N688dOWjZjS8N+9L+6//VrzeEK0OzT01QsN//VmYoGYEADcZW8X1f
 WTE2y5aEp+9XoteHpZJlzKcWMt0zVbf3v6DP4zaVZuWbXd7aMcgjQ+NddH5SjbIurTdp
 smxH9NqwWdmQy1eDUJS2STfIjfixKEPjAoJW+V4sKOvJlBQ57SyAimOgiz0EqybyNlnn
 /hfpDN7augSsIfw7zTrO6G78N4u2pwKVoynBLNW+1jc96pdvF7a0jX+G8R52DKjImhZ+
 tez71Fv6W0uwoXGzv9WNrhV4oVrOneJ0WwaGgywLSxiJcmx+5/S4A59y7g35nCNGeROz
 SLJg==
X-Gm-Message-State: AOJu0Yy1PLSjJJgZs3ZONESsCx90FSKyoIQKrWq0HO8C5CAPsvbFTuaZ
 DbQ5EmLVLNHKGd5qIbCFs5ztKW0l1Xp7E0Zbn3amtRT9AHnX9XBa3Dui6/49baeOuPvXjmqsRi/
 lWkmRyTI7wTWj9tF25KH+a4KVBRCT2KeuRNBHRzqD
X-Google-Smtp-Source: AGHT+IFdQNj4wkoJPMEOkeEJVnGjMVrvGNmAqPad0bgpgiEeezEirMovNjHw8xMc+vMhu9kaPTpS5MHhOEhV
X-Received: by 2002:a05:6214:33c8:b0:6b5:53a7:74b3 with SMTP id
 6a1803df08f44-6bf5d18271dmr32189086d6.15.1723635649504; 
 Wed, 14 Aug 2024 04:40:49 -0700 (PDT)
Received: from postal.iol.unh.edu (postal.iol.unh.edu. [132.177.123.84])
 by smtp-relay.gmail.com with ESMTPS id
 6a1803df08f44-6bd82e6684dsm3794966d6.59.2024.08.14.04.40.49
 (version=TLS1_2 cipher=ECDHE-ECDSA-AES128-GCM-SHA256 bits=128/128);
 Wed, 14 Aug 2024 04:40:49 -0700 (PDT)
X-Relaying-Domain: iol.unh.edu
Date: Wed, 14 Aug 2024 04:40:49 -0700 (PDT)
Message-ID: <66bc97c1.0c0a0220.2262a2.1f8bSMTPIN_ADDED_MISSING@mx.google.com>
Received: from [172.21.0.6] (unknown [172.18.0.240])
 by postal.iol.unh.edu (Postfix) with ESMTP id 3EC256052500;
 Wed, 14 Aug 2024 07:40:49 -0400 (EDT)
Subject: |SUCCESS| pw143123-143148 [PATCH] [RFC,v2,26/26] config: add compute
From: dpdklab@iol.unh.edu
To: Test Report <test-report@dpdk.org>
Cc: dpdk-test-reports@iol.unh.edu
In-Reply-To: <20240813160003.423935-27-bruce.richards@intel.com>
References: <20240813160003.423935-27-bruce.richards@intel.com>
Content-Type: text/plain
X-BeenThere: test-report@dpdk.org
X-Mailman-Version: 2.1.29
Precedence: list
List-Id: automatic DPDK test reports <test-report.dpdk.org>
List-Unsubscribe: <https://mails.dpdk.org/options/test-report>,
 <mailto:test-report-request@dpdk.org?subject=unsubscribe>
List-Archive: <http://mails.dpdk.org/archives/test-report/>
List-Post: <mailto:test-report@dpdk.org>
List-Help: <mailto:test-report-request@dpdk.org?subject=help>
List-Subscribe: <https://mails.dpdk.org/listinfo/test-report>,
 <mailto:test-report-request@dpdk.org?subject=subscribe>
Errors-To: test-report-bounces@dpdk.org

Test-Label: iol-unit-amd64-testing
Test-Status: SUCCESS
http://dpdk.org/patch/143148

_Testing PASS_

Submitter: Bruce Richardson <bruce.richards@intel.com>
Date: Tuesday, August 13 2024 16:00:03 
DPDK git baseline: Repo:dpdk
  Branch: master
  CommitID:cb9187bc5c2b4bab0ad80194ac3b60491de14e8c

143123-143148 --> testing pass

Upstream job id: Generic-Unit-Test-DPDK#252153

Test environment and result as below:

+---------------------+----------------+
|     Environment     | dpdk_unit_test |
+=====================+================+
| Windows Server 2019 | PASS           |
+---------------------+----------------+
| Windows Server 2022 | PASS           |
+---------------------+----------------+
| CentOS Stream 9     | PASS           |
+---------------------+----------------+
| Debian Bullseye     | PASS           |
+---------------------+----------------+
| Debian 12           | PASS           |
+---------------------+----------------+
| Fedora 37           | PASS           |
+---------------------+----------------+
| Fedora 38           | PASS           |
+---------------------+----------------+
| Fedora 38 (Clang)   | PASS           |
+---------------------+----------------+
| Fedora 39           | PASS           |
+---------------------+----------------+
| Fedora 39 (Clang)   | PASS           |
+---------------------+----------------+
| Fedora 40           | PASS           |
+---------------------+----------------+
| Fedora 40 (Clang)   | PASS           |
+---------------------+----------------+
| openSUSE Leap 15    | PASS           |
+---------------------+----------------+
| RHEL8               | PASS           |
+---------------------+----------------+
| RHEL9               | PASS           |
+---------------------+----------------+
| Ubuntu 20.04        | PASS           |
+---------------------+----------------+
| Ubuntu 22.04        | PASS           |
+---------------------+----------------+
| Ubuntu 24.04        | PASS           |
+---------------------+----------------+


Windows Server 2019
	Kernel: 10.0.17763
	Compiler: clang 14.0 and gcc 8.1.0 (MinGW)

Windows Server 2022
	Kernel: 10.0.20348.2031
	Compiler: clang 15.0.7, gcc 8.1.0 (MinGW), and MSVC VS 17.9

CentOS Stream 9
	Kernel: 5.4.0-167-generic
	Compiler: gcc 11.4.1 20230605

Debian Bullseye
	Kernel: 5.4.0-167-generic
	Compiler: gcc 10.2.1-6

Debian 12
	Kernel: Container Host Kernel
	Compiler: gcc 12.2.0

Fedora 37
	Kernel: Depends on container host system
	Compiler: gcc 12.3.1

Fedora 38
	Kernel: Depends on container host
	Compiler: gcc 13.2.1

Fedora 38 (Clang)
	Kernel: Depends on container host
	Compiler: clang 16.0.6

Fedora 39
	Kernel: Depends on container host
	Compiler: gcc 13.2.1

Fedora 39 (Clang)
	Kernel: Depends on container host
	Compiler: clang 17.0.6

Fedora 40
	Kernel: Depends on container host
	Compiler: gcc 14.1.1

Fedora 40 (Clang)
	Kernel: Depends on container host
	Compiler: clang 18.1.6

openSUSE Leap 15
	Kernel: 5.4.0-167-generic
	Compiler: gcc 7.5.0

RHEL8
	Kernel: 5.4.0-167-generic
	Compiler: gcc 8.5.0 20210514 (Red Hat 8.5.0-20)

RHEL9
	Kernel: Depends on container host
	Compiler: gcc 11.4.1

Ubuntu 20.04
	Kernel: 5.4.0-167-generic
	Compiler: gcc 9.4.0-1ubuntu1~20.04.1

Ubuntu 22.04
	Kernel: 5.4.0-167-generic
	Compiler: gcc 11.4.0

Ubuntu 24.04
	Kernel: 5.4.0-167-generic
	Compiler: gcc 13.2.0

To view detailed results, visit:
https://lab.dpdk.org/results/dashboard/patchsets/30789/

UNH-IOL DPDK Community Lab

To manage your email subscriptions, visit: 
https://lab.dpdk.org/results/dashboard/preferences/subscriptions/