From mboxrd@z Thu Jan  1 00:00:00 1970
Return-Path: <test-report-bounces@dpdk.org>
Received: from mails.dpdk.org (mails.dpdk.org [217.70.189.124])
	by inbox.dpdk.org (Postfix) with ESMTP id 710D6457C2
	for <public@inbox.dpdk.org>; Wed, 14 Aug 2024 13:56:08 +0200 (CEST)
Received: from mails.dpdk.org (localhost [127.0.0.1])
	by mails.dpdk.org (Postfix) with ESMTP id 4AA8040BA0;
	Wed, 14 Aug 2024 13:56:08 +0200 (CEST)
Received: from mail-yb1-f226.google.com (mail-yb1-f226.google.com
 [209.85.219.226])
 by mails.dpdk.org (Postfix) with ESMTP id 3EB4240274
 for <test-report@dpdk.org>; Wed, 14 Aug 2024 13:56:06 +0200 (CEST)
Received: by mail-yb1-f226.google.com with SMTP id
 3f1490d57ef6-e04196b7603so6591385276.0
 for <test-report@dpdk.org>; Wed, 14 Aug 2024 04:56:06 -0700 (PDT)
DKIM-Signature: v=1; a=rsa-sha256; c=relaxed/relaxed;
 d=iol.unh.edu; s=unh-iol; t=1723636565; x=1724241365; darn=dpdk.org;
 h=references:in-reply-to:cc:to:from:subject:message-id:date:from:to
 :cc:subject:date:message-id:reply-to;
 bh=PFzfzaruBlrz7zhiwoRGITxKKxcTVE6E/u+Sa+M0eKk=;
 b=KJm/9b94LNXcVPqVnzGoKyr9ByT58IhHK46WMN1mqzmQiIgNLDg8dNCrPvAOs6uUuY
 /lONJjIknl342U3UpRmYlokaiIMDweA79ylkP7w/UnfI7giDgdV2YIDANNS6v26SmN/b
 9oHiswSQGkrUWjHYsVzltKU5Lum6welCCMlNw=
X-Google-DKIM-Signature: v=1; a=rsa-sha256; c=relaxed/relaxed;
 d=1e100.net; s=20230601; t=1723636565; x=1724241365;
 h=references:in-reply-to:cc:to:from:subject:message-id:date
 :x-gm-message-state:from:to:cc:subject:date:message-id:reply-to;
 bh=PFzfzaruBlrz7zhiwoRGITxKKxcTVE6E/u+Sa+M0eKk=;
 b=Bi/Vkz5GMsx3YCkvrYeduZ/bswvZZn2XvJYxWEx3/ZNX8XfOSIKa9fpdOKotQmo+hS
 55ke9em3E0PKcjjzSIIm0tVKKSkld5FOG7CSw6HVf9rXWBhqvbJNFrVQ5BAEMGUaRobE
 gkm6Dc2phi9y+XMwfglqN1y56qVbdoyOFW8wGz1DxewXTfvRSLrvtlVMUY0NZdZvEu1l
 XxE5uDm3FzO1IQsiNeY+aLZE5d8MFPbh5Za0xANvjz9GCzdGEmxDhtBH6EM6eN6W4kwi
 gW8SvoWJxOXNRV7sh43Pc4YVhswzemRgrNeR2b7xsC38qFXWe7khp7YJIqG+L/qnOdbH
 F2rg==
X-Gm-Message-State: AOJu0Ywi0OH16MYn0Bc+ekcHgoXvWSdVwPWD5ruAL4pQFAlDPWeUiAnf
 VFNV7HXnUiSniXk7Irt1F+lYkuGMLG31W0Lqw7oo9bp6Lz1tCM1ohu1PTQ4mNxnUVjkRqsIXWQm
 byiXjUJChlI1gYb30zDLJdDkl9/getiCYj7dpM6fZs/DCcVNGMv5sYLj0
X-Google-Smtp-Source: AGHT+IETOKQDy7MCqYg05I7KzjJd6tJT52YLRJwlVGvIT2HR+mO5awnSi8fNE0Byp2s548hWHD/5fYboIFkg
X-Received: by 2002:a05:6902:84a:b0:e05:fea8:4c77 with SMTP id
 3f1490d57ef6-e1155aa39b7mr3049618276.14.1723636565509; 
 Wed, 14 Aug 2024 04:56:05 -0700 (PDT)
Received: from postal.iol.unh.edu (postal.iol.unh.edu.
 [2606:4100:3880:1234::84]) by smtp-relay.gmail.com with ESMTPS id
 6a1803df08f44-6bd82e84e52sm3848216d6.76.2024.08.14.04.56.05
 (version=TLS1_2 cipher=ECDHE-ECDSA-AES128-GCM-SHA256 bits=128/128);
 Wed, 14 Aug 2024 04:56:05 -0700 (PDT)
X-Relaying-Domain: iol.unh.edu
Date: Wed, 14 Aug 2024 04:56:05 -0700 (PDT)
Message-ID: <66bc9b55.0c0a0220.31b11b.3b95SMTPIN_ADDED_MISSING@mx.google.com>
Received: from [172.17.0.2] (unknown [172.18.0.217])
 by postal.iol.unh.edu (Postfix) with ESMTP id 30B5D6052500;
 Wed, 14 Aug 2024 07:56:05 -0400 (EDT)
Subject: |PENDING| pw143122 [PATCH] [v2] net/bnxt: fix issue reading sff8436 
From: dpdklab@iol.unh.edu
To: Test Report <test-report@dpdk.org>
Cc: dpdk-test-reports@iol.unh.edu
In-Reply-To: <20240812103405.2041816-1-pdmorrow@gmail.com>
References: <20240812103405.2041816-1-pdmorrow@gmail.com>
Content-Type: text/plain
X-BeenThere: test-report@dpdk.org
X-Mailman-Version: 2.1.29
Precedence: list
List-Id: automatic DPDK test reports <test-report.dpdk.org>
List-Unsubscribe: <https://mails.dpdk.org/options/test-report>,
 <mailto:test-report-request@dpdk.org?subject=unsubscribe>
List-Archive: <http://mails.dpdk.org/archives/test-report/>
List-Post: <mailto:test-report@dpdk.org>
List-Help: <mailto:test-report-request@dpdk.org?subject=help>
List-Subscribe: <https://mails.dpdk.org/listinfo/test-report>,
 <mailto:test-report-request@dpdk.org?subject=subscribe>
Errors-To: test-report-bounces@dpdk.org

Test-Label: iol-compile-amd64-testing
Test-Status: PENDING
http://dpdk.org/patch/143122

_Testing pending_

Submitter: Peter Morrow <pdmorrow@gmail.com>
Date: Monday, August 12 2024 10:34:05 
DPDK git baseline: Repo:dpdk
  Branch: master
  CommitID:b3485f4293997d35b6daecc3437bb0c183a51fb3

143122 --> testing pending

Upstream job id: Windows-Compile-DPDK-Native#21507

Test environment and result as below:

+---------------------+--------------------+------------------+-------------------+-----------------------+----------------------+-------------------+
|     Environment     | dpdk_meson_compile | dpdk_compile_ovs | dpdk_compile_spdk | dpdk_win_llvm_compile | dpdk_mingw64_compile | dpdk_msvc_compile |
+=====================+====================+==================+===================+=======================+======================+===================+
| CentOS Stream 9     | PASS               | PASS             | PASS              | SKIPPED               | SKIPPED              | SKIPPED           |
+---------------------+--------------------+------------------+-------------------+-----------------------+----------------------+-------------------+
| Debian Bullseye     | PEND               | PEND             | PEND              | SKIPPED               | SKIPPED              | SKIPPED           |
+---------------------+--------------------+------------------+-------------------+-----------------------+----------------------+-------------------+
| Fedora 38 (Clang)   | PEND               | PEND             | PEND              | SKIPPED               | SKIPPED              | SKIPPED           |
+---------------------+--------------------+------------------+-------------------+-----------------------+----------------------+-------------------+
| Debian 12           | PASS               | PASS             | PASS              | SKIPPED               | SKIPPED              | SKIPPED           |
+---------------------+--------------------+------------------+-------------------+-----------------------+----------------------+-------------------+
| Fedora 37           | PASS               | PASS             | PASS              | SKIPPED               | SKIPPED              | SKIPPED           |
+---------------------+--------------------+------------------+-------------------+-----------------------+----------------------+-------------------+
| Fedora 38           | PEND               | PEND             | PEND              | SKIPPED               | SKIPPED              | SKIPPED           |
+---------------------+--------------------+------------------+-------------------+-----------------------+----------------------+-------------------+
| Fedora 39 (Clang)   | PEND               | PEND             | PEND              | SKIPPED               | SKIPPED              | SKIPPED           |
+---------------------+--------------------+------------------+-------------------+-----------------------+----------------------+-------------------+
| Fedora 39           | PEND               | PEND             | PEND              | SKIPPED               | SKIPPED              | SKIPPED           |
+---------------------+--------------------+------------------+-------------------+-----------------------+----------------------+-------------------+
| Fedora 40 (Clang)   | PEND               | PEND             | PEND              | SKIPPED               | SKIPPED              | SKIPPED           |
+---------------------+--------------------+------------------+-------------------+-----------------------+----------------------+-------------------+
| Fedora 40           | PEND               | PEND             | PEND              | SKIPPED               | SKIPPED              | SKIPPED           |
+---------------------+--------------------+------------------+-------------------+-----------------------+----------------------+-------------------+
| openSUSE Leap 15    | PASS               | PEND             | SKIPPED           | SKIPPED               | SKIPPED              | SKIPPED           |
+---------------------+--------------------+------------------+-------------------+-----------------------+----------------------+-------------------+
| RHEL8               | PEND               | PEND             | SKIPPED           | SKIPPED               | SKIPPED              | SKIPPED           |
+---------------------+--------------------+------------------+-------------------+-----------------------+----------------------+-------------------+
| RHEL9               | PASS               | PASS             | SKIPPED           | SKIPPED               | SKIPPED              | SKIPPED           |
+---------------------+--------------------+------------------+-------------------+-----------------------+----------------------+-------------------+
| Ubuntu 20.04        | PEND               | PEND             | SKIPPED           | SKIPPED               | SKIPPED              | SKIPPED           |
+---------------------+--------------------+------------------+-------------------+-----------------------+----------------------+-------------------+
| Ubuntu 22.04        | PEND               | PEND             | PEND              | SKIPPED               | SKIPPED              | SKIPPED           |
+---------------------+--------------------+------------------+-------------------+-----------------------+----------------------+-------------------+
| Ubuntu 24.04        | PEND               | PEND             | PEND              | SKIPPED               | SKIPPED              | SKIPPED           |
+---------------------+--------------------+------------------+-------------------+-----------------------+----------------------+-------------------+
| Alpine              | PEND               | PEND             | SKIPPED           | SKIPPED               | SKIPPED              | SKIPPED           |
+---------------------+--------------------+------------------+-------------------+-----------------------+----------------------+-------------------+
| FreeBSD 13.3        | PASS               | SKIPPED          | SKIPPED           | SKIPPED               | SKIPPED              | SKIPPED           |
+---------------------+--------------------+------------------+-------------------+-----------------------+----------------------+-------------------+
| FreeBSD 14.1        | PASS               | SKIPPED          | SKIPPED           | SKIPPED               | SKIPPED              | SKIPPED           |
+---------------------+--------------------+------------------+-------------------+-----------------------+----------------------+-------------------+
| Windows Server 2022 | SKIPPED            | SKIPPED          | SKIPPED           | PASS                  | PASS                 | PASS              |
+---------------------+--------------------+------------------+-------------------+-----------------------+----------------------+-------------------+


CentOS Stream 9
	Kernel: 5.4.0-167-generic
	Compiler: gcc 11.4.1 20230605

Debian Bullseye
	Kernel: 5.4.0-167-generic
	Compiler: gcc 10.2.1-6

Fedora 38 (Clang)
	Kernel: Depends on container host
	Compiler: clang 16.0.6

Debian 12
	Kernel: Container Host Kernel
	Compiler: gcc 12.2.0

Fedora 37
	Kernel: Depends on container host system
	Compiler: gcc 12.3.1

Fedora 38
	Kernel: Depends on container host
	Compiler: gcc 13.2.1

Fedora 39 (Clang)
	Kernel: Depends on container host
	Compiler: clang 17.0.6

Fedora 39
	Kernel: Depends on container host
	Compiler: gcc 13.2.1

Fedora 40 (Clang)
	Kernel: Depends on container host
	Compiler: clang 18.1.6

Fedora 40
	Kernel: Depends on container host
	Compiler: gcc 14.1.1

openSUSE Leap 15
	Kernel: 5.4.0-167-generic
	Compiler: gcc 7.5.0

RHEL8
	Kernel: 5.4.0-167-generic
	Compiler: gcc 8.5.0 20210514 (Red Hat 8.5.0-20)

RHEL9
	Kernel: Depends on container host
	Compiler: gcc 11.4.1

Ubuntu 20.04
	Kernel: 5.4.0-167-generic
	Compiler: gcc 9.4.0-1ubuntu1~20.04.1

Ubuntu 22.04
	Kernel: 5.4.0-167-generic
	Compiler: gcc 11.4.0

Ubuntu 24.04
	Kernel: 5.4.0-167-generic
	Compiler: gcc 13.2.0

Alpine
	Kernel: 5.4.0-167-generic
	Compiler: gcc (Alpine 13.2.1_git20231014) 13.2.1 20231014

FreeBSD 13.3
	Kernel: 13.3-RELEASE-p1
	Compiler: clang 17.0.6

FreeBSD 14.1
	Kernel: 14.1
	Compiler: clang 18.1.5

Windows Server 2022
	Kernel: 10.0.20348.2031
	Compiler: clang 15.0.7, gcc 8.1.0 (MinGW), and MSVC VS 17.9

To view detailed results, visit:
https://lab.dpdk.org/results/dashboard/patchsets/30788/

UNH-IOL DPDK Community Lab

To manage your email subscriptions, visit: 
https://lab.dpdk.org/results/dashboard/preferences/subscriptions/