From mboxrd@z Thu Jan  1 00:00:00 1970
Return-Path: <test-report-bounces@dpdk.org>
Received: from mails.dpdk.org (mails.dpdk.org [217.70.189.124])
	by inbox.dpdk.org (Postfix) with ESMTP id 4A7B0457C3
	for <public@inbox.dpdk.org>; Wed, 14 Aug 2024 14:53:41 +0200 (CEST)
Received: from mails.dpdk.org (localhost [127.0.0.1])
	by mails.dpdk.org (Postfix) with ESMTP id 3019A40647;
	Wed, 14 Aug 2024 14:53:41 +0200 (CEST)
Received: from mail-il1-f226.google.com (mail-il1-f226.google.com
 [209.85.166.226])
 by mails.dpdk.org (Postfix) with ESMTP id F2F5C40274
 for <test-report@dpdk.org>; Wed, 14 Aug 2024 14:53:39 +0200 (CEST)
Received: by mail-il1-f226.google.com with SMTP id
 e9e14a558f8ab-39b3c36d3adso23707815ab.1
 for <test-report@dpdk.org>; Wed, 14 Aug 2024 05:53:39 -0700 (PDT)
DKIM-Signature: v=1; a=rsa-sha256; c=relaxed/relaxed;
 d=iol.unh.edu; s=unh-iol; t=1723640019; x=1724244819; darn=dpdk.org;
 h=references:in-reply-to:cc:to:from:subject:message-id:date:from:to
 :cc:subject:date:message-id:reply-to;
 bh=Y6baht6SRCLwZ5T2G2DmPdbbWD+tOL3j3hAebY6VxS8=;
 b=b40cPZwpyWitdB/JqhmKl7+15ZD40lcUfqc1BI8Q0YdCAZPlzOJNXOonssk5ABLKii
 KQJ35TSBDaUZ8THrqGLndu+AVdOQn8gFmN2wv5+JIfynJXD0woaeddxgI1YieqmbSNBX
 mJS7/74f0RSmhfsvG+U4gHs3N4SGYMrweB67A=
X-Google-DKIM-Signature: v=1; a=rsa-sha256; c=relaxed/relaxed;
 d=1e100.net; s=20230601; t=1723640019; x=1724244819;
 h=references:in-reply-to:cc:to:from:subject:message-id:date
 :x-gm-message-state:from:to:cc:subject:date:message-id:reply-to;
 bh=Y6baht6SRCLwZ5T2G2DmPdbbWD+tOL3j3hAebY6VxS8=;
 b=MhO+Si4gYEo4dK7YdSGouGAJBfpD8tjMoYZ4C+mbJUyi3fbavzeKpTwqlCXoLto9JT
 CpgNsV+BzeJkJtEjj5OY/pAzATlKefINdHPI8Z1OVD0tAEAfuzWfpDFrfxQ+89P+gSWB
 p39cElYBKQT/fAUYX8kud2mIMshdOy8nxW86JbpQe8NUKe/sCbRDL3og5V7WuoFN+/Ae
 A47neuZepKa+Cms53kJH2w0F1IwRqQKrhAwPSzwr5BLzHBxpZEvr2eKBqljwl4LnvYjp
 +3a3Hg/8p7WpsYwuy7GGkTEpFl1lB/HzblGvv7mg9ltGhFM2tuBVzz8yuornVBpJynzG
 dtYw==
X-Gm-Message-State: AOJu0YwugnL71aha9tKd9VkTB4Af1j8p5hRkWBaGoBthv4/yQer6I0fC
 7ZUu2frFDo83Naxo0kj8DDRyxKzCz1RInuU2EE/EMAl3bsxPG940Y7eXklsj+ZcJzcPELz1f8j0
 CDMLxGZxvsEXimDmPK6OiPNa735H4rwYe6OBv/W/PkURY0Lrf8ojDpPT/
X-Google-Smtp-Source: AGHT+IHV1GOk2Y2Gckyk0mm3ZB6AD9XUrbqpMipO8ITrRaIyjee40NatiT+tZcWwb2Fzx+bxLtw0grfOm1LP
X-Received: by 2002:a05:6e02:156e:b0:382:a077:b9e7 with SMTP id
 e9e14a558f8ab-39d124bfc52mr30882545ab.21.1723640019253; 
 Wed, 14 Aug 2024 05:53:39 -0700 (PDT)
Received: from postal.iol.unh.edu (postal.iol.unh.edu.
 [2606:4100:3880:1234::84]) by smtp-relay.gmail.com with ESMTPS id
 e9e14a558f8ab-39c30a9e033sm4773445ab.17.2024.08.14.05.53.39
 (version=TLS1_2 cipher=ECDHE-ECDSA-AES128-GCM-SHA256 bits=128/128);
 Wed, 14 Aug 2024 05:53:39 -0700 (PDT)
X-Relaying-Domain: iol.unh.edu
Date: Wed, 14 Aug 2024 05:53:39 -0700 (PDT)
Message-ID: <66bca8d3.920a0220.3c09d.99faSMTPIN_ADDED_MISSING@mx.google.com>
Received: from [172.21.0.6] (unknown [172.18.0.240])
 by postal.iol.unh.edu (Postfix) with ESMTP id 9F6A26052500;
 Wed, 14 Aug 2024 08:53:38 -0400 (EDT)
Subject: |PENDING| pw143122 [PATCH] [v2] net/bnxt: fix issue reading sff8436 
From: dpdklab@iol.unh.edu
To: Test Report <test-report@dpdk.org>
Cc: dpdk-test-reports@iol.unh.edu
In-Reply-To: <20240812103405.2041816-1-pdmorrow@gmail.com>
References: <20240812103405.2041816-1-pdmorrow@gmail.com>
Content-Type: text/plain
X-BeenThere: test-report@dpdk.org
X-Mailman-Version: 2.1.29
Precedence: list
List-Id: automatic DPDK test reports <test-report.dpdk.org>
List-Unsubscribe: <https://mails.dpdk.org/options/test-report>,
 <mailto:test-report-request@dpdk.org?subject=unsubscribe>
List-Archive: <http://mails.dpdk.org/archives/test-report/>
List-Post: <mailto:test-report@dpdk.org>
List-Help: <mailto:test-report-request@dpdk.org?subject=help>
List-Subscribe: <https://mails.dpdk.org/listinfo/test-report>,
 <mailto:test-report-request@dpdk.org?subject=subscribe>
Errors-To: test-report-bounces@dpdk.org

Test-Label: iol-unit-amd64-testing
Test-Status: PENDING
http://dpdk.org/patch/143122

_Testing pending_

Submitter: Peter Morrow <pdmorrow@gmail.com>
Date: Monday, August 12 2024 10:34:05 
DPDK git baseline: Repo:dpdk
  Branch: master
  CommitID:b3485f4293997d35b6daecc3437bb0c183a51fb3

143122 --> testing pending

Upstream job id: Generic-Unit-Test-DPDK#252180

Test environment and result as below:

+---------------------+----------------+
|     Environment     | dpdk_unit_test |
+=====================+================+
| Windows Server 2019 | PASS           |
+---------------------+----------------+
| Windows Server 2022 | PASS           |
+---------------------+----------------+
| CentOS Stream 9     | PASS           |
+---------------------+----------------+
| Debian Bullseye     | PASS           |
+---------------------+----------------+
| Debian 12           | PASS           |
+---------------------+----------------+
| Fedora 37           | PASS           |
+---------------------+----------------+
| Fedora 38           | PASS           |
+---------------------+----------------+
| Fedora 38 (Clang)   | PASS           |
+---------------------+----------------+
| Fedora 39           | PASS           |
+---------------------+----------------+
| Fedora 39 (Clang)   | PASS           |
+---------------------+----------------+
| Fedora 40           | PEND           |
+---------------------+----------------+
| Fedora 40 (Clang)   | PASS           |
+---------------------+----------------+
| openSUSE Leap 15    | PEND           |
+---------------------+----------------+
| RHEL8               | PEND           |
+---------------------+----------------+
| RHEL9               | PEND           |
+---------------------+----------------+
| Ubuntu 20.04        | PEND           |
+---------------------+----------------+
| Ubuntu 22.04        | PEND           |
+---------------------+----------------+
| Ubuntu 24.04        | PEND           |
+---------------------+----------------+


Windows Server 2019
	Kernel: 10.0.17763
	Compiler: clang 14.0 and gcc 8.1.0 (MinGW)

Windows Server 2022
	Kernel: 10.0.20348.2031
	Compiler: clang 15.0.7, gcc 8.1.0 (MinGW), and MSVC VS 17.9

CentOS Stream 9
	Kernel: 5.4.0-167-generic
	Compiler: gcc 11.4.1 20230605

Debian Bullseye
	Kernel: 5.4.0-167-generic
	Compiler: gcc 10.2.1-6

Debian 12
	Kernel: Container Host Kernel
	Compiler: gcc 12.2.0

Fedora 37
	Kernel: Depends on container host system
	Compiler: gcc 12.3.1

Fedora 38
	Kernel: Depends on container host
	Compiler: gcc 13.2.1

Fedora 38 (Clang)
	Kernel: Depends on container host
	Compiler: clang 16.0.6

Fedora 39
	Kernel: Depends on container host
	Compiler: gcc 13.2.1

Fedora 39 (Clang)
	Kernel: Depends on container host
	Compiler: clang 17.0.6

Fedora 40
	Kernel: Depends on container host
	Compiler: gcc 14.1.1

Fedora 40 (Clang)
	Kernel: Depends on container host
	Compiler: clang 18.1.6

openSUSE Leap 15
	Kernel: 5.4.0-167-generic
	Compiler: gcc 7.5.0

RHEL8
	Kernel: 5.4.0-167-generic
	Compiler: gcc 8.5.0 20210514 (Red Hat 8.5.0-20)

RHEL9
	Kernel: Depends on container host
	Compiler: gcc 11.4.1

Ubuntu 20.04
	Kernel: 5.4.0-167-generic
	Compiler: gcc 9.4.0-1ubuntu1~20.04.1

Ubuntu 22.04
	Kernel: 5.4.0-167-generic
	Compiler: gcc 11.4.0

Ubuntu 24.04
	Kernel: 5.4.0-167-generic
	Compiler: gcc 13.2.0

To view detailed results, visit:
https://lab.dpdk.org/results/dashboard/patchsets/30788/

UNH-IOL DPDK Community Lab

To manage your email subscriptions, visit: 
https://lab.dpdk.org/results/dashboard/preferences/subscriptions/