From mboxrd@z Thu Jan  1 00:00:00 1970
Return-Path: <test-report-bounces@dpdk.org>
Received: from mails.dpdk.org (mails.dpdk.org [217.70.189.124])
	by inbox.dpdk.org (Postfix) with ESMTP id 77D97457C3
	for <public@inbox.dpdk.org>; Wed, 14 Aug 2024 15:23:05 +0200 (CEST)
Received: from mails.dpdk.org (localhost [127.0.0.1])
	by mails.dpdk.org (Postfix) with ESMTP id 74384402C4;
	Wed, 14 Aug 2024 15:23:05 +0200 (CEST)
Received: from mail-oa1-f99.google.com (mail-oa1-f99.google.com
 [209.85.160.99]) by mails.dpdk.org (Postfix) with ESMTP id D81F640274
 for <test-report@dpdk.org>; Wed, 14 Aug 2024 15:23:03 +0200 (CEST)
Received: by mail-oa1-f99.google.com with SMTP id
 586e51a60fabf-268daf61e8bso2895067fac.0
 for <test-report@dpdk.org>; Wed, 14 Aug 2024 06:23:03 -0700 (PDT)
DKIM-Signature: v=1; a=rsa-sha256; c=relaxed/relaxed;
 d=iol.unh.edu; s=unh-iol; t=1723641783; x=1724246583; darn=dpdk.org;
 h=references:in-reply-to:cc:to:from:subject:message-id:date:from:to
 :cc:subject:date:message-id:reply-to;
 bh=H+oE7XW+G5TyrgHoeJXndkpnaBrT+YS+dzA3kFiuBTs=;
 b=F/sb+0jOUbdfPqdS2Bq1RMGhxgP6DDUf5EmJ7mIrkzYZGjKakyik5JHvhMiZjVB/Tw
 VJwROngYDqnkQGxzKFvMumV5fHfJPFoyaNuBC/hbd4m58WlfUZxor/MswSKQaBL8fQU2
 MW3MZQyoz57bu9EYVJwI5mj9IlgkjnCI2JukM=
X-Google-DKIM-Signature: v=1; a=rsa-sha256; c=relaxed/relaxed;
 d=1e100.net; s=20230601; t=1723641783; x=1724246583;
 h=references:in-reply-to:cc:to:from:subject:message-id:date
 :x-gm-message-state:from:to:cc:subject:date:message-id:reply-to;
 bh=H+oE7XW+G5TyrgHoeJXndkpnaBrT+YS+dzA3kFiuBTs=;
 b=ZfB7LU5ELCN2zWzU2SIdQRkkAYT5ApB5CuQ6oqP7IxFJFQR798zYAoeopl6j9kVYew
 fU8uD5RGiMqSiTBOj1QH/RDpotimab5Ch5YaZWjkhwbNbpdSiTz7LadFY8ubV1grHlc1
 D0nXxqP0BoSfT+wNljuz/FeuxHKdOy0fPsgYqvW8zR2W1I54Nc3PJ52NivEeQWaCKQmi
 yFv9cgRtQeTibef3dyK49XFKD8BmIMNEPTlhkuDlq47sTJgab1HWEE9UDW4CKE7gcUif
 OEvxa2x1pGb/z4bJYp8lEEyMyjAbvanaPW5aqgxymCdzN5kAQpjYz+uByNlvxRFtkaVN
 xdnQ==
X-Gm-Message-State: AOJu0Yy8Xwag0jO1QryCe0nqpVSlzpJ/lsHlHxP0pfc+dc93W/meZmZ+
 ACJeojAcEw2kEstODi4xqa3KQzT1eEeo5iZBNrwb5sVvOgdAFnYN5dy94bztdJ9OTcdHEJ7yYQH
 spoAI3eyCZzlTCrqpKCXtuJ3GDvHVywy7mHgke1S4wwCDZ3Lxn8YveQPS
X-Google-Smtp-Source: AGHT+IESuZQW4RQbPS8E1eAtsMn6wKM/eqE6nqjqbkQdOTIKgSmBhZECkzHQ80UD5JvSgkPtqisHVvQ+gMU6
X-Received: by 2002:a05:6871:8788:b0:25e:e6d:5247 with SMTP id
 586e51a60fabf-26fe5a416e1mr3465523fac.14.1723641783102; 
 Wed, 14 Aug 2024 06:23:03 -0700 (PDT)
Received: from postal.iol.unh.edu (postal.iol.unh.edu.
 [2606:4100:3880:1234::84]) by smtp-relay.gmail.com with ESMTPS id
 46e09a7af769-70c7b891361sm400308a34.12.2024.08.14.06.23.03
 (version=TLS1_2 cipher=ECDHE-ECDSA-AES128-GCM-SHA256 bits=128/128);
 Wed, 14 Aug 2024 06:23:03 -0700 (PDT)
X-Relaying-Domain: iol.unh.edu
Date: Wed, 14 Aug 2024 06:23:03 -0700 (PDT)
Message-ID: <66bcafb7.050a0220.49014.5ff7SMTPIN_ADDED_MISSING@mx.google.com>
Received: from [172.21.0.6] (unknown [172.18.0.240])
 by postal.iol.unh.edu (Postfix) with ESMTP id 8DED060526E2;
 Wed, 14 Aug 2024 09:23:02 -0400 (EDT)
Subject: |PENDING| pw143122 [PATCH] [v2] net/bnxt: fix issue reading sff8436 
From: dpdklab@iol.unh.edu
To: Test Report <test-report@dpdk.org>
Cc: dpdk-test-reports@iol.unh.edu
In-Reply-To: <20240812103405.2041816-1-pdmorrow@gmail.com>
References: <20240812103405.2041816-1-pdmorrow@gmail.com>
Content-Type: text/plain
X-BeenThere: test-report@dpdk.org
X-Mailman-Version: 2.1.29
Precedence: list
List-Id: automatic DPDK test reports <test-report.dpdk.org>
List-Unsubscribe: <https://mails.dpdk.org/options/test-report>,
 <mailto:test-report-request@dpdk.org?subject=unsubscribe>
List-Archive: <http://mails.dpdk.org/archives/test-report/>
List-Post: <mailto:test-report@dpdk.org>
List-Help: <mailto:test-report-request@dpdk.org?subject=help>
List-Subscribe: <https://mails.dpdk.org/listinfo/test-report>,
 <mailto:test-report-request@dpdk.org?subject=subscribe>
Errors-To: test-report-bounces@dpdk.org

Test-Label: iol-compile-arm64-testing
Test-Status: PENDING
http://dpdk.org/patch/143122

_Testing pending_

Submitter: Peter Morrow <pdmorrow@gmail.com>
Date: Monday, August 12 2024 10:34:05 
DPDK git baseline: Repo:dpdk
  Branch: master
  CommitID:b3485f4293997d35b6daecc3437bb0c183a51fb3

143122 --> testing pending

Upstream job id: Generic-DPDK-Compile-Meson#288482

Test environment and result as below:

+----------------------------------------+--------------------+
|              Environment               | dpdk_meson_compile |
+========================================+====================+
| RHEL9 (ARM)                            | PASS               |
+----------------------------------------+--------------------+
| Ubuntu 20.04 ARM SVE                   | PASS               |
+----------------------------------------+--------------------+
| Ubuntu 20.04 ARM GCC Cross Compile     | PEND               |
+----------------------------------------+--------------------+
| Debian 12 with MUSDK                   | PASS               |
+----------------------------------------+--------------------+
| Fedora 37 (ARM)                        | PASS               |
+----------------------------------------+--------------------+
| Fedora 38 (ARM)                        | PASS               |
+----------------------------------------+--------------------+
| Fedora 38 (ARM Clang)                  | PEND               |
+----------------------------------------+--------------------+
| Fedora 39 (ARM)                        | PASS               |
+----------------------------------------+--------------------+
| Fedora 39 (ARM Clang)                  | PEND               |
+----------------------------------------+--------------------+
| Fedora 40 (ARM)                        | PASS               |
+----------------------------------------+--------------------+
| Fedora 40 (ARM Clang)                  | PEND               |
+----------------------------------------+--------------------+
| Ubuntu 20.04 (ARM)                     | PASS               |
+----------------------------------------+--------------------+
| Ubuntu 22.04 (ARM)                     | PASS               |
+----------------------------------------+--------------------+
| Ubuntu 24.04 (ARM)                     | PASS               |
+----------------------------------------+--------------------+
| CentOS Stream 9 (ARM)                  | PASS               |
+----------------------------------------+--------------------+
| Debian 12 (arm)                        | PASS               |
+----------------------------------------+--------------------+
| Debian 11 (Buster) (ARM)               | PASS               |
+----------------------------------------+--------------------+
| Ubuntu 20.04 ARM Clang Cross Compile   | PEND               |
+----------------------------------------+--------------------+
| Ubuntu 20.04 aarch32 GCC Cross Compile | PASS               |
+----------------------------------------+--------------------+


RHEL9 (ARM)
	Kernel: Depends on container host
	Compiler: gcc 11.4.1

Ubuntu 20.04 ARM SVE
	Kernel: 5.4.0-167-generic
	Compiler: gcc (Ubuntu 10.5.0-1ubuntu1~20.04) 10.5.0

Ubuntu 20.04 ARM GCC Cross Compile
	Kernel: 5.4.0-167-generic
	Compiler: aarch64-linux-gnu-gcc (Ubuntu 9.4.0-1ubuntu1~20.04.2) 9.4.0

Debian 12 with MUSDK
	Kernel: Container Host Kernel
	Compiler: gcc 12.2.0

Fedora 37 (ARM)
	Kernel: Depends on container host
	Compiler: gcc 12.3.1

Fedora 38 (ARM)
	Kernel: Depends on container host
	Compiler: gcc 13.2.1

Fedora 38 (ARM Clang)
	Kernel: Depends on container host
	Compiler: clang 16.0.6

Fedora 39 (ARM)
	Kernel: Depends on container host
	Compiler: gcc 13.2.1

Fedora 39 (ARM Clang)
	Kernel: Depends on container host
	Compiler: clang 17.0.6

Fedora 40 (ARM)
	Kernel: Depends on container host
	Compiler: gcc 14.1.1

Fedora 40 (ARM Clang)
	Kernel: Depends on container host
	Compiler: clang 18.1.6

Ubuntu 20.04 (ARM)
	Kernel: Container Host Kernel
	Compiler: gcc 9.4.0

Ubuntu 22.04 (ARM)
	Kernel: Container Host Kernel
	Compiler: gcc 11.4.0

Ubuntu 24.04 (ARM)
	Kernel: 5.4.0-167-generic
	Compiler: gcc 13.2.0

CentOS Stream 9 (ARM)
	Kernel: Container Host Kernel
	Compiler: gcc 11.4.1

Debian 12 (arm)
	Kernel: Container Host Kernel
	Compiler: gcc 12.2.0

Debian 11 (Buster) (ARM)
	Kernel: Container Host Kernel
	Compiler: gcc 10.2.1

Ubuntu 20.04 ARM Clang Cross Compile
	Kernel: 5.4.0-72-generic
	Compiler: clang 10.0.0-4ubuntu1

Ubuntu 20.04 aarch32 GCC Cross Compile
	Kernel: 5.4.0-167-generic
	Compiler: gcc 9.4.0

To view detailed results, visit:
https://lab.dpdk.org/results/dashboard/patchsets/30788/

UNH-IOL DPDK Community Lab

To manage your email subscriptions, visit: 
https://lab.dpdk.org/results/dashboard/preferences/subscriptions/