From mboxrd@z Thu Jan  1 00:00:00 1970
Return-Path: <test-report-bounces@dpdk.org>
Received: from mails.dpdk.org (mails.dpdk.org [217.70.189.124])
	by inbox.dpdk.org (Postfix) with ESMTP id 97FF6457C4
	for <public@inbox.dpdk.org>; Wed, 14 Aug 2024 16:10:49 +0200 (CEST)
Received: from mails.dpdk.org (localhost [127.0.0.1])
	by mails.dpdk.org (Postfix) with ESMTP id 8C2F340647;
	Wed, 14 Aug 2024 16:10:49 +0200 (CEST)
Received: from mail-pf1-f228.google.com (mail-pf1-f228.google.com
 [209.85.210.228])
 by mails.dpdk.org (Postfix) with ESMTP id DBAD740274
 for <test-report@dpdk.org>; Wed, 14 Aug 2024 16:10:48 +0200 (CEST)
Received: by mail-pf1-f228.google.com with SMTP id
 d2e1a72fcca58-70ea2f25bfaso4909070b3a.1
 for <test-report@dpdk.org>; Wed, 14 Aug 2024 07:10:48 -0700 (PDT)
DKIM-Signature: v=1; a=rsa-sha256; c=relaxed/relaxed;
 d=iol.unh.edu; s=unh-iol; t=1723644648; x=1724249448; darn=dpdk.org;
 h=references:in-reply-to:cc:to:from:subject:message-id:date:from:to
 :cc:subject:date:message-id:reply-to;
 bh=acPkozmMU6BMlxckBl/43UmC2jm0PZVJCyWtHsTqprs=;
 b=fVRo/FgvU8KnE94kSaIceTK4+wo/bj7Hp5REBEoD2LFfYNOI1YxBsi6YkobBTyYEuB
 pq19L5lfrBf1Ii3SNCobHMSV3EGdHp6NWk6soC/gtIJ6fo379pP5xxCeBPLFzCwgPS3Y
 oWU5VFfVzW2zjCaQ1VbvzLiSQIJDu3kYKa9XE=
X-Google-DKIM-Signature: v=1; a=rsa-sha256; c=relaxed/relaxed;
 d=1e100.net; s=20230601; t=1723644648; x=1724249448;
 h=references:in-reply-to:cc:to:from:subject:message-id:date
 :x-gm-message-state:from:to:cc:subject:date:message-id:reply-to;
 bh=acPkozmMU6BMlxckBl/43UmC2jm0PZVJCyWtHsTqprs=;
 b=asnIoKnJRd7nVGHWb4TpdCal4bWa9aNl+9vZ1Pb4/0Y15kYtHSGMyEbJBT7jl5mbol
 ZbWoFShJBPRxBFNVBA+yUoZ0x32aDmkYo8FwEJ20LrgtBBoAGrvbw2GbS+gEKKArPwqX
 5MdHFuXCwKcgO4BTfRt9kA9Lj3JMj53ojlT9bq0Vqg9pde9Sfb929krc7OrSAYHjbfEI
 y4ZamInElpMipLkwG5V3MPKL7VpujPmRpbZVBvntHE6fHUTUICZeGyVJBTZBu+QKtZ9Y
 zl57S86kFi6NdD6xcDiiopNTzU+NjOP4tk8d/mpmH6HRCzJYhji8YwKToSiLDqhaTesl
 cTDA==
X-Gm-Message-State: AOJu0YzeuLq2bXQRrULqMe24q1RriiJdt7xvzjHIU8UGqsmtxM774Kps
 1sojiviWPJj3JNXAjGnew8HCY4sD7QzwkUz2WmBjknrjWYmRKQFQHfBSpcJasyFmLdCwH4eEd1f
 uq+3gr27wk6rW0TdhLdFw1VDDtY0q/XHD4FgmHjkM
X-Google-Smtp-Source: AGHT+IGi/CyN0mIVw5wOpPNUZlGHhmTpjs7JYGqadLrhczrkEZuIQN/QJnc7cbOB6xt1kpEtBDQ3eHjz4FeB
X-Received: by 2002:a17:902:f60d:b0:1fc:5319:8c7d with SMTP id
 d9443c01a7336-201d65bbb89mr25426945ad.61.1723644647899; 
 Wed, 14 Aug 2024 07:10:47 -0700 (PDT)
Received: from postal.iol.unh.edu (postal.iol.unh.edu. [132.177.123.84])
 by smtp-relay.gmail.com with ESMTPS id
 d9443c01a7336-201ec2b9409sm39075ad.77.2024.08.14.07.10.47
 (version=TLS1_2 cipher=ECDHE-ECDSA-AES128-GCM-SHA256 bits=128/128);
 Wed, 14 Aug 2024 07:10:47 -0700 (PDT)
X-Relaying-Domain: iol.unh.edu
Date: Wed, 14 Aug 2024 07:10:47 -0700 (PDT)
Message-ID: <66bcbae7.170a0220.451ec.02b0SMTPIN_ADDED_MISSING@mx.google.com>
Received: from [172.21.0.10] (unknown [172.18.0.240])
 by postal.iol.unh.edu (Postfix) with ESMTP id 48A0D60526E2;
 Wed, 14 Aug 2024 10:10:47 -0400 (EDT)
Subject: |PENDING| pw143149-143174 [PATCH] [v3,26/26] config: add computed ma
From: dpdklab@iol.unh.edu
To: Test Report <test-report@dpdk.org>
Cc: dpdk-test-reports@iol.unh.edu
In-Reply-To: <20240814104933.14062-27-bruce.richardson@intel.com>
References: <20240814104933.14062-27-bruce.richardson@intel.com>
Content-Type: text/plain
X-BeenThere: test-report@dpdk.org
X-Mailman-Version: 2.1.29
Precedence: list
List-Id: automatic DPDK test reports <test-report.dpdk.org>
List-Unsubscribe: <https://mails.dpdk.org/options/test-report>,
 <mailto:test-report-request@dpdk.org?subject=unsubscribe>
List-Archive: <http://mails.dpdk.org/archives/test-report/>
List-Post: <mailto:test-report@dpdk.org>
List-Help: <mailto:test-report-request@dpdk.org?subject=help>
List-Subscribe: <https://mails.dpdk.org/listinfo/test-report>,
 <mailto:test-report-request@dpdk.org?subject=subscribe>
Errors-To: test-report-bounces@dpdk.org

Test-Label: iol-compile-amd64-testing
Test-Status: PENDING
http://dpdk.org/patch/143174

_Testing pending_

Submitter: Bruce Richardson <bruce.richardson@intel.com>
Date: Wednesday, August 14 2024 10:49:32 
DPDK git baseline: Repo:dpdk
  Branch: master
  CommitID:cb9187bc5c2b4bab0ad80194ac3b60491de14e8c

143149-143174 --> testing pending

Upstream job id: Generic-DPDK-Compile-Meson#288483

Test environment and result as below:

+---------------------+----------------------+-----------------------+-------------------+--------------------+------------------+-------------------+
|     Environment     | dpdk_mingw64_compile | dpdk_win_llvm_compile | dpdk_msvc_compile | dpdk_meson_compile | dpdk_compile_ovs | dpdk_compile_spdk |
+=====================+======================+=======================+===================+====================+==================+===================+
| Windows Server 2022 | PASS                 | PASS                  | PASS              | SKIPPED            | SKIPPED          | SKIPPED           |
+---------------------+----------------------+-----------------------+-------------------+--------------------+------------------+-------------------+
| FreeBSD 13.3        | SKIPPED              | SKIPPED               | SKIPPED           | PASS               | SKIPPED          | SKIPPED           |
+---------------------+----------------------+-----------------------+-------------------+--------------------+------------------+-------------------+
| FreeBSD 14.1        | SKIPPED              | SKIPPED               | SKIPPED           | PASS               | SKIPPED          | SKIPPED           |
+---------------------+----------------------+-----------------------+-------------------+--------------------+------------------+-------------------+
| CentOS Stream 9     | SKIPPED              | SKIPPED               | SKIPPED           | PASS               | PASS             | PASS              |
+---------------------+----------------------+-----------------------+-------------------+--------------------+------------------+-------------------+
| Debian Bullseye     | SKIPPED              | SKIPPED               | SKIPPED           | PASS               | PEND             | PEND              |
+---------------------+----------------------+-----------------------+-------------------+--------------------+------------------+-------------------+
| Debian 12           | SKIPPED              | SKIPPED               | SKIPPED           | PEND               | PEND             | PEND              |
+---------------------+----------------------+-----------------------+-------------------+--------------------+------------------+-------------------+
| Fedora 37           | SKIPPED              | SKIPPED               | SKIPPED           | PASS               | PASS             | PASS              |
+---------------------+----------------------+-----------------------+-------------------+--------------------+------------------+-------------------+
| Fedora 38 (Clang)   | SKIPPED              | SKIPPED               | SKIPPED           | PEND               | PEND             | PEND              |
+---------------------+----------------------+-----------------------+-------------------+--------------------+------------------+-------------------+
| Fedora 38           | SKIPPED              | SKIPPED               | SKIPPED           | PASS               | PASS             | PASS              |
+---------------------+----------------------+-----------------------+-------------------+--------------------+------------------+-------------------+
| Fedora 39 (Clang)   | SKIPPED              | SKIPPED               | SKIPPED           | PEND               | PEND             | PEND              |
+---------------------+----------------------+-----------------------+-------------------+--------------------+------------------+-------------------+
| Fedora 39           | SKIPPED              | SKIPPED               | SKIPPED           | PEND               | PEND             | PEND              |
+---------------------+----------------------+-----------------------+-------------------+--------------------+------------------+-------------------+
| Fedora 40 (Clang)   | SKIPPED              | SKIPPED               | SKIPPED           | PEND               | PEND             | PEND              |
+---------------------+----------------------+-----------------------+-------------------+--------------------+------------------+-------------------+
| Fedora 40           | SKIPPED              | SKIPPED               | SKIPPED           | PEND               | PEND             | PEND              |
+---------------------+----------------------+-----------------------+-------------------+--------------------+------------------+-------------------+
| openSUSE Leap 15    | SKIPPED              | SKIPPED               | SKIPPED           | PASS               | PASS             | SKIPPED           |
+---------------------+----------------------+-----------------------+-------------------+--------------------+------------------+-------------------+
| RHEL8               | SKIPPED              | SKIPPED               | SKIPPED           | PEND               | PEND             | SKIPPED           |
+---------------------+----------------------+-----------------------+-------------------+--------------------+------------------+-------------------+
| RHEL9               | SKIPPED              | SKIPPED               | SKIPPED           | PEND               | PEND             | SKIPPED           |
+---------------------+----------------------+-----------------------+-------------------+--------------------+------------------+-------------------+
| Ubuntu 20.04        | SKIPPED              | SKIPPED               | SKIPPED           | PEND               | PEND             | SKIPPED           |
+---------------------+----------------------+-----------------------+-------------------+--------------------+------------------+-------------------+
| Ubuntu 22.04        | SKIPPED              | SKIPPED               | SKIPPED           | PEND               | PEND             | PEND              |
+---------------------+----------------------+-----------------------+-------------------+--------------------+------------------+-------------------+
| Ubuntu 24.04        | SKIPPED              | SKIPPED               | SKIPPED           | PEND               | PEND             | PEND              |
+---------------------+----------------------+-----------------------+-------------------+--------------------+------------------+-------------------+
| Alpine              | SKIPPED              | SKIPPED               | SKIPPED           | PEND               | PEND             | SKIPPED           |
+---------------------+----------------------+-----------------------+-------------------+--------------------+------------------+-------------------+


Windows Server 2022
	Kernel: 10.0.20348.2031
	Compiler: clang 15.0.7, gcc 8.1.0 (MinGW), and MSVC VS 17.9

FreeBSD 13.3
	Kernel: 13.3-RELEASE-p1
	Compiler: clang 17.0.6

FreeBSD 14.1
	Kernel: 14.1
	Compiler: clang 18.1.5

CentOS Stream 9
	Kernel: 5.4.0-167-generic
	Compiler: gcc 11.4.1 20230605

Debian Bullseye
	Kernel: 5.4.0-167-generic
	Compiler: gcc 10.2.1-6

Debian 12
	Kernel: Container Host Kernel
	Compiler: gcc 12.2.0

Fedora 37
	Kernel: Depends on container host system
	Compiler: gcc 12.3.1

Fedora 38 (Clang)
	Kernel: Depends on container host
	Compiler: clang 16.0.6

Fedora 38
	Kernel: Depends on container host
	Compiler: gcc 13.2.1

Fedora 39 (Clang)
	Kernel: Depends on container host
	Compiler: clang 17.0.6

Fedora 39
	Kernel: Depends on container host
	Compiler: gcc 13.2.1

Fedora 40 (Clang)
	Kernel: Depends on container host
	Compiler: clang 18.1.6

Fedora 40
	Kernel: Depends on container host
	Compiler: gcc 14.1.1

openSUSE Leap 15
	Kernel: 5.4.0-167-generic
	Compiler: gcc 7.5.0

RHEL8
	Kernel: 5.4.0-167-generic
	Compiler: gcc 8.5.0 20210514 (Red Hat 8.5.0-20)

RHEL9
	Kernel: Depends on container host
	Compiler: gcc 11.4.1

Ubuntu 20.04
	Kernel: 5.4.0-167-generic
	Compiler: gcc 9.4.0-1ubuntu1~20.04.1

Ubuntu 22.04
	Kernel: 5.4.0-167-generic
	Compiler: gcc 11.4.0

Ubuntu 24.04
	Kernel: 5.4.0-167-generic
	Compiler: gcc 13.2.0

Alpine
	Kernel: 5.4.0-167-generic
	Compiler: gcc (Alpine 13.2.1_git20231014) 13.2.1 20231014

To view detailed results, visit:
https://lab.dpdk.org/results/dashboard/patchsets/30790/

UNH-IOL DPDK Community Lab

To manage your email subscriptions, visit: 
https://lab.dpdk.org/results/dashboard/preferences/subscriptions/