From mboxrd@z Thu Jan  1 00:00:00 1970
Return-Path: <test-report-bounces@dpdk.org>
Received: from mails.dpdk.org (mails.dpdk.org [217.70.189.124])
	by inbox.dpdk.org (Postfix) with ESMTP id 44FCE457C4
	for <public@inbox.dpdk.org>; Wed, 14 Aug 2024 16:13:21 +0200 (CEST)
Received: from mails.dpdk.org (localhost [127.0.0.1])
	by mails.dpdk.org (Postfix) with ESMTP id 3EC32402C4;
	Wed, 14 Aug 2024 16:13:21 +0200 (CEST)
Received: from mail-pf1-f226.google.com (mail-pf1-f226.google.com
 [209.85.210.226])
 by mails.dpdk.org (Postfix) with ESMTP id 1457540274
 for <test-report@dpdk.org>; Wed, 14 Aug 2024 16:13:19 +0200 (CEST)
Received: by mail-pf1-f226.google.com with SMTP id
 d2e1a72fcca58-70d18d4b94cso5031863b3a.2
 for <test-report@dpdk.org>; Wed, 14 Aug 2024 07:13:19 -0700 (PDT)
DKIM-Signature: v=1; a=rsa-sha256; c=relaxed/relaxed;
 d=iol.unh.edu; s=unh-iol; t=1723644798; x=1724249598; darn=dpdk.org;
 h=references:in-reply-to:cc:to:from:subject:message-id:date:from:to
 :cc:subject:date:message-id:reply-to;
 bh=5t3BOBC9rtBSVJE7aCM+dzZHWtIoSJvb6i/RdwaOupY=;
 b=eVGu3bLTZWr/ih6W9CN/AIerCNJqt3vsvg8HfitWuZ+7cMi5JhzXneqh3KeC59DOJs
 lI0H166l0w/U2YuvOAOBR2NDv4yEXy9nCPyoSlDHl1alKTyzAaX6dPtv7btAviqEHgPC
 PE9bw3mqYgSuFwrZeaXaMfjb43SiIJPd0ArN4=
X-Google-DKIM-Signature: v=1; a=rsa-sha256; c=relaxed/relaxed;
 d=1e100.net; s=20230601; t=1723644798; x=1724249598;
 h=references:in-reply-to:cc:to:from:subject:message-id:date
 :x-gm-message-state:from:to:cc:subject:date:message-id:reply-to;
 bh=5t3BOBC9rtBSVJE7aCM+dzZHWtIoSJvb6i/RdwaOupY=;
 b=aoY6b6kBEv6Lr1JfNA3KtmhONJF8ZtjvgiYZnILPaqGHFpBkQyeweh/9fPz1DXZdjT
 aaLzZtUtLMU4AWm2ViXrjs5NDWSfdP4y75M/yyoaJaLXqqnRKmANeUhlJE/OBgMUvtAW
 QxRFqyXJWWmPocfhuz7gUa4ZiZrCc03HvzCI/ggbYp6uCq2+wRzi2JOVKyrZJ+49bFdg
 IpxSMeGFyWKpRUNRcceW+N8Nzj0uJHy6qF0jjDmWIrLaB1UoUZ/+zS7OwFXtLa5vSFld
 4GH4VpsGKuPdg6kQlEeCSxw8qWhR20v7FgI0ROa3AbsDWY3sBBK3DZQV9HcARgX4Aivw
 HiFg==
X-Gm-Message-State: AOJu0YxIstTX2znmFZedD1HwpKdrHltiJPq6XVcy0wopBwQ+Saftw0cg
 xUajiEhcvirn5PVkq6+WepijfpF2US5snyRVXujH0xEppYmW7wwnXE2lkHh9oHTIbYzaoD3hxDL
 XftKENe2m4sNQ3bAjNkHkNFKKzwmfhZNHEIe6LGYN
X-Google-Smtp-Source: AGHT+IEfmlIZQ4o/HxeNodsAaT6xI/xW4OVDSAL63J21NGyvDN0d1IPpF/ck7ZvHM4tZfSh0ED8r8ffFvsHW
X-Received: by 2002:a05:6a20:d818:b0:1c6:fa87:774b with SMTP id
 adf61e73a8af0-1c8eaf8050fmr3927026637.39.1723644798157; 
 Wed, 14 Aug 2024 07:13:18 -0700 (PDT)
Received: from postal.iol.unh.edu (postal.iol.unh.edu. [132.177.123.84])
 by smtp-relay.gmail.com with ESMTPS id
 d2e1a72fcca58-710e58a99cesm699827b3a.12.2024.08.14.07.13.18
 (version=TLS1_2 cipher=ECDHE-ECDSA-AES128-GCM-SHA256 bits=128/128);
 Wed, 14 Aug 2024 07:13:18 -0700 (PDT)
X-Relaying-Domain: iol.unh.edu
Date: Wed, 14 Aug 2024 07:13:18 -0700 (PDT)
Message-ID: <66bcbb7e.050a0220.ceb0a.2e32SMTPIN_ADDED_MISSING@mx.google.com>
Received: from [172.21.0.10] (unknown [172.18.0.240])
 by postal.iol.unh.edu (Postfix) with ESMTP id 1CB1160526E2;
 Wed, 14 Aug 2024 10:13:17 -0400 (EDT)
Subject: |PENDING| pw143122 [PATCH] [v2] net/bnxt: fix issue reading sff8436 
From: dpdklab@iol.unh.edu
To: Test Report <test-report@dpdk.org>
Cc: dpdk-test-reports@iol.unh.edu
In-Reply-To: <20240812103405.2041816-1-pdmorrow@gmail.com>
References: <20240812103405.2041816-1-pdmorrow@gmail.com>
Content-Type: text/plain
X-BeenThere: test-report@dpdk.org
X-Mailman-Version: 2.1.29
Precedence: list
List-Id: automatic DPDK test reports <test-report.dpdk.org>
List-Unsubscribe: <https://mails.dpdk.org/options/test-report>,
 <mailto:test-report-request@dpdk.org?subject=unsubscribe>
List-Archive: <http://mails.dpdk.org/archives/test-report/>
List-Post: <mailto:test-report@dpdk.org>
List-Help: <mailto:test-report-request@dpdk.org?subject=help>
List-Subscribe: <https://mails.dpdk.org/listinfo/test-report>,
 <mailto:test-report-request@dpdk.org?subject=subscribe>
Errors-To: test-report-bounces@dpdk.org

Test-Label: iol-compile-arm64-testing
Test-Status: PENDING
http://dpdk.org/patch/143122

_Testing pending_

Submitter: Peter Morrow <pdmorrow@gmail.com>
Date: Monday, August 12 2024 10:34:05 
DPDK git baseline: Repo:dpdk
  Branch: master
  CommitID:b3485f4293997d35b6daecc3437bb0c183a51fb3

143122 --> testing pending

Upstream job id: Generic-DPDK-Compile-Meson#288474

Test environment and result as below:

+----------------------------------------+--------------------+
|              Environment               | dpdk_meson_compile |
+========================================+====================+
| RHEL9 (ARM)                            | PASS               |
+----------------------------------------+--------------------+
| Ubuntu 20.04 ARM SVE                   | PASS               |
+----------------------------------------+--------------------+
| Ubuntu 20.04 ARM GCC Cross Compile     | PEND               |
+----------------------------------------+--------------------+
| Debian 12 with MUSDK                   | PASS               |
+----------------------------------------+--------------------+
| Fedora 37 (ARM)                        | PASS               |
+----------------------------------------+--------------------+
| Fedora 38 (ARM)                        | PASS               |
+----------------------------------------+--------------------+
| Fedora 38 (ARM Clang)                  | PEND               |
+----------------------------------------+--------------------+
| Fedora 39 (ARM)                        | PASS               |
+----------------------------------------+--------------------+
| Fedora 39 (ARM Clang)                  | PEND               |
+----------------------------------------+--------------------+
| Fedora 40 (ARM)                        | PASS               |
+----------------------------------------+--------------------+
| Fedora 40 (ARM Clang)                  | PASS               |
+----------------------------------------+--------------------+
| Ubuntu 20.04 (ARM)                     | PASS               |
+----------------------------------------+--------------------+
| Ubuntu 22.04 (ARM)                     | PASS               |
+----------------------------------------+--------------------+
| Ubuntu 24.04 (ARM)                     | PASS               |
+----------------------------------------+--------------------+
| CentOS Stream 9 (ARM)                  | PASS               |
+----------------------------------------+--------------------+
| Debian 12 (arm)                        | PASS               |
+----------------------------------------+--------------------+
| Debian 11 (Buster) (ARM)               | PASS               |
+----------------------------------------+--------------------+
| Ubuntu 20.04 ARM Clang Cross Compile   | PASS               |
+----------------------------------------+--------------------+
| Ubuntu 20.04 aarch32 GCC Cross Compile | PASS               |
+----------------------------------------+--------------------+


RHEL9 (ARM)
	Kernel: Depends on container host
	Compiler: gcc 11.4.1

Ubuntu 20.04 ARM SVE
	Kernel: 5.4.0-167-generic
	Compiler: gcc (Ubuntu 10.5.0-1ubuntu1~20.04) 10.5.0

Ubuntu 20.04 ARM GCC Cross Compile
	Kernel: 5.4.0-167-generic
	Compiler: aarch64-linux-gnu-gcc (Ubuntu 9.4.0-1ubuntu1~20.04.2) 9.4.0

Debian 12 with MUSDK
	Kernel: Container Host Kernel
	Compiler: gcc 12.2.0

Fedora 37 (ARM)
	Kernel: Depends on container host
	Compiler: gcc 12.3.1

Fedora 38 (ARM)
	Kernel: Depends on container host
	Compiler: gcc 13.2.1

Fedora 38 (ARM Clang)
	Kernel: Depends on container host
	Compiler: clang 16.0.6

Fedora 39 (ARM)
	Kernel: Depends on container host
	Compiler: gcc 13.2.1

Fedora 39 (ARM Clang)
	Kernel: Depends on container host
	Compiler: clang 17.0.6

Fedora 40 (ARM)
	Kernel: Depends on container host
	Compiler: gcc 14.1.1

Fedora 40 (ARM Clang)
	Kernel: Depends on container host
	Compiler: clang 18.1.6

Ubuntu 20.04 (ARM)
	Kernel: Container Host Kernel
	Compiler: gcc 9.4.0

Ubuntu 22.04 (ARM)
	Kernel: Container Host Kernel
	Compiler: gcc 11.4.0

Ubuntu 24.04 (ARM)
	Kernel: 5.4.0-167-generic
	Compiler: gcc 13.2.0

CentOS Stream 9 (ARM)
	Kernel: Container Host Kernel
	Compiler: gcc 11.4.1

Debian 12 (arm)
	Kernel: Container Host Kernel
	Compiler: gcc 12.2.0

Debian 11 (Buster) (ARM)
	Kernel: Container Host Kernel
	Compiler: gcc 10.2.1

Ubuntu 20.04 ARM Clang Cross Compile
	Kernel: 5.4.0-72-generic
	Compiler: clang 10.0.0-4ubuntu1

Ubuntu 20.04 aarch32 GCC Cross Compile
	Kernel: 5.4.0-167-generic
	Compiler: gcc 9.4.0

To view detailed results, visit:
https://lab.dpdk.org/results/dashboard/patchsets/30788/

UNH-IOL DPDK Community Lab

To manage your email subscriptions, visit: 
https://lab.dpdk.org/results/dashboard/preferences/subscriptions/