From mboxrd@z Thu Jan  1 00:00:00 1970
Return-Path: <test-report-bounces@dpdk.org>
Received: from mails.dpdk.org (mails.dpdk.org [217.70.189.124])
	by inbox.dpdk.org (Postfix) with ESMTP id 7EB91457C4
	for <public@inbox.dpdk.org>; Wed, 14 Aug 2024 16:13:49 +0200 (CEST)
Received: from mails.dpdk.org (localhost [127.0.0.1])
	by mails.dpdk.org (Postfix) with ESMTP id 6C71E402C4;
	Wed, 14 Aug 2024 16:13:49 +0200 (CEST)
Received: from mail-il1-f226.google.com (mail-il1-f226.google.com
 [209.85.166.226])
 by mails.dpdk.org (Postfix) with ESMTP id 3767F40274
 for <test-report@dpdk.org>; Wed, 14 Aug 2024 16:13:46 +0200 (CEST)
Received: by mail-il1-f226.google.com with SMTP id
 e9e14a558f8ab-39b3a4d2577so22301565ab.3
 for <test-report@dpdk.org>; Wed, 14 Aug 2024 07:13:46 -0700 (PDT)
DKIM-Signature: v=1; a=rsa-sha256; c=relaxed/relaxed;
 d=iol.unh.edu; s=unh-iol; t=1723644825; x=1724249625; darn=dpdk.org;
 h=references:in-reply-to:cc:to:from:subject:message-id:date:from:to
 :cc:subject:date:message-id:reply-to;
 bh=KK2lCX3AW2bHmT80Xea06Lv1oII5ejvAQsUZEaU3FXI=;
 b=VoQkc/cuWuyaRJDaut4ASW3f0372ZTKIGhgOozdUAWKfmtbE4bwFefGGH2RFDlKGin
 Ou0S8fyUEjwy5gLe+O8C0ICwjBxoZ58jVdm39sEeGg4B3cIZFGwyaZOKxU4zJitBVk15
 F0mA3BnAl4x1a/gkBMP/AbYolMwMLcj0t4XCg=
X-Google-DKIM-Signature: v=1; a=rsa-sha256; c=relaxed/relaxed;
 d=1e100.net; s=20230601; t=1723644825; x=1724249625;
 h=references:in-reply-to:cc:to:from:subject:message-id:date
 :x-gm-message-state:from:to:cc:subject:date:message-id:reply-to;
 bh=KK2lCX3AW2bHmT80Xea06Lv1oII5ejvAQsUZEaU3FXI=;
 b=Uw28vOSqhmAHNgSgXXaohFqcsAU1omWrDTMN829xJL1n1Vmn3bjNZzkh+swKWmdIIU
 VG+VUFOp2SAKFiSkPSNMs/3CapjG4OIE4k4AmayWkemRRiK1Q8p1i1T5bXROW0SOkATq
 VS+BVmsrMOaYOUmQa3PtHK8nyV8GIPPQj+gBHKxuzzeKxoUMNYzGuLgvBtyGjXvbqphG
 xXjU/yxS6UUjlcOH7Zl9IuDPWCdp7l6hBZyfKtXu67zVXM4TeAsTdsPr5lVugO9q/NRY
 0UeiA5ZUfX1BhXKPcne73ljTQWFn4irdV+ChU4IaBcqMtMUl/IxhHOtjQQUQ5IFcvHdI
 qIeQ==
X-Gm-Message-State: AOJu0YwoOEAjk82ZN+g0kKrFaGymyxopnRfOZTIgJn6bAnYDxjTuTqYi
 ishl+W8U/2OkFCKt11U/vODLqiC6d1wL/CD/38yzE1EjHT61DSuVa1SWH97E8KEaP0RcqMOARaF
 /dYcMuhU7n2X1fWzMh2RESi49lSEJ3J5IcFWcv6Tp
X-Google-Smtp-Source: AGHT+IEif2yonaOpaioX5U5yv8bx/lGcW0AyaiwChwBimaMFk3L5JhTuJI72SkJ3BTwNfB4CSeIrsMXM8WKj
X-Received: by 2002:a05:6e02:1546:b0:398:39f:8b4d with SMTP id
 e9e14a558f8ab-39d124410dbmr39952095ab.5.1723644825470; 
 Wed, 14 Aug 2024 07:13:45 -0700 (PDT)
Received: from postal.iol.unh.edu (postal.iol.unh.edu. [132.177.123.84])
 by smtp-relay.gmail.com with ESMTPS id
 e9e14a558f8ab-39c30a91720sm4866865ab.9.2024.08.14.07.13.45
 (version=TLS1_2 cipher=ECDHE-ECDSA-AES128-GCM-SHA256 bits=128/128);
 Wed, 14 Aug 2024 07:13:45 -0700 (PDT)
X-Relaying-Domain: iol.unh.edu
Date: Wed, 14 Aug 2024 07:13:45 -0700 (PDT)
Message-ID: <66bcbb99.050a0220.746a2.8d4cSMTPIN_ADDED_MISSING@mx.google.com>
Received: from [172.21.0.9] (unknown [172.18.0.240])
 by postal.iol.unh.edu (Postfix) with ESMTP id D9F1D60526E2;
 Wed, 14 Aug 2024 10:13:44 -0400 (EDT)
Subject: |PENDING| pw143149-143174 [PATCH] [v3,26/26] config: add computed ma
From: dpdklab@iol.unh.edu
To: Test Report <test-report@dpdk.org>
Cc: dpdk-test-reports@iol.unh.edu
In-Reply-To: <20240814104933.14062-27-bruce.richardson@intel.com>
References: <20240814104933.14062-27-bruce.richardson@intel.com>
Content-Type: text/plain
X-BeenThere: test-report@dpdk.org
X-Mailman-Version: 2.1.29
Precedence: list
List-Id: automatic DPDK test reports <test-report.dpdk.org>
List-Unsubscribe: <https://mails.dpdk.org/options/test-report>,
 <mailto:test-report-request@dpdk.org?subject=unsubscribe>
List-Archive: <http://mails.dpdk.org/archives/test-report/>
List-Post: <mailto:test-report@dpdk.org>
List-Help: <mailto:test-report-request@dpdk.org?subject=help>
List-Subscribe: <https://mails.dpdk.org/listinfo/test-report>,
 <mailto:test-report-request@dpdk.org?subject=subscribe>
Errors-To: test-report-bounces@dpdk.org

Test-Label: iol-compile-amd64-testing
Test-Status: PENDING
http://dpdk.org/patch/143174

_Testing pending_

Submitter: Bruce Richardson <bruce.richardson@intel.com>
Date: Wednesday, August 14 2024 10:49:32 
DPDK git baseline: Repo:dpdk
  Branch: master
  CommitID:cb9187bc5c2b4bab0ad80194ac3b60491de14e8c

143149-143174 --> testing pending

Upstream job id: Generic-DPDK-Compile-Meson#288484

Test environment and result as below:

+---------------------+----------------------+-----------------------+-------------------+--------------------+------------------+-------------------+
|     Environment     | dpdk_mingw64_compile | dpdk_win_llvm_compile | dpdk_msvc_compile | dpdk_meson_compile | dpdk_compile_ovs | dpdk_compile_spdk |
+=====================+======================+=======================+===================+====================+==================+===================+
| Windows Server 2022 | PASS                 | PASS                  | PASS              | SKIPPED            | SKIPPED          | SKIPPED           |
+---------------------+----------------------+-----------------------+-------------------+--------------------+------------------+-------------------+
| FreeBSD 13.3        | SKIPPED              | SKIPPED               | SKIPPED           | PASS               | SKIPPED          | SKIPPED           |
+---------------------+----------------------+-----------------------+-------------------+--------------------+------------------+-------------------+
| FreeBSD 14.1        | SKIPPED              | SKIPPED               | SKIPPED           | PASS               | SKIPPED          | SKIPPED           |
+---------------------+----------------------+-----------------------+-------------------+--------------------+------------------+-------------------+
| CentOS Stream 9     | SKIPPED              | SKIPPED               | SKIPPED           | PASS               | PASS             | PASS              |
+---------------------+----------------------+-----------------------+-------------------+--------------------+------------------+-------------------+
| Debian Bullseye     | SKIPPED              | SKIPPED               | SKIPPED           | PASS               | PASS             | PASS              |
+---------------------+----------------------+-----------------------+-------------------+--------------------+------------------+-------------------+
| Debian 12           | SKIPPED              | SKIPPED               | SKIPPED           | PEND               | PEND             | PEND              |
+---------------------+----------------------+-----------------------+-------------------+--------------------+------------------+-------------------+
| Fedora 37           | SKIPPED              | SKIPPED               | SKIPPED           | PASS               | PASS             | PASS              |
+---------------------+----------------------+-----------------------+-------------------+--------------------+------------------+-------------------+
| Fedora 38 (Clang)   | SKIPPED              | SKIPPED               | SKIPPED           | PEND               | PEND             | PEND              |
+---------------------+----------------------+-----------------------+-------------------+--------------------+------------------+-------------------+
| Fedora 38           | SKIPPED              | SKIPPED               | SKIPPED           | PASS               | PASS             | PASS              |
+---------------------+----------------------+-----------------------+-------------------+--------------------+------------------+-------------------+
| Fedora 39 (Clang)   | SKIPPED              | SKIPPED               | SKIPPED           | PEND               | PEND             | PEND              |
+---------------------+----------------------+-----------------------+-------------------+--------------------+------------------+-------------------+
| Fedora 39           | SKIPPED              | SKIPPED               | SKIPPED           | PEND               | PEND             | PEND              |
+---------------------+----------------------+-----------------------+-------------------+--------------------+------------------+-------------------+
| Fedora 40 (Clang)   | SKIPPED              | SKIPPED               | SKIPPED           | PEND               | PEND             | PEND              |
+---------------------+----------------------+-----------------------+-------------------+--------------------+------------------+-------------------+
| Fedora 40           | SKIPPED              | SKIPPED               | SKIPPED           | PEND               | PEND             | PEND              |
+---------------------+----------------------+-----------------------+-------------------+--------------------+------------------+-------------------+
| openSUSE Leap 15    | SKIPPED              | SKIPPED               | SKIPPED           | PASS               | PASS             | SKIPPED           |
+---------------------+----------------------+-----------------------+-------------------+--------------------+------------------+-------------------+
| RHEL8               | SKIPPED              | SKIPPED               | SKIPPED           | PEND               | PEND             | SKIPPED           |
+---------------------+----------------------+-----------------------+-------------------+--------------------+------------------+-------------------+
| RHEL9               | SKIPPED              | SKIPPED               | SKIPPED           | PEND               | PEND             | SKIPPED           |
+---------------------+----------------------+-----------------------+-------------------+--------------------+------------------+-------------------+
| Ubuntu 20.04        | SKIPPED              | SKIPPED               | SKIPPED           | PEND               | PEND             | SKIPPED           |
+---------------------+----------------------+-----------------------+-------------------+--------------------+------------------+-------------------+
| Ubuntu 22.04        | SKIPPED              | SKIPPED               | SKIPPED           | PEND               | PEND             | PEND              |
+---------------------+----------------------+-----------------------+-------------------+--------------------+------------------+-------------------+
| Ubuntu 24.04        | SKIPPED              | SKIPPED               | SKIPPED           | PEND               | PEND             | PEND              |
+---------------------+----------------------+-----------------------+-------------------+--------------------+------------------+-------------------+
| Alpine              | SKIPPED              | SKIPPED               | SKIPPED           | PEND               | PEND             | SKIPPED           |
+---------------------+----------------------+-----------------------+-------------------+--------------------+------------------+-------------------+


Windows Server 2022
	Kernel: 10.0.20348.2031
	Compiler: clang 15.0.7, gcc 8.1.0 (MinGW), and MSVC VS 17.9

FreeBSD 13.3
	Kernel: 13.3-RELEASE-p1
	Compiler: clang 17.0.6

FreeBSD 14.1
	Kernel: 14.1
	Compiler: clang 18.1.5

CentOS Stream 9
	Kernel: 5.4.0-167-generic
	Compiler: gcc 11.4.1 20230605

Debian Bullseye
	Kernel: 5.4.0-167-generic
	Compiler: gcc 10.2.1-6

Debian 12
	Kernel: Container Host Kernel
	Compiler: gcc 12.2.0

Fedora 37
	Kernel: Depends on container host system
	Compiler: gcc 12.3.1

Fedora 38 (Clang)
	Kernel: Depends on container host
	Compiler: clang 16.0.6

Fedora 38
	Kernel: Depends on container host
	Compiler: gcc 13.2.1

Fedora 39 (Clang)
	Kernel: Depends on container host
	Compiler: clang 17.0.6

Fedora 39
	Kernel: Depends on container host
	Compiler: gcc 13.2.1

Fedora 40 (Clang)
	Kernel: Depends on container host
	Compiler: clang 18.1.6

Fedora 40
	Kernel: Depends on container host
	Compiler: gcc 14.1.1

openSUSE Leap 15
	Kernel: 5.4.0-167-generic
	Compiler: gcc 7.5.0

RHEL8
	Kernel: 5.4.0-167-generic
	Compiler: gcc 8.5.0 20210514 (Red Hat 8.5.0-20)

RHEL9
	Kernel: Depends on container host
	Compiler: gcc 11.4.1

Ubuntu 20.04
	Kernel: 5.4.0-167-generic
	Compiler: gcc 9.4.0-1ubuntu1~20.04.1

Ubuntu 22.04
	Kernel: 5.4.0-167-generic
	Compiler: gcc 11.4.0

Ubuntu 24.04
	Kernel: 5.4.0-167-generic
	Compiler: gcc 13.2.0

Alpine
	Kernel: 5.4.0-167-generic
	Compiler: gcc (Alpine 13.2.1_git20231014) 13.2.1 20231014

To view detailed results, visit:
https://lab.dpdk.org/results/dashboard/patchsets/30790/

UNH-IOL DPDK Community Lab

To manage your email subscriptions, visit: 
https://lab.dpdk.org/results/dashboard/preferences/subscriptions/