From mboxrd@z Thu Jan  1 00:00:00 1970
Return-Path: <test-report-bounces@dpdk.org>
Received: from mails.dpdk.org (mails.dpdk.org [217.70.189.124])
	by inbox.dpdk.org (Postfix) with ESMTP id CD10D457C4
	for <public@inbox.dpdk.org>; Wed, 14 Aug 2024 16:19:21 +0200 (CEST)
Received: from mails.dpdk.org (localhost [127.0.0.1])
	by mails.dpdk.org (Postfix) with ESMTP id BDCA2402C4;
	Wed, 14 Aug 2024 16:19:21 +0200 (CEST)
Received: from mail-yb1-f227.google.com (mail-yb1-f227.google.com
 [209.85.219.227])
 by mails.dpdk.org (Postfix) with ESMTP id 9842240274
 for <test-report@dpdk.org>; Wed, 14 Aug 2024 16:19:20 +0200 (CEST)
Received: by mail-yb1-f227.google.com with SMTP id
 3f1490d57ef6-e05e94a979eso792515276.0
 for <test-report@dpdk.org>; Wed, 14 Aug 2024 07:19:20 -0700 (PDT)
DKIM-Signature: v=1; a=rsa-sha256; c=relaxed/relaxed;
 d=iol.unh.edu; s=unh-iol; t=1723645160; x=1724249960; darn=dpdk.org;
 h=references:in-reply-to:cc:to:from:subject:message-id:date:from:to
 :cc:subject:date:message-id:reply-to;
 bh=Hw5R/mWcwR2qjPBteqitgnZc2KZ+UcXcBo09FHjZAiI=;
 b=DJgi8l32QIO4pGsu1JAQPBJOLCPhSQmm8P3RdjMLo7xMfwfEaWXTgOyCFzoKJp69Kn
 L58uRCcWnQE0eaLaOXLPzDgeTQQiZ9VsYxZ4oaHL92dDUaqLWom6J1jRHlr65wYk7rbO
 CXUjMnPpjQCxOPlXAo/aZ9LVwOR1iOBpdpxPA=
X-Google-DKIM-Signature: v=1; a=rsa-sha256; c=relaxed/relaxed;
 d=1e100.net; s=20230601; t=1723645160; x=1724249960;
 h=references:in-reply-to:cc:to:from:subject:message-id:date
 :x-gm-message-state:from:to:cc:subject:date:message-id:reply-to;
 bh=Hw5R/mWcwR2qjPBteqitgnZc2KZ+UcXcBo09FHjZAiI=;
 b=vhIgR+Gu0+6iFUOHp7Tf5hT5JCuHi0jN2ZujMSq23dFswJzcFY0Z7FjGDo9GSLThHv
 rt1CkqtFyzZptxOaLfFVKMiVRUlDiwNB+IWd+9NPmS7I95wMJEt1UT43q4OUfSvhUCCE
 PvyQvjnoZZqm67z5siOnp+SM0Z8ZbDIRTnq89d/+Hsu6omMMUzqQoVTLEetFjwyXxtNv
 DEGmnwI4a4iaJSG6YXpJPMbiVGWzOHPjXtFTDoRkC5d5V0yTxCrrY2aw47ArBz7Kn4ur
 qEXIR70w3iL3RN1PMHSl4wfGF1TXJJIzgvBhFlKpxRxNXkat7A3hEoiaOf7usso8VHGj
 WGZw==
X-Gm-Message-State: AOJu0Yx51h+EGZxUMr42C6aeMlN3+RCuEmVTZPRIfbbNXRwHRyw+3HIs
 fRr0ueywi2JQK65X6l26rOiLFrkZbwgBNsOMGT1rQ13UfrJYTYtfhCMHQx4jirbMgNnnXej5+J2
 O+xXpl9XAwBx5XS+Suqz08frBusoBaCDIfiRK0qak5c4U/U47X1991YF4
X-Google-Smtp-Source: AGHT+IEDi5L1qPYWtp/+ycVdh/tHTMI0i7GUlGIc0OVaFF232WGEY9z6J4gkO3CntEpaycG+x+w6evAkez2G
X-Received: by 2002:a05:690c:6608:b0:640:aec2:101c with SMTP id
 00721157ae682-6ad19994ebcmr18710747b3.2.1723645160008; 
 Wed, 14 Aug 2024 07:19:20 -0700 (PDT)
Received: from postal.iol.unh.edu (postal.iol.unh.edu.
 [2606:4100:3880:1234::84]) by smtp-relay.gmail.com with ESMTPS id
 00721157ae682-6a0a3c757d1sm5054637b3.57.2024.08.14.07.19.19
 (version=TLS1_2 cipher=ECDHE-ECDSA-AES128-GCM-SHA256 bits=128/128);
 Wed, 14 Aug 2024 07:19:19 -0700 (PDT)
X-Relaying-Domain: iol.unh.edu
Date: Wed, 14 Aug 2024 07:19:19 -0700 (PDT)
Message-ID: <66bcbce7.050a0220.2389ba.72adSMTPIN_ADDED_MISSING@mx.google.com>
Received: from [172.21.0.7] (unknown [172.18.0.240])
 by postal.iol.unh.edu (Postfix) with ESMTP id A517860526E2;
 Wed, 14 Aug 2024 10:19:19 -0400 (EDT)
Subject: |PENDING| pw143149-143174 [PATCH] [v3,26/26] config: add computed ma
From: dpdklab@iol.unh.edu
To: Test Report <test-report@dpdk.org>
Cc: dpdk-test-reports@iol.unh.edu
In-Reply-To: <20240814104933.14062-27-bruce.richardson@intel.com>
References: <20240814104933.14062-27-bruce.richardson@intel.com>
Content-Type: text/plain
X-BeenThere: test-report@dpdk.org
X-Mailman-Version: 2.1.29
Precedence: list
List-Id: automatic DPDK test reports <test-report.dpdk.org>
List-Unsubscribe: <https://mails.dpdk.org/options/test-report>,
 <mailto:test-report-request@dpdk.org?subject=unsubscribe>
List-Archive: <http://mails.dpdk.org/archives/test-report/>
List-Post: <mailto:test-report@dpdk.org>
List-Help: <mailto:test-report-request@dpdk.org?subject=help>
List-Subscribe: <https://mails.dpdk.org/listinfo/test-report>,
 <mailto:test-report-request@dpdk.org?subject=subscribe>
Errors-To: test-report-bounces@dpdk.org

Test-Label: iol-compile-arm64-testing
Test-Status: PENDING
http://dpdk.org/patch/143174

_Testing pending_

Submitter: Bruce Richardson <bruce.richardson@intel.com>
Date: Wednesday, August 14 2024 10:49:32 
DPDK git baseline: Repo:dpdk
  Branch: master
  CommitID:cb9187bc5c2b4bab0ad80194ac3b60491de14e8c

143149-143174 --> testing pending

Upstream job id: Generic-DPDK-Compile-Meson#288514

Test environment and result as below:

+----------------------------------------+--------------------+
|              Environment               | dpdk_meson_compile |
+========================================+====================+
| RHEL9 (ARM)                            | PASS               |
+----------------------------------------+--------------------+
| Ubuntu 20.04 ARM GCC Cross Compile     | PEND               |
+----------------------------------------+--------------------+
| Ubuntu 20.04 ARM SVE                   | PASS               |
+----------------------------------------+--------------------+
| Debian 12 with MUSDK                   | PASS               |
+----------------------------------------+--------------------+
| Fedora 37 (ARM)                        | PASS               |
+----------------------------------------+--------------------+
| Fedora 38 (ARM)                        | PASS               |
+----------------------------------------+--------------------+
| Fedora 38 (ARM Clang)                  | PEND               |
+----------------------------------------+--------------------+
| Fedora 39 (ARM)                        | PASS               |
+----------------------------------------+--------------------+
| Fedora 39 (ARM Clang)                  | PEND               |
+----------------------------------------+--------------------+
| Fedora 40 (ARM)                        | PEND               |
+----------------------------------------+--------------------+
| Fedora 40 (ARM Clang)                  | PEND               |
+----------------------------------------+--------------------+
| Ubuntu 20.04 (ARM)                     | PASS               |
+----------------------------------------+--------------------+
| Ubuntu 22.04 (ARM)                     | PASS               |
+----------------------------------------+--------------------+
| Ubuntu 24.04 (ARM)                     | PEND               |
+----------------------------------------+--------------------+
| CentOS Stream 9 (ARM)                  | PASS               |
+----------------------------------------+--------------------+
| Debian 11 (Buster) (ARM)               | PASS               |
+----------------------------------------+--------------------+
| Debian 12 (arm)                        | PASS               |
+----------------------------------------+--------------------+
| Ubuntu 20.04 ARM Clang Cross Compile   | PEND               |
+----------------------------------------+--------------------+
| Ubuntu 20.04 aarch32 GCC Cross Compile | PEND               |
+----------------------------------------+--------------------+


RHEL9 (ARM)
	Kernel: Depends on container host
	Compiler: gcc 11.4.1

Ubuntu 20.04 ARM GCC Cross Compile
	Kernel: 5.4.0-167-generic
	Compiler: aarch64-linux-gnu-gcc (Ubuntu 9.4.0-1ubuntu1~20.04.2) 9.4.0

Ubuntu 20.04 ARM SVE
	Kernel: 5.4.0-167-generic
	Compiler: gcc (Ubuntu 10.5.0-1ubuntu1~20.04) 10.5.0

Debian 12 with MUSDK
	Kernel: Container Host Kernel
	Compiler: gcc 12.2.0

Fedora 37 (ARM)
	Kernel: Depends on container host
	Compiler: gcc 12.3.1

Fedora 38 (ARM)
	Kernel: Depends on container host
	Compiler: gcc 13.2.1

Fedora 38 (ARM Clang)
	Kernel: Depends on container host
	Compiler: clang 16.0.6

Fedora 39 (ARM)
	Kernel: Depends on container host
	Compiler: gcc 13.2.1

Fedora 39 (ARM Clang)
	Kernel: Depends on container host
	Compiler: clang 17.0.6

Fedora 40 (ARM)
	Kernel: Depends on container host
	Compiler: gcc 14.1.1

Fedora 40 (ARM Clang)
	Kernel: Depends on container host
	Compiler: clang 18.1.6

Ubuntu 20.04 (ARM)
	Kernel: Container Host Kernel
	Compiler: gcc 9.4.0

Ubuntu 22.04 (ARM)
	Kernel: Container Host Kernel
	Compiler: gcc 11.4.0

Ubuntu 24.04 (ARM)
	Kernel: 5.4.0-167-generic
	Compiler: gcc 13.2.0

CentOS Stream 9 (ARM)
	Kernel: Container Host Kernel
	Compiler: gcc 11.4.1

Debian 11 (Buster) (ARM)
	Kernel: Container Host Kernel
	Compiler: gcc 10.2.1

Debian 12 (arm)
	Kernel: Container Host Kernel
	Compiler: gcc 12.2.0

Ubuntu 20.04 ARM Clang Cross Compile
	Kernel: 5.4.0-72-generic
	Compiler: clang 10.0.0-4ubuntu1

Ubuntu 20.04 aarch32 GCC Cross Compile
	Kernel: 5.4.0-167-generic
	Compiler: gcc 9.4.0

To view detailed results, visit:
https://lab.dpdk.org/results/dashboard/patchsets/30790/

UNH-IOL DPDK Community Lab

To manage your email subscriptions, visit: 
https://lab.dpdk.org/results/dashboard/preferences/subscriptions/