From mboxrd@z Thu Jan  1 00:00:00 1970
Return-Path: <test-report-bounces@dpdk.org>
Received: from mails.dpdk.org (mails.dpdk.org [217.70.189.124])
	by inbox.dpdk.org (Postfix) with ESMTP id 79388457C4
	for <public@inbox.dpdk.org>; Wed, 14 Aug 2024 16:22:04 +0200 (CEST)
Received: from mails.dpdk.org (localhost [127.0.0.1])
	by mails.dpdk.org (Postfix) with ESMTP id 7498D402C4;
	Wed, 14 Aug 2024 16:22:04 +0200 (CEST)
Received: from mail-yw1-f226.google.com (mail-yw1-f226.google.com
 [209.85.128.226])
 by mails.dpdk.org (Postfix) with ESMTP id 2156E40274
 for <test-report@dpdk.org>; Wed, 14 Aug 2024 16:22:03 +0200 (CEST)
Received: by mail-yw1-f226.google.com with SMTP id
 00721157ae682-690ad83d4d7so63523397b3.3
 for <test-report@dpdk.org>; Wed, 14 Aug 2024 07:22:03 -0700 (PDT)
DKIM-Signature: v=1; a=rsa-sha256; c=relaxed/relaxed;
 d=iol.unh.edu; s=unh-iol; t=1723645322; x=1724250122; darn=dpdk.org;
 h=references:in-reply-to:cc:to:from:subject:message-id:date:from:to
 :cc:subject:date:message-id:reply-to;
 bh=Yx5jwSgGvZLAHE+qBho/TxvSxs4daqgSW9EaoNhXKyE=;
 b=iKNEsFJigdPBgk/RIlIntAo9wuwLdtASA8SlDbHT03/VefC9OUVE8DDZ3ZlyCse+cj
 XK/lXs4hQUeGf2356tyuLr15BzTreoLHcUDM8h7dLWQk0T1L+CwW+n+z1yGtZrcmSU9s
 SkgJfGwyo6sTz4TidRsFEBRuhG1cwiEMFbf7k=
X-Google-DKIM-Signature: v=1; a=rsa-sha256; c=relaxed/relaxed;
 d=1e100.net; s=20230601; t=1723645322; x=1724250122;
 h=references:in-reply-to:cc:to:from:subject:message-id:date
 :x-gm-message-state:from:to:cc:subject:date:message-id:reply-to;
 bh=Yx5jwSgGvZLAHE+qBho/TxvSxs4daqgSW9EaoNhXKyE=;
 b=PsgC3X0KiCgwi9uyrHkrhmS1WvyMi52VUuybBj4DXaSMfl+Tg14y67HSlVk2A3Zaj6
 nIR7636p62Y181wp6D95xQaSGC5zRyL7VVIUxvSCYJT+vYQy/lpLCEEvkZ833wPWmYVp
 /B0LdnuqbHnFtY1jRyuBtpwysOZaJgfnQu8R8b0E5fQW4RT0YfkHFmQ9OuCh0wGtB6ch
 jSVIhDIv2bwkmR0YmNrA2LBusyEwIeVI7dFQJ6rsciVbNvgFJ835eHmbAC/K1/ulIu5a
 gID+MAlm0pQquXW820+TDQyNd+bHArEeNzTpXVW9NjDYyMNGA5vntA8qbJpx9lqc4wCy
 /l5Q==
X-Gm-Message-State: AOJu0YwdksIxHLfpJdrfitI2Fgjl5owxZoOA0jdPrQmynD8vO5oVClot
 Yy2FxRNgysg7yg7dOEGrXbSvIfOeFWCUTCaNcfEpoQ/e0trx+xmaj8D2cvHOFvg82lUobYAv80o
 6uPmsLZm/Ey0o89zLcXdXFXHtAQQKFWRCXvVJSg3h
X-Google-Smtp-Source: AGHT+IHJgQuIL51s9c3+Pdn+vx9ecfO6/svZX3f5NF4mUL+TuUBSvyUvLv1Dgut0B5xvv0L5Cq6FU+JZ8HhZ
X-Received: by 2002:a05:690c:3190:b0:699:7b60:d349 with SMTP id
 00721157ae682-6ac96bb4db8mr26075507b3.11.1723645322516; 
 Wed, 14 Aug 2024 07:22:02 -0700 (PDT)
Received: from postal.iol.unh.edu (postal.iol.unh.edu. [132.177.123.84])
 by smtp-relay.gmail.com with ESMTPS id
 00721157ae682-6a09f908894sm7863517b3.10.2024.08.14.07.22.01
 (version=TLS1_2 cipher=ECDHE-ECDSA-AES128-GCM-SHA256 bits=128/128);
 Wed, 14 Aug 2024 07:22:01 -0700 (PDT)
X-Relaying-Domain: iol.unh.edu
Date: Wed, 14 Aug 2024 07:22:01 -0700 (PDT)
Message-ID: <66bcbd89.0d0a0220.5e308.dac2SMTPIN_ADDED_MISSING@mx.google.com>
Received: from [172.21.0.7] (unknown [172.18.0.240])
 by postal.iol.unh.edu (Postfix) with ESMTP id 79DAB60526E2;
 Wed, 14 Aug 2024 10:22:01 -0400 (EDT)
Subject: |PENDING| pw143149-143174 [PATCH] [v3,26/26] config: add computed ma
From: dpdklab@iol.unh.edu
To: Test Report <test-report@dpdk.org>
Cc: dpdk-test-reports@iol.unh.edu
In-Reply-To: <20240814104933.14062-27-bruce.richardson@intel.com>
References: <20240814104933.14062-27-bruce.richardson@intel.com>
Content-Type: text/plain
X-BeenThere: test-report@dpdk.org
X-Mailman-Version: 2.1.29
Precedence: list
List-Id: automatic DPDK test reports <test-report.dpdk.org>
List-Unsubscribe: <https://mails.dpdk.org/options/test-report>,
 <mailto:test-report-request@dpdk.org?subject=unsubscribe>
List-Archive: <http://mails.dpdk.org/archives/test-report/>
List-Post: <mailto:test-report@dpdk.org>
List-Help: <mailto:test-report-request@dpdk.org?subject=help>
List-Subscribe: <https://mails.dpdk.org/listinfo/test-report>,
 <mailto:test-report-request@dpdk.org?subject=subscribe>
Errors-To: test-report-bounces@dpdk.org

Test-Label: iol-unit-amd64-testing
Test-Status: PENDING
http://dpdk.org/patch/143174

_Testing pending_

Submitter: Bruce Richardson <bruce.richardson@intel.com>
Date: Wednesday, August 14 2024 10:49:32 
DPDK git baseline: Repo:dpdk
  Branch: master
  CommitID:cb9187bc5c2b4bab0ad80194ac3b60491de14e8c

143149-143174 --> testing pending

Upstream job id: Generic-Unit-Test-DPDK#252246

Test environment and result as below:

+---------------------+----------------+
|     Environment     | dpdk_unit_test |
+=====================+================+
| Windows Server 2019 | PASS           |
+---------------------+----------------+
| Windows Server 2022 | PASS           |
+---------------------+----------------+
| CentOS Stream 9     | PASS           |
+---------------------+----------------+
| Debian Bullseye     | PASS           |
+---------------------+----------------+
| Debian 12           | PASS           |
+---------------------+----------------+
| Fedora 37           | PASS           |
+---------------------+----------------+
| Fedora 38           | PASS           |
+---------------------+----------------+
| Fedora 38 (Clang)   | PASS           |
+---------------------+----------------+
| Fedora 39           | PASS           |
+---------------------+----------------+
| Fedora 39 (Clang)   | PASS           |
+---------------------+----------------+
| Fedora 40           | PASS           |
+---------------------+----------------+
| Fedora 40 (Clang)   | PEND           |
+---------------------+----------------+
| openSUSE Leap 15    | PASS           |
+---------------------+----------------+
| RHEL8               | PASS           |
+---------------------+----------------+
| RHEL9               | PEND           |
+---------------------+----------------+
| Ubuntu 20.04        | PEND           |
+---------------------+----------------+
| Ubuntu 22.04        | PEND           |
+---------------------+----------------+
| Ubuntu 24.04        | PEND           |
+---------------------+----------------+


Windows Server 2019
	Kernel: 10.0.17763
	Compiler: clang 14.0 and gcc 8.1.0 (MinGW)

Windows Server 2022
	Kernel: 10.0.20348.2031
	Compiler: clang 15.0.7, gcc 8.1.0 (MinGW), and MSVC VS 17.9

CentOS Stream 9
	Kernel: 5.4.0-167-generic
	Compiler: gcc 11.4.1 20230605

Debian Bullseye
	Kernel: 5.4.0-167-generic
	Compiler: gcc 10.2.1-6

Debian 12
	Kernel: Container Host Kernel
	Compiler: gcc 12.2.0

Fedora 37
	Kernel: Depends on container host system
	Compiler: gcc 12.3.1

Fedora 38
	Kernel: Depends on container host
	Compiler: gcc 13.2.1

Fedora 38 (Clang)
	Kernel: Depends on container host
	Compiler: clang 16.0.6

Fedora 39
	Kernel: Depends on container host
	Compiler: gcc 13.2.1

Fedora 39 (Clang)
	Kernel: Depends on container host
	Compiler: clang 17.0.6

Fedora 40
	Kernel: Depends on container host
	Compiler: gcc 14.1.1

Fedora 40 (Clang)
	Kernel: Depends on container host
	Compiler: clang 18.1.6

openSUSE Leap 15
	Kernel: 5.4.0-167-generic
	Compiler: gcc 7.5.0

RHEL8
	Kernel: 5.4.0-167-generic
	Compiler: gcc 8.5.0 20210514 (Red Hat 8.5.0-20)

RHEL9
	Kernel: Depends on container host
	Compiler: gcc 11.4.1

Ubuntu 20.04
	Kernel: 5.4.0-167-generic
	Compiler: gcc 9.4.0-1ubuntu1~20.04.1

Ubuntu 22.04
	Kernel: 5.4.0-167-generic
	Compiler: gcc 11.4.0

Ubuntu 24.04
	Kernel: 5.4.0-167-generic
	Compiler: gcc 13.2.0

To view detailed results, visit:
https://lab.dpdk.org/results/dashboard/patchsets/30790/

UNH-IOL DPDK Community Lab

To manage your email subscriptions, visit: 
https://lab.dpdk.org/results/dashboard/preferences/subscriptions/