From mboxrd@z Thu Jan  1 00:00:00 1970
Return-Path: <test-report-bounces@dpdk.org>
Received: from mails.dpdk.org (mails.dpdk.org [217.70.189.124])
	by inbox.dpdk.org (Postfix) with ESMTP id 493D2457C4
	for <public@inbox.dpdk.org>; Wed, 14 Aug 2024 17:42:31 +0200 (CEST)
Received: from mails.dpdk.org (localhost [127.0.0.1])
	by mails.dpdk.org (Postfix) with ESMTP id 4682F40647;
	Wed, 14 Aug 2024 17:42:31 +0200 (CEST)
Received: from mail-oi1-f227.google.com (mail-oi1-f227.google.com
 [209.85.167.227])
 by mails.dpdk.org (Postfix) with ESMTP id 8E884402C4
 for <test-report@dpdk.org>; Wed, 14 Aug 2024 17:42:29 +0200 (CEST)
Received: by mail-oi1-f227.google.com with SMTP id
 5614622812f47-3dd16257b87so1846319b6e.2
 for <test-report@dpdk.org>; Wed, 14 Aug 2024 08:42:29 -0700 (PDT)
DKIM-Signature: v=1; a=rsa-sha256; c=relaxed/relaxed;
 d=iol.unh.edu; s=unh-iol; t=1723650148; x=1724254948; darn=dpdk.org;
 h=references:in-reply-to:cc:to:from:subject:message-id:date:from:to
 :cc:subject:date:message-id:reply-to;
 bh=Mw9ghdDh3UGTd759oPkSOBWMAhoPKCwwxehRrSAYJig=;
 b=i7JrM6ZSA1GTE+z4nMUhI6o947QDVSoqNz6/pYSWfIEtf57JIPiz5ZWgxWa/DmzetP
 l72fKAlbRbGIMujHezRZLBIN5+3zdC+SAacrkTPe6BdRRnPZ6GBrjDCnrNHUhSuSOf8L
 eSH2V41rreBDhL/WDYFUncsir6qpQWvcx9ZmU=
X-Google-DKIM-Signature: v=1; a=rsa-sha256; c=relaxed/relaxed;
 d=1e100.net; s=20230601; t=1723650148; x=1724254948;
 h=references:in-reply-to:cc:to:from:subject:message-id:date
 :x-gm-message-state:from:to:cc:subject:date:message-id:reply-to;
 bh=Mw9ghdDh3UGTd759oPkSOBWMAhoPKCwwxehRrSAYJig=;
 b=E8JPsXBiIySPEcBhgGs84upB2s2rYbLWrue2roundhuKED8Z4cM0fZw0RhkZW26HI9
 E8Qo6OuVLlnNX00B96gNOi7/eRr/eL25oadiNRxDYMm8l/nbWXQVJqBau/lfoLuaGuIr
 zbwSpzF8vw06ChtnBfDzw8PRP1s1iH1LGl0AV5VYvEMYhZOP79f3DbEHbOMzuAfzI/oT
 oIoNT5gRUeCIf8virKG3Q0LlWY6ALg2LU0qEx3uCTW62QHRDD32EAA+QD1wERs1o0BUN
 8LlE75ccbAE17iUueVeoQAz79k6kESA2ejkBsNyAwjhGJEhGIB9YGY4dwzm+6+b+5WII
 ETOg==
X-Gm-Message-State: AOJu0YySmWmhoTf+bGT/m6OrEd+lSxQbf3PwcVDJR3PgdAU0xt4X9gox
 gpFPy8/gzcSghO+/OO2LUUO1OHEroNbU0uTfvgncgisxUB3cfF5f759gJkA3vosl/uHO/mRnO9K
 8moalbNaiTWn0tzyFUTziFbyqs3mHnqt+/H37RvFK
X-Google-Smtp-Source: AGHT+IG3nt0KUYc28vA1+3IQYB+xHzQ/bqEYT/Nuqck9V715MyP3srVhtgIh4Ge9ZjfQKRx+mHLDE3fBWVcp
X-Received: by 2002:a05:6870:b61e:b0:261:2072:7b5d with SMTP id
 586e51a60fabf-26fe5ae7efemr3660288fac.29.1723650148716; 
 Wed, 14 Aug 2024 08:42:28 -0700 (PDT)
Received: from postal.iol.unh.edu (postal.iol.unh.edu. [132.177.123.84])
 by smtp-relay.gmail.com with ESMTPS id
 586e51a60fabf-26c722f17c0sm624665fac.40.2024.08.14.08.42.28
 (version=TLS1_2 cipher=ECDHE-ECDSA-AES128-GCM-SHA256 bits=128/128);
 Wed, 14 Aug 2024 08:42:28 -0700 (PDT)
X-Relaying-Domain: iol.unh.edu
Date: Wed, 14 Aug 2024 08:42:28 -0700 (PDT)
Message-ID: <66bcd064.050a0220.ad94c.0d4cSMTPIN_ADDED_MISSING@mx.google.com>
Received: from [172.17.0.5] (unknown [172.18.0.215])
 by postal.iol.unh.edu (Postfix) with ESMTP id 554126050A6B;
 Wed, 14 Aug 2024 11:42:28 -0400 (EDT)
Subject: |PENDING| pw143177-143181 [PATCH] [v17,5/5] dts: add API doc generat
From: dpdklab@iol.unh.edu
To: Test Report <test-report@dpdk.org>
Cc: dpdk-test-reports@iol.unh.edu
In-Reply-To: <20240814150535.239547-6-juraj.linkes@pantheon.tech>
References: <20240814150535.239547-6-juraj.linkes@pantheon.tech>
Content-Type: text/plain
X-BeenThere: test-report@dpdk.org
X-Mailman-Version: 2.1.29
Precedence: list
List-Id: automatic DPDK test reports <test-report.dpdk.org>
List-Unsubscribe: <https://mails.dpdk.org/options/test-report>,
 <mailto:test-report-request@dpdk.org?subject=unsubscribe>
List-Archive: <http://mails.dpdk.org/archives/test-report/>
List-Post: <mailto:test-report@dpdk.org>
List-Help: <mailto:test-report-request@dpdk.org?subject=help>
List-Subscribe: <https://mails.dpdk.org/listinfo/test-report>,
 <mailto:test-report-request@dpdk.org?subject=subscribe>
Errors-To: test-report-bounces@dpdk.org

Test-Label: iol-unit-amd64-testing
Test-Status: PENDING
http://dpdk.org/patch/143181

_Testing pending_

Submitter: Juraj Linkes <juraj.linkes@pantheon.tech>
Date: Wednesday, August 14 2024 15:05:35 
DPDK git baseline: Repo:dpdk
  Branch: master
  CommitID:cb9187bc5c2b4bab0ad80194ac3b60491de14e8c

143177-143181 --> testing pending

Upstream job id: Generic-Unit-Test-DPDK#252263

Test environment and result as below:

+---------------------+----------------+
|     Environment     | dpdk_unit_test |
+=====================+================+
| Windows Server 2022 | PEND           |
+---------------------+----------------+
| Windows Server 2019 | PEND           |
+---------------------+----------------+
| CentOS Stream 9     | PASS           |
+---------------------+----------------+
| Debian Bullseye     | PASS           |
+---------------------+----------------+
| Fedora 37           | PASS           |
+---------------------+----------------+
| Debian 12           | PEND           |
+---------------------+----------------+
| Fedora 38           | PEND           |
+---------------------+----------------+
| Fedora 38 (Clang)   | PEND           |
+---------------------+----------------+
| Fedora 39           | PEND           |
+---------------------+----------------+


Windows Server 2022
	Kernel: 10.0.20348.2031
	Compiler: clang 15.0.7, gcc 8.1.0 (MinGW), and MSVC VS 17.9

Windows Server 2019
	Kernel: 10.0.17763
	Compiler: clang 14.0 and gcc 8.1.0 (MinGW)

CentOS Stream 9
	Kernel: 5.4.0-167-generic
	Compiler: gcc 11.4.1 20230605

Debian Bullseye
	Kernel: 5.4.0-167-generic
	Compiler: gcc 10.2.1-6

Fedora 37
	Kernel: Depends on container host system
	Compiler: gcc 12.3.1

Debian 12
	Kernel: Container Host Kernel
	Compiler: gcc 12.2.0

Fedora 38
	Kernel: Depends on container host
	Compiler: gcc 13.2.1

Fedora 38 (Clang)
	Kernel: Depends on container host
	Compiler: clang 16.0.6

Fedora 39
	Kernel: Depends on container host
	Compiler: gcc 13.2.1

To view detailed results, visit:
https://lab.dpdk.org/results/dashboard/patchsets/30792/

UNH-IOL DPDK Community Lab

To manage your email subscriptions, visit: 
https://lab.dpdk.org/results/dashboard/preferences/subscriptions/