From mboxrd@z Thu Jan  1 00:00:00 1970
Return-Path: <test-report-bounces@dpdk.org>
Received: from mails.dpdk.org (mails.dpdk.org [217.70.189.124])
	by inbox.dpdk.org (Postfix) with ESMTP id 36EA9457C5
	for <public@inbox.dpdk.org>; Wed, 14 Aug 2024 18:03:30 +0200 (CEST)
Received: from mails.dpdk.org (localhost [127.0.0.1])
	by mails.dpdk.org (Postfix) with ESMTP id 323AE40647;
	Wed, 14 Aug 2024 18:03:30 +0200 (CEST)
Received: from mail-pj1-f99.google.com (mail-pj1-f99.google.com
 [209.85.216.99]) by mails.dpdk.org (Postfix) with ESMTP id 3FDA3402C4
 for <test-report@dpdk.org>; Wed, 14 Aug 2024 18:03:29 +0200 (CEST)
Received: by mail-pj1-f99.google.com with SMTP id
 98e67ed59e1d1-2cd48ad7f0dso5280673a91.0
 for <test-report@dpdk.org>; Wed, 14 Aug 2024 09:03:29 -0700 (PDT)
DKIM-Signature: v=1; a=rsa-sha256; c=relaxed/relaxed;
 d=iol.unh.edu; s=unh-iol; t=1723651408; x=1724256208; darn=dpdk.org;
 h=references:in-reply-to:cc:to:from:subject:message-id:date:from:to
 :cc:subject:date:message-id:reply-to;
 bh=5c2auJx+TozDn1BWP9HGLPR3K852LTgkAXj40ur3haw=;
 b=hWnd9woHGai5EBIzFMB1XQNdtZsaPLXY7hvXtBZ7HhZwQlYQNjwUyB0SNCdIfJCDks
 EJiX2yc9PeBNmKOLvNksCGYztmIqFZed5t2W4YD2OeLeQCqAwcMgqOeei/ppsU7ggHaZ
 NPLXWmSvbK9O8mMPp1hCLorKTPVSvPstpoi+A=
X-Google-DKIM-Signature: v=1; a=rsa-sha256; c=relaxed/relaxed;
 d=1e100.net; s=20230601; t=1723651408; x=1724256208;
 h=references:in-reply-to:cc:to:from:subject:message-id:date
 :x-gm-message-state:from:to:cc:subject:date:message-id:reply-to;
 bh=5c2auJx+TozDn1BWP9HGLPR3K852LTgkAXj40ur3haw=;
 b=dtN1EZwka/TcBf2YBNLOHojIn8Yhr0iRf32FAHf5nWqEWsCLDqOF+OlDf1AuYRfAec
 cOV+RHw+KEI5JO5ktpkij6tAVfjyMfhGaAA7jZS2CN65V0lxjHQ0vKs1d7wT/IijvnWD
 DI3tx/b/miXjGc7TolsE64h/YvYGkG403HIw2Q/pmHTqRRZnn4txyornhUV4YcAJ9H0d
 ozveW+XKujnWBfVg+1iQA3TyMEdHAVIYYzhvpgqacQGjwqRsv4oeDVCYtU/EIuGDSqfB
 77wniX6JQ0dmfW0UfInPmlZydxah5iD10zVDO2vfMR6fMV5N9Gkgd/2ysvFId5c1ibrG
 onZw==
X-Gm-Message-State: AOJu0YxFpDfl679S3nMkpOlhHmiAtn08XNKKbi/mNZkTvLqKIx6qR/Fd
 zVgaVPa8Nv6CWEnyjR5y07VH1l27A06ASlMbQ8JWLo/kT/63hAMB7MXt5pr0VBUevARHDxy5cTk
 vWrIkGcTp9FuosGFFB4FXxFeENNhVIY+tJG3U6tz4
X-Google-Smtp-Source: AGHT+IFsrZiAonUE381NY+Aa0V6dJMugGDf4xdHU1q1T3zypdE0K5AH2I2yjtPj+p/4EPubtLvKcoSgb8DgH
X-Received: by 2002:a17:90b:250:b0:2d3:bc5f:715f with SMTP id
 98e67ed59e1d1-2d3bc5f7783mr1177942a91.10.1723651408027; 
 Wed, 14 Aug 2024 09:03:28 -0700 (PDT)
Received: from postal.iol.unh.edu (postal.iol.unh.edu. [132.177.123.84])
 by smtp-relay.gmail.com with ESMTPS id
 98e67ed59e1d1-2d39881ac79sm49183a91.1.2024.08.14.09.03.27
 (version=TLS1_2 cipher=ECDHE-ECDSA-AES128-GCM-SHA256 bits=128/128);
 Wed, 14 Aug 2024 09:03:28 -0700 (PDT)
X-Relaying-Domain: iol.unh.edu
Date: Wed, 14 Aug 2024 09:03:28 -0700 (PDT)
Message-ID: <66bcd550.170a0220.d5fe5.1e98SMTPIN_ADDED_MISSING@mx.google.com>
Received: from [172.17.0.2] (unknown [172.18.0.217])
 by postal.iol.unh.edu (Postfix) with ESMTP id 12195605C351;
 Wed, 14 Aug 2024 12:03:27 -0400 (EDT)
Subject: |PENDING| pw143177-143181 [PATCH] [v17,5/5] dts: add API doc generat
From: dpdklab@iol.unh.edu
To: Test Report <test-report@dpdk.org>
Cc: dpdk-test-reports@iol.unh.edu
In-Reply-To: <20240814150535.239547-6-juraj.linkes@pantheon.tech>
References: <20240814150535.239547-6-juraj.linkes@pantheon.tech>
Content-Type: text/plain
X-BeenThere: test-report@dpdk.org
X-Mailman-Version: 2.1.29
Precedence: list
List-Id: automatic DPDK test reports <test-report.dpdk.org>
List-Unsubscribe: <https://mails.dpdk.org/options/test-report>,
 <mailto:test-report-request@dpdk.org?subject=unsubscribe>
List-Archive: <http://mails.dpdk.org/archives/test-report/>
List-Post: <mailto:test-report@dpdk.org>
List-Help: <mailto:test-report-request@dpdk.org?subject=help>
List-Subscribe: <https://mails.dpdk.org/listinfo/test-report>,
 <mailto:test-report-request@dpdk.org?subject=subscribe>
Errors-To: test-report-bounces@dpdk.org

Test-Label: iol-unit-amd64-testing
Test-Status: PENDING
http://dpdk.org/patch/143181

_Testing pending_

Submitter: Juraj Linkes <juraj.linkes@pantheon.tech>
Date: Wednesday, August 14 2024 15:05:35 
DPDK git baseline: Repo:dpdk
  Branch: master
  CommitID:cb9187bc5c2b4bab0ad80194ac3b60491de14e8c

143177-143181 --> testing pending

Upstream job id: Generic-Unit-Test-DPDK#252281

Test environment and result as below:

+---------------------+----------------+
|     Environment     | dpdk_unit_test |
+=====================+================+
| Windows Server 2022 | PASS           |
+---------------------+----------------+
| Windows Server 2019 | PASS           |
+---------------------+----------------+
| CentOS Stream 9     | PASS           |
+---------------------+----------------+
| Debian Bullseye     | PASS           |
+---------------------+----------------+
| Fedora 37           | PASS           |
+---------------------+----------------+
| Debian 12           | PASS           |
+---------------------+----------------+
| Fedora 38           | PASS           |
+---------------------+----------------+
| Fedora 38 (Clang)   | PASS           |
+---------------------+----------------+
| Fedora 39           | PASS           |
+---------------------+----------------+
| Fedora 39 (Clang)   | PASS           |
+---------------------+----------------+
| Fedora 40           | PASS           |
+---------------------+----------------+
| openSUSE Leap 15    | PASS           |
+---------------------+----------------+
| Fedora 40 (Clang)   | PEND           |
+---------------------+----------------+
| RHEL8               | PEND           |
+---------------------+----------------+
| RHEL9               | PEND           |
+---------------------+----------------+
| Ubuntu 20.04        | PEND           |
+---------------------+----------------+


Windows Server 2022
	Kernel: 10.0.20348.2031
	Compiler: clang 15.0.7, gcc 8.1.0 (MinGW), and MSVC VS 17.9

Windows Server 2019
	Kernel: 10.0.17763
	Compiler: clang 14.0 and gcc 8.1.0 (MinGW)

CentOS Stream 9
	Kernel: 5.4.0-167-generic
	Compiler: gcc 11.4.1 20230605

Debian Bullseye
	Kernel: 5.4.0-167-generic
	Compiler: gcc 10.2.1-6

Fedora 37
	Kernel: Depends on container host system
	Compiler: gcc 12.3.1

Debian 12
	Kernel: Container Host Kernel
	Compiler: gcc 12.2.0

Fedora 38
	Kernel: Depends on container host
	Compiler: gcc 13.2.1

Fedora 38 (Clang)
	Kernel: Depends on container host
	Compiler: clang 16.0.6

Fedora 39
	Kernel: Depends on container host
	Compiler: gcc 13.2.1

Fedora 39 (Clang)
	Kernel: Depends on container host
	Compiler: clang 17.0.6

Fedora 40
	Kernel: Depends on container host
	Compiler: gcc 14.1.1

openSUSE Leap 15
	Kernel: 5.4.0-167-generic
	Compiler: gcc 7.5.0

Fedora 40 (Clang)
	Kernel: Depends on container host
	Compiler: clang 18.1.6

RHEL8
	Kernel: 5.4.0-167-generic
	Compiler: gcc 8.5.0 20210514 (Red Hat 8.5.0-20)

RHEL9
	Kernel: Depends on container host
	Compiler: gcc 11.4.1

Ubuntu 20.04
	Kernel: 5.4.0-167-generic
	Compiler: gcc 9.4.0-1ubuntu1~20.04.1

To view detailed results, visit:
https://lab.dpdk.org/results/dashboard/patchsets/30792/

UNH-IOL DPDK Community Lab

To manage your email subscriptions, visit: 
https://lab.dpdk.org/results/dashboard/preferences/subscriptions/