From mboxrd@z Thu Jan  1 00:00:00 1970
Return-Path: <test-report-bounces@dpdk.org>
Received: from mails.dpdk.org (mails.dpdk.org [217.70.189.124])
	by inbox.dpdk.org (Postfix) with ESMTP id DA2CF457C5
	for <public@inbox.dpdk.org>; Wed, 14 Aug 2024 18:28:44 +0200 (CEST)
Received: from mails.dpdk.org (localhost [127.0.0.1])
	by mails.dpdk.org (Postfix) with ESMTP id D481040647;
	Wed, 14 Aug 2024 18:28:44 +0200 (CEST)
Received: from mail-oa1-f100.google.com (mail-oa1-f100.google.com
 [209.85.160.100])
 by mails.dpdk.org (Postfix) with ESMTP id 30E3B402C4
 for <test-report@dpdk.org>; Wed, 14 Aug 2024 18:28:43 +0200 (CEST)
Received: by mail-oa1-f100.google.com with SMTP id
 586e51a60fabf-260209df55dso49233fac.2
 for <test-report@dpdk.org>; Wed, 14 Aug 2024 09:28:43 -0700 (PDT)
DKIM-Signature: v=1; a=rsa-sha256; c=relaxed/relaxed;
 d=iol.unh.edu; s=unh-iol; t=1723652922; x=1724257722; darn=dpdk.org;
 h=references:in-reply-to:cc:to:from:subject:message-id:date:from:to
 :cc:subject:date:message-id:reply-to;
 bh=OkpazMTei8Ap0moqfPhY68WlPR0anUCvOTYXzt6HNn0=;
 b=dT0uZrRIYzRgmmxaT3rcGDJYTma7w2j0D9gZMEpQ4e2Ps9NV5qY9uQ02SHK8e1tPax
 C9tF1bDdwZ3eiZdk1s0i6bCHkIZmSSwkWYltJqRxQs+IIo9aegmShn/6+/+SR2zDsT/x
 2AHlISAdYo5GPTOjy0ot54z3pFXxRnsNNXFqA=
X-Google-DKIM-Signature: v=1; a=rsa-sha256; c=relaxed/relaxed;
 d=1e100.net; s=20230601; t=1723652922; x=1724257722;
 h=references:in-reply-to:cc:to:from:subject:message-id:date
 :x-gm-message-state:from:to:cc:subject:date:message-id:reply-to;
 bh=OkpazMTei8Ap0moqfPhY68WlPR0anUCvOTYXzt6HNn0=;
 b=kahzweF0IB+nP7TL2HNtC/obXkJCg68SZbF7SRRpj6PCs25VWGLiQ9Wn9DM3ENNnev
 7EhQy7nbQjAdxnPl7H7K+kQJLdaH/HVnadYBPb4jKHRqNeN5P2DZGQY49N2JrobpMGo+
 76dIkgfkSiuBjodgmVZDi4hkHD2KiTgue+eRAAdJSPyiwCqLbO/7vuVnOPlfvxo2Ir7M
 mBnEDiA1S9q6hz8Jf0VznUTrg+XmA+qOZlpjAOXcL4Xk2E9vrXGFidf0So4NECdsCsxW
 jCvGYhPX1bNE7tUL8VZM4BB1NKtjCseHXOn4FHb/DPb6OnRWyDajXLhDWfF4GQ/Kpjvd
 l0RA==
X-Gm-Message-State: AOJu0Yx//KaslB3yVwtmvqdur4heoPCl3RlmAT7PQC3b2UlfXqe/zNp7
 2R+l0xHvLXcdhL04IMgLosOrdbEsFejOh9p9WSZiwM0moZV50EX2pDDP56LiWNlWD2M1iWIPARK
 Fpz7fG+XEyfDVH7/HfGx9idpLFAnaJuvcAQUp/mvtGrWi8t9J3C0+yIn4
X-Google-Smtp-Source: AGHT+IEHYYh0TtEmOkVJwH6d8qHxT8rueD/YOdSlw4R0jCV1SJKgrFN8Sujy3UC6Q6+FHku/iYoBbLCZ4lZQ
X-Received: by 2002:a05:6870:1649:b0:25e:76f:13f8 with SMTP id
 586e51a60fabf-26fe5c70ccemr3874462fac.45.1723652922447; 
 Wed, 14 Aug 2024 09:28:42 -0700 (PDT)
Received: from postal.iol.unh.edu (postal.iol.unh.edu.
 [2606:4100:3880:1234::84]) by smtp-relay.gmail.com with ESMTPS id
 586e51a60fabf-26c7210d9e7sm611817fac.29.2024.08.14.09.28.42
 (version=TLS1_2 cipher=ECDHE-ECDSA-AES128-GCM-SHA256 bits=128/128);
 Wed, 14 Aug 2024 09:28:42 -0700 (PDT)
X-Relaying-Domain: iol.unh.edu
Date: Wed, 14 Aug 2024 09:28:42 -0700 (PDT)
Message-ID: <66bcdb3a.050a0220.275b36.06e7SMTPIN_ADDED_MISSING@mx.google.com>
Received: from [172.17.0.4] (unknown [172.18.0.217])
 by postal.iol.unh.edu (Postfix) with ESMTP id DC9D9605C351;
 Wed, 14 Aug 2024 12:28:41 -0400 (EDT)
Subject: |PENDING| pw143177-143181 [PATCH] [v17,5/5] dts: add API doc generat
From: dpdklab@iol.unh.edu
To: Test Report <test-report@dpdk.org>
Cc: dpdk-test-reports@iol.unh.edu
In-Reply-To: <20240814150535.239547-6-juraj.linkes@pantheon.tech>
References: <20240814150535.239547-6-juraj.linkes@pantheon.tech>
Content-Type: text/plain
X-BeenThere: test-report@dpdk.org
X-Mailman-Version: 2.1.29
Precedence: list
List-Id: automatic DPDK test reports <test-report.dpdk.org>
List-Unsubscribe: <https://mails.dpdk.org/options/test-report>,
 <mailto:test-report-request@dpdk.org?subject=unsubscribe>
List-Archive: <http://mails.dpdk.org/archives/test-report/>
List-Post: <mailto:test-report@dpdk.org>
List-Help: <mailto:test-report-request@dpdk.org?subject=help>
List-Subscribe: <https://mails.dpdk.org/listinfo/test-report>,
 <mailto:test-report-request@dpdk.org?subject=subscribe>
Errors-To: test-report-bounces@dpdk.org

Test-Label: iol-compile-arm64-testing
Test-Status: PENDING
http://dpdk.org/patch/143181

_Testing pending_

Submitter: Juraj Linkes <juraj.linkes@pantheon.tech>
Date: Wednesday, August 14 2024 15:05:35 
DPDK git baseline: Repo:dpdk
  Branch: master
  CommitID:cb9187bc5c2b4bab0ad80194ac3b60491de14e8c

143177-143181 --> testing pending

Upstream job id: Generic-DPDK-Compile-Meson#288552

Test environment and result as below:

+----------------------------------------+--------------------+
|              Environment               | dpdk_meson_compile |
+========================================+====================+
| RHEL9 (ARM)                            | PASS               |
+----------------------------------------+--------------------+
| Ubuntu 20.04 ARM GCC Cross Compile     | PASS               |
+----------------------------------------+--------------------+
| Ubuntu 20.04 ARM SVE                   | PASS               |
+----------------------------------------+--------------------+
| Debian 12 with MUSDK                   | PASS               |
+----------------------------------------+--------------------+
| Fedora 38 (ARM)                        | PASS               |
+----------------------------------------+--------------------+
| Fedora 37 (ARM)                        | PASS               |
+----------------------------------------+--------------------+
| Fedora 39 (ARM)                        | PASS               |
+----------------------------------------+--------------------+
| Fedora 39 (ARM Clang)                  | PEND               |
+----------------------------------------+--------------------+
| Fedora 38 (ARM Clang)                  | PEND               |
+----------------------------------------+--------------------+
| Fedora 40 (ARM)                        | PASS               |
+----------------------------------------+--------------------+
| Ubuntu 20.04 (ARM)                     | PASS               |
+----------------------------------------+--------------------+
| Fedora 40 (ARM Clang)                  | PEND               |
+----------------------------------------+--------------------+
| Ubuntu 22.04 (ARM)                     | PASS               |
+----------------------------------------+--------------------+
| CentOS Stream 9 (ARM)                  | PASS               |
+----------------------------------------+--------------------+
| Ubuntu 20.04 ARM Clang Cross Compile   | PEND               |
+----------------------------------------+--------------------+
| Ubuntu 24.04 (ARM)                     | PASS               |
+----------------------------------------+--------------------+
| Debian 11 (Buster) (ARM)               | PASS               |
+----------------------------------------+--------------------+
| Ubuntu 20.04 aarch32 GCC Cross Compile | PASS               |
+----------------------------------------+--------------------+
| Debian 12 (arm)                        | PASS               |
+----------------------------------------+--------------------+


RHEL9 (ARM)
	Kernel: Depends on container host
	Compiler: gcc 11.4.1

Ubuntu 20.04 ARM GCC Cross Compile
	Kernel: 5.4.0-167-generic
	Compiler: aarch64-linux-gnu-gcc (Ubuntu 9.4.0-1ubuntu1~20.04.2) 9.4.0

Ubuntu 20.04 ARM SVE
	Kernel: 5.4.0-167-generic
	Compiler: gcc (Ubuntu 10.5.0-1ubuntu1~20.04) 10.5.0

Debian 12 with MUSDK
	Kernel: Container Host Kernel
	Compiler: gcc 12.2.0

Fedora 38 (ARM)
	Kernel: Depends on container host
	Compiler: gcc 13.2.1

Fedora 37 (ARM)
	Kernel: Depends on container host
	Compiler: gcc 12.3.1

Fedora 39 (ARM)
	Kernel: Depends on container host
	Compiler: gcc 13.2.1

Fedora 39 (ARM Clang)
	Kernel: Depends on container host
	Compiler: clang 17.0.6

Fedora 38 (ARM Clang)
	Kernel: Depends on container host
	Compiler: clang 16.0.6

Fedora 40 (ARM)
	Kernel: Depends on container host
	Compiler: gcc 14.1.1

Ubuntu 20.04 (ARM)
	Kernel: Container Host Kernel
	Compiler: gcc 9.4.0

Fedora 40 (ARM Clang)
	Kernel: Depends on container host
	Compiler: clang 18.1.6

Ubuntu 22.04 (ARM)
	Kernel: Container Host Kernel
	Compiler: gcc 11.4.0

CentOS Stream 9 (ARM)
	Kernel: Container Host Kernel
	Compiler: gcc 11.4.1

Ubuntu 20.04 ARM Clang Cross Compile
	Kernel: 5.4.0-72-generic
	Compiler: clang 10.0.0-4ubuntu1

Ubuntu 24.04 (ARM)
	Kernel: 5.4.0-167-generic
	Compiler: gcc 13.2.0

Debian 11 (Buster) (ARM)
	Kernel: Container Host Kernel
	Compiler: gcc 10.2.1

Ubuntu 20.04 aarch32 GCC Cross Compile
	Kernel: 5.4.0-167-generic
	Compiler: gcc 9.4.0

Debian 12 (arm)
	Kernel: Container Host Kernel
	Compiler: gcc 12.2.0

To view detailed results, visit:
https://lab.dpdk.org/results/dashboard/patchsets/30792/

UNH-IOL DPDK Community Lab

To manage your email subscriptions, visit: 
https://lab.dpdk.org/results/dashboard/preferences/subscriptions/