From mboxrd@z Thu Jan  1 00:00:00 1970
Return-Path: <test-report-bounces@dpdk.org>
Received: from mails.dpdk.org (mails.dpdk.org [217.70.189.124])
	by inbox.dpdk.org (Postfix) with ESMTP id 93A0C457C5
	for <public@inbox.dpdk.org>; Wed, 14 Aug 2024 19:06:02 +0200 (CEST)
Received: from mails.dpdk.org (localhost [127.0.0.1])
	by mails.dpdk.org (Postfix) with ESMTP id 8AC16402C4;
	Wed, 14 Aug 2024 19:06:02 +0200 (CEST)
Received: from mail-pf1-f228.google.com (mail-pf1-f228.google.com
 [209.85.210.228])
 by mails.dpdk.org (Postfix) with ESMTP id E7C804025F
 for <test-report@dpdk.org>; Wed, 14 Aug 2024 19:06:00 +0200 (CEST)
Received: by mail-pf1-f228.google.com with SMTP id
 d2e1a72fcca58-710d1de6ee5so25700b3a.0
 for <test-report@dpdk.org>; Wed, 14 Aug 2024 10:06:00 -0700 (PDT)
DKIM-Signature: v=1; a=rsa-sha256; c=relaxed/relaxed;
 d=iol.unh.edu; s=unh-iol; t=1723655160; x=1724259960; darn=dpdk.org;
 h=references:in-reply-to:cc:to:from:subject:message-id:date:from:to
 :cc:subject:date:message-id:reply-to;
 bh=GbYwdujZZBugIWC/UB+Q+qTUcQlLwNoWIdXoegIakF4=;
 b=WeRRO/zUYa1pzAXGxX5ojNg9/ImklwKD5YWv/+hGuUP3vrX5K9tYsagACAUe6dLc8n
 KUXGYtjH3pq9BQLld6/8JeW7Qt6MLggnhyahphKgjn4fT27TL1kHr1xrKLq4YzUPbCJZ
 xBmHf5CbwN2blgcyDYmJdRzjtCFG7HoYu8IEQ=
X-Google-DKIM-Signature: v=1; a=rsa-sha256; c=relaxed/relaxed;
 d=1e100.net; s=20230601; t=1723655160; x=1724259960;
 h=references:in-reply-to:cc:to:from:subject:message-id:date
 :x-gm-message-state:from:to:cc:subject:date:message-id:reply-to;
 bh=GbYwdujZZBugIWC/UB+Q+qTUcQlLwNoWIdXoegIakF4=;
 b=npEeFLDXUOGGivkYdljNDtLMapdZiZ0sJSQGoE+gYZATERNDgRJcuQ/6rpB8Woxly9
 NgCqQ3uSyUbsNU7xH6DNdTpCqCz4up/OH5itNYHFB8kFrnzVkbBfAQBZtvgAYxK0Q3mP
 Z2ic/xIz/07fGbhHRhHg0Zhe/TJQoza7XZTc+jomTVXhInKaqNAZIbC5aO24zJZNc4gu
 pR3gFollvn2/USxoUS/gKeyxvCa3CMBssJUt+iG4w/oZmpZYRTaicGGV4hOCyoX9VEZ1
 IzxH1YbuWRMZ0FkmUi2IVIZt58vllfcwaVAem5y1QT5ciqX5OxUX82SR8Rdcq+6l4i7U
 mbbQ==
X-Gm-Message-State: AOJu0YxcOgb416hi9GOxMAc5VKpaSfmbEoFRom8shiOROsoxK09H1dS1
 k0gxLrlbgh1Vm7m6zHfFf2nGcsFJ4dY+rDKvw4HfZ2zD+FJ3DYC6yX0R/x27RzajuXWIVQZYdBA
 Hqx/bOqMfZ6Mkr3+Gjsguv05BPavyaDIfMLi3aIEQ
X-Google-Smtp-Source: AGHT+IF6/Kho3g19VI1+NLFCpy7fQCqLMMbykWW+jTSXrAkoCkypuCmusG+wLrdEqzHAUgeXY/ngRNZk3/ov
X-Received: by 2002:a05:6a20:c908:b0:1c4:7929:a593 with SMTP id
 adf61e73a8af0-1c8eae8dccemr4816717637.23.1723655159950; 
 Wed, 14 Aug 2024 10:05:59 -0700 (PDT)
Received: from postal.iol.unh.edu (postal.iol.unh.edu. [132.177.123.84])
 by smtp-relay.gmail.com with ESMTPS id
 d2e1a72fcca58-710e58a17c7sm737394b3a.9.2024.08.14.10.05.59
 (version=TLS1_2 cipher=ECDHE-ECDSA-AES128-GCM-SHA256 bits=128/128);
 Wed, 14 Aug 2024 10:05:59 -0700 (PDT)
X-Relaying-Domain: iol.unh.edu
Date: Wed, 14 Aug 2024 10:05:59 -0700 (PDT)
Message-ID: <66bce3f7.050a0220.7b8c.6f61SMTPIN_ADDED_MISSING@mx.google.com>
Received: from [172.17.0.2] (unknown [172.18.0.214])
 by postal.iol.unh.edu (Postfix) with ESMTP id 18623605C351;
 Wed, 14 Aug 2024 13:05:59 -0400 (EDT)
Subject: |PENDING| pw143175-143176 [PATCH] [v1,2/2] usertools/cpu_layout: pri
From: dpdklab@iol.unh.edu
To: Test Report <test-report@dpdk.org>
Cc: dpdk-test-reports@iol.unh.edu
In-Reply-To: <de03ee482c3623fd6d730c46a35d2a36ce43be49.1723634354.git.anatoly.burakov@intel.com>
References: <de03ee482c3623fd6d730c46a35d2a36ce43be49.1723634354.git.anatoly.burakov@intel.com>
Content-Type: text/plain
X-BeenThere: test-report@dpdk.org
X-Mailman-Version: 2.1.29
Precedence: list
List-Id: automatic DPDK test reports <test-report.dpdk.org>
List-Unsubscribe: <https://mails.dpdk.org/options/test-report>,
 <mailto:test-report-request@dpdk.org?subject=unsubscribe>
List-Archive: <http://mails.dpdk.org/archives/test-report/>
List-Post: <mailto:test-report@dpdk.org>
List-Help: <mailto:test-report-request@dpdk.org?subject=help>
List-Subscribe: <https://mails.dpdk.org/listinfo/test-report>,
 <mailto:test-report-request@dpdk.org?subject=subscribe>
Errors-To: test-report-bounces@dpdk.org

Test-Label: iol-compile-amd64-testing
Test-Status: PENDING
http://dpdk.org/patch/143176

_Testing pending_

Submitter: Anatoly Burakov <anatoly.burakov@intel.com>
Date: Wednesday, August 14 2024 11:19:19 
DPDK git baseline: Repo:dpdk
  Branch: master
  CommitID:cb9187bc5c2b4bab0ad80194ac3b60491de14e8c

143175-143176 --> testing pending

Upstream job id: Generic-DPDK-Compile-Meson#288569

Test environment and result as below:

+---------------------+-----------------------+----------------------+-------------------+--------------------+------------------+-------------------+
|     Environment     | dpdk_win_llvm_compile | dpdk_mingw64_compile | dpdk_msvc_compile | dpdk_meson_compile | dpdk_compile_ovs | dpdk_compile_spdk |
+=====================+=======================+======================+===================+====================+==================+===================+
| Windows Server 2022 | PASS                  | PASS                 | PASS              | SKIPPED            | SKIPPED          | SKIPPED           |
+---------------------+-----------------------+----------------------+-------------------+--------------------+------------------+-------------------+
| FreeBSD 13.3        | SKIPPED               | SKIPPED              | SKIPPED           | PASS               | SKIPPED          | SKIPPED           |
+---------------------+-----------------------+----------------------+-------------------+--------------------+------------------+-------------------+
| CentOS Stream 9     | SKIPPED               | SKIPPED              | SKIPPED           | PASS               | PASS             | PASS              |
+---------------------+-----------------------+----------------------+-------------------+--------------------+------------------+-------------------+
| Debian Bullseye     | SKIPPED               | SKIPPED              | SKIPPED           | PASS               | PASS             | PASS              |
+---------------------+-----------------------+----------------------+-------------------+--------------------+------------------+-------------------+
| Debian 12           | SKIPPED               | SKIPPED              | SKIPPED           | PASS               | PASS             | PASS              |
+---------------------+-----------------------+----------------------+-------------------+--------------------+------------------+-------------------+
| Fedora 37           | SKIPPED               | SKIPPED              | SKIPPED           | PASS               | PASS             | PASS              |
+---------------------+-----------------------+----------------------+-------------------+--------------------+------------------+-------------------+
| FreeBSD 14.1        | SKIPPED               | SKIPPED              | SKIPPED           | PASS               | SKIPPED          | SKIPPED           |
+---------------------+-----------------------+----------------------+-------------------+--------------------+------------------+-------------------+
| Fedora 38 (Clang)   | SKIPPED               | SKIPPED              | SKIPPED           | PEND               | PEND             | PEND              |
+---------------------+-----------------------+----------------------+-------------------+--------------------+------------------+-------------------+
| Fedora 38           | SKIPPED               | SKIPPED              | SKIPPED           | PASS               | PASS             | PASS              |
+---------------------+-----------------------+----------------------+-------------------+--------------------+------------------+-------------------+
| Fedora 39 (Clang)   | SKIPPED               | SKIPPED              | SKIPPED           | PEND               | PEND             | PEND              |
+---------------------+-----------------------+----------------------+-------------------+--------------------+------------------+-------------------+
| Fedora 39           | SKIPPED               | SKIPPED              | SKIPPED           | PASS               | PASS             | PASS              |
+---------------------+-----------------------+----------------------+-------------------+--------------------+------------------+-------------------+
| Fedora 40 (Clang)   | SKIPPED               | SKIPPED              | SKIPPED           | PEND               | PEND             | PEND              |
+---------------------+-----------------------+----------------------+-------------------+--------------------+------------------+-------------------+
| Fedora 40           | SKIPPED               | SKIPPED              | SKIPPED           | PASS               | PASS             | PASS              |
+---------------------+-----------------------+----------------------+-------------------+--------------------+------------------+-------------------+
| openSUSE Leap 15    | SKIPPED               | SKIPPED              | SKIPPED           | PASS               | PASS             | SKIPPED           |
+---------------------+-----------------------+----------------------+-------------------+--------------------+------------------+-------------------+
| RHEL8               | SKIPPED               | SKIPPED              | SKIPPED           | PASS               | PASS             | SKIPPED           |
+---------------------+-----------------------+----------------------+-------------------+--------------------+------------------+-------------------+
| RHEL9               | SKIPPED               | SKIPPED              | SKIPPED           | PASS               | PASS             | SKIPPED           |
+---------------------+-----------------------+----------------------+-------------------+--------------------+------------------+-------------------+
| Ubuntu 20.04        | SKIPPED               | SKIPPED              | SKIPPED           | PASS               | PASS             | SKIPPED           |
+---------------------+-----------------------+----------------------+-------------------+--------------------+------------------+-------------------+
| Ubuntu 22.04        | SKIPPED               | SKIPPED              | SKIPPED           | PASS               | PASS             | PASS              |
+---------------------+-----------------------+----------------------+-------------------+--------------------+------------------+-------------------+
| Ubuntu 24.04        | SKIPPED               | SKIPPED              | SKIPPED           | PASS               | PASS             | PASS              |
+---------------------+-----------------------+----------------------+-------------------+--------------------+------------------+-------------------+
| Alpine              | SKIPPED               | SKIPPED              | SKIPPED           | PEND               | PEND             | SKIPPED           |
+---------------------+-----------------------+----------------------+-------------------+--------------------+------------------+-------------------+


Windows Server 2022
	Kernel: 10.0.20348.2031
	Compiler: clang 15.0.7, gcc 8.1.0 (MinGW), and MSVC VS 17.9

FreeBSD 13.3
	Kernel: 13.3-RELEASE-p1
	Compiler: clang 17.0.6

CentOS Stream 9
	Kernel: 5.4.0-167-generic
	Compiler: gcc 11.4.1 20230605

Debian Bullseye
	Kernel: 5.4.0-167-generic
	Compiler: gcc 10.2.1-6

Debian 12
	Kernel: Container Host Kernel
	Compiler: gcc 12.2.0

Fedora 37
	Kernel: Depends on container host system
	Compiler: gcc 12.3.1

FreeBSD 14.1
	Kernel: 14.1
	Compiler: clang 18.1.5

Fedora 38 (Clang)
	Kernel: Depends on container host
	Compiler: clang 16.0.6

Fedora 38
	Kernel: Depends on container host
	Compiler: gcc 13.2.1

Fedora 39 (Clang)
	Kernel: Depends on container host
	Compiler: clang 17.0.6

Fedora 39
	Kernel: Depends on container host
	Compiler: gcc 13.2.1

Fedora 40 (Clang)
	Kernel: Depends on container host
	Compiler: clang 18.1.6

Fedora 40
	Kernel: Depends on container host
	Compiler: gcc 14.1.1

openSUSE Leap 15
	Kernel: 5.4.0-167-generic
	Compiler: gcc 7.5.0

RHEL8
	Kernel: 5.4.0-167-generic
	Compiler: gcc 8.5.0 20210514 (Red Hat 8.5.0-20)

RHEL9
	Kernel: Depends on container host
	Compiler: gcc 11.4.1

Ubuntu 20.04
	Kernel: 5.4.0-167-generic
	Compiler: gcc 9.4.0-1ubuntu1~20.04.1

Ubuntu 22.04
	Kernel: 5.4.0-167-generic
	Compiler: gcc 11.4.0

Ubuntu 24.04
	Kernel: 5.4.0-167-generic
	Compiler: gcc 13.2.0

Alpine
	Kernel: 5.4.0-167-generic
	Compiler: gcc (Alpine 13.2.1_git20231014) 13.2.1 20231014

To view detailed results, visit:
https://lab.dpdk.org/results/dashboard/patchsets/30791/

UNH-IOL DPDK Community Lab

To manage your email subscriptions, visit: 
https://lab.dpdk.org/results/dashboard/preferences/subscriptions/