From mboxrd@z Thu Jan  1 00:00:00 1970
Return-Path: <test-report-bounces@dpdk.org>
Received: from mails.dpdk.org (mails.dpdk.org [217.70.189.124])
	by inbox.dpdk.org (Postfix) with ESMTP id CCEE4457C5
	for <public@inbox.dpdk.org>; Wed, 14 Aug 2024 19:06:26 +0200 (CEST)
Received: from mails.dpdk.org (localhost [127.0.0.1])
	by mails.dpdk.org (Postfix) with ESMTP id BF55E402C4;
	Wed, 14 Aug 2024 19:06:26 +0200 (CEST)
Received: from mail-pl1-f225.google.com (mail-pl1-f225.google.com
 [209.85.214.225])
 by mails.dpdk.org (Postfix) with ESMTP id 4F27E4025F
 for <test-report@dpdk.org>; Wed, 14 Aug 2024 19:06:11 +0200 (CEST)
Received: by mail-pl1-f225.google.com with SMTP id
 d9443c01a7336-1fc569440e1so590075ad.3
 for <test-report@dpdk.org>; Wed, 14 Aug 2024 10:06:11 -0700 (PDT)
DKIM-Signature: v=1; a=rsa-sha256; c=relaxed/relaxed;
 d=iol.unh.edu; s=unh-iol; t=1723655170; x=1724259970; darn=dpdk.org;
 h=references:in-reply-to:cc:to:from:subject:message-id:date:from:to
 :cc:subject:date:message-id:reply-to;
 bh=sMrQr6t62bBLGtnClF/NY3LhFwdsFtdp5AR6eVWW+Lk=;
 b=E/dLV1p+FN7TsopWwKKL1hBGtneGCZ26z4wIchcNLTHrBPFuNn0K10YR+uEQ3zZbqX
 3u6LChcCXM6N0Y6yo+D1ER2hhHOrRV4AhOKDHeA6lAbGvJoq8HL/RTxwPzuNpec+eysP
 S2O8wrbmuPa8DlnauC7c2TKORNWRduWgU8zs4=
X-Google-DKIM-Signature: v=1; a=rsa-sha256; c=relaxed/relaxed;
 d=1e100.net; s=20230601; t=1723655170; x=1724259970;
 h=references:in-reply-to:cc:to:from:subject:message-id:date
 :x-gm-message-state:from:to:cc:subject:date:message-id:reply-to;
 bh=sMrQr6t62bBLGtnClF/NY3LhFwdsFtdp5AR6eVWW+Lk=;
 b=A7yR/LClimgaOavrD7CRpJFaWLJV+cvn9oDn3BlJi/vbeinA0JhIRjYWkMOyEF6DSp
 fJiBYxYiGfbTxqmVAQMWMkeCLD0bnk1V9IJ0vbrhERZ0yk3yZn5boU8hWc7cU/li6TQP
 EaGREKbM2AlAD3tu7H2vvy5hq09/Dd1snPgLoqrEZRDr1LvWcOH0Z5l6e/AKUlyLOfsz
 WzZE8Aj7tegcKJgrZnFNMUHSpCetKusBq2+MLQT62e2wt0cQtta+fQC8revO0HABLMdG
 Yg7PRtntWr33MQmLm+hc0P0DpiZSsi6z2+bMEsrQ+v6JyY4RdkOT1MHTdhWHsoRNxL0v
 whgg==
X-Gm-Message-State: AOJu0YwNEU2al/2ibJ/0CuSwXrBBpEzmNehzrFW6SXR/E/lDSfl3S0Py
 9vW8AupG06sjK4ZMbEaV+DF3SaB+Wr/FQWuGIA1Helb32ml0Po0dbNG3FQ9JKFnrnhfSRf2d8sO
 6cTZVGl5Uw83ynRvr/uwezad/0ioyrF2jqNFMPySt57DlcbQxTRLfKy4D
X-Google-Smtp-Source: AGHT+IHtgoYTXbpqtZA7iV5jjWszIz8Vxt2Iv6lW1j0oqOEJppkydEUoqLepx0vNdn8/TuIVC6jZodbUDuPz
X-Received: by 2002:a17:902:c401:b0:201:df6e:e4be with SMTP id
 d9443c01a7336-201df6ee51emr20079635ad.19.1723655170347; 
 Wed, 14 Aug 2024 10:06:10 -0700 (PDT)
Received: from postal.iol.unh.edu (postal.iol.unh.edu.
 [2606:4100:3880:1234::84]) by smtp-relay.gmail.com with ESMTPS id
 d9443c01a7336-201cd12667fsm2509985ad.31.2024.08.14.10.06.10
 (version=TLS1_2 cipher=ECDHE-ECDSA-AES128-GCM-SHA256 bits=128/128);
 Wed, 14 Aug 2024 10:06:10 -0700 (PDT)
X-Relaying-Domain: iol.unh.edu
Date: Wed, 14 Aug 2024 10:06:10 -0700 (PDT)
Message-ID: <66bce402.170a0220.14c079.b3e7SMTPIN_ADDED_MISSING@mx.google.com>
Received: from [172.17.0.4] (unknown [172.18.0.213])
 by postal.iol.unh.edu (Postfix) with ESMTP id 66985605C351;
 Wed, 14 Aug 2024 13:06:09 -0400 (EDT)
Subject: |PENDING| pw143175-143176 [PATCH] [v1,2/2] usertools/cpu_layout: pri
From: dpdklab@iol.unh.edu
To: Test Report <test-report@dpdk.org>
Cc: dpdk-test-reports@iol.unh.edu
In-Reply-To: <de03ee482c3623fd6d730c46a35d2a36ce43be49.1723634354.git.anatoly.burakov@intel.com>
References: <de03ee482c3623fd6d730c46a35d2a36ce43be49.1723634354.git.anatoly.burakov@intel.com>
Content-Type: text/plain
X-BeenThere: test-report@dpdk.org
X-Mailman-Version: 2.1.29
Precedence: list
List-Id: automatic DPDK test reports <test-report.dpdk.org>
List-Unsubscribe: <https://mails.dpdk.org/options/test-report>,
 <mailto:test-report-request@dpdk.org?subject=unsubscribe>
List-Archive: <http://mails.dpdk.org/archives/test-report/>
List-Post: <mailto:test-report@dpdk.org>
List-Help: <mailto:test-report-request@dpdk.org?subject=help>
List-Subscribe: <https://mails.dpdk.org/listinfo/test-report>,
 <mailto:test-report-request@dpdk.org?subject=subscribe>
Errors-To: test-report-bounces@dpdk.org

Test-Label: iol-compile-arm64-testing
Test-Status: PENDING
http://dpdk.org/patch/143176

_Testing pending_

Submitter: Anatoly Burakov <anatoly.burakov@intel.com>
Date: Wednesday, August 14 2024 11:19:19 
DPDK git baseline: Repo:dpdk
  Branch: master
  CommitID:cb9187bc5c2b4bab0ad80194ac3b60491de14e8c

143175-143176 --> testing pending

Upstream job id: Generic-DPDK-Compile-Meson#288579

Test environment and result as below:

+----------------------------------------+--------------------+
|              Environment               | dpdk_meson_compile |
+========================================+====================+
| RHEL9 (ARM)                            | PASS               |
+----------------------------------------+--------------------+
| Ubuntu 20.04 ARM GCC Cross Compile     | PASS               |
+----------------------------------------+--------------------+
| Ubuntu 20.04 ARM SVE                   | PASS               |
+----------------------------------------+--------------------+
| Fedora 37 (ARM)                        | PASS               |
+----------------------------------------+--------------------+
| Fedora 40 (ARM)                        | PASS               |
+----------------------------------------+--------------------+
| Fedora 40 (ARM Clang)                  | PEND               |
+----------------------------------------+--------------------+
| Fedora 39 (ARM)                        | PASS               |
+----------------------------------------+--------------------+
| Fedora 38 (ARM Clang)                  | PEND               |
+----------------------------------------+--------------------+
| Debian 12 with MUSDK                   | PASS               |
+----------------------------------------+--------------------+
| Fedora 38 (ARM)                        | PASS               |
+----------------------------------------+--------------------+
| Ubuntu 20.04 (ARM)                     | PASS               |
+----------------------------------------+--------------------+
| Ubuntu 24.04 (ARM)                     | PASS               |
+----------------------------------------+--------------------+
| Debian 11 (Buster) (ARM)               | PASS               |
+----------------------------------------+--------------------+
| Ubuntu 20.04 ARM Clang Cross Compile   | PASS               |
+----------------------------------------+--------------------+
| CentOS Stream 9 (ARM)                  | PASS               |
+----------------------------------------+--------------------+
| Ubuntu 20.04 aarch32 GCC Cross Compile | PASS               |
+----------------------------------------+--------------------+
| Debian 12 (arm)                        | PASS               |
+----------------------------------------+--------------------+


RHEL9 (ARM)
	Kernel: Depends on container host
	Compiler: gcc 11.4.1

Ubuntu 20.04 ARM GCC Cross Compile
	Kernel: 5.4.0-167-generic
	Compiler: aarch64-linux-gnu-gcc (Ubuntu 9.4.0-1ubuntu1~20.04.2) 9.4.0

Ubuntu 20.04 ARM SVE
	Kernel: 5.4.0-167-generic
	Compiler: gcc (Ubuntu 10.5.0-1ubuntu1~20.04) 10.5.0

Fedora 37 (ARM)
	Kernel: Depends on container host
	Compiler: gcc 12.3.1

Fedora 40 (ARM)
	Kernel: Depends on container host
	Compiler: gcc 14.1.1

Fedora 40 (ARM Clang)
	Kernel: Depends on container host
	Compiler: clang 18.1.6

Fedora 39 (ARM)
	Kernel: Depends on container host
	Compiler: gcc 13.2.1

Fedora 38 (ARM Clang)
	Kernel: Depends on container host
	Compiler: clang 16.0.6

Debian 12 with MUSDK
	Kernel: Container Host Kernel
	Compiler: gcc 12.2.0

Fedora 38 (ARM)
	Kernel: Depends on container host
	Compiler: gcc 13.2.1

Ubuntu 20.04 (ARM)
	Kernel: Container Host Kernel
	Compiler: gcc 9.4.0

Ubuntu 24.04 (ARM)
	Kernel: 5.4.0-167-generic
	Compiler: gcc 13.2.0

Debian 11 (Buster) (ARM)
	Kernel: Container Host Kernel
	Compiler: gcc 10.2.1

Ubuntu 20.04 ARM Clang Cross Compile
	Kernel: 5.4.0-72-generic
	Compiler: clang 10.0.0-4ubuntu1

CentOS Stream 9 (ARM)
	Kernel: Container Host Kernel
	Compiler: gcc 11.4.1

Ubuntu 20.04 aarch32 GCC Cross Compile
	Kernel: 5.4.0-167-generic
	Compiler: gcc 9.4.0

Debian 12 (arm)
	Kernel: Container Host Kernel
	Compiler: gcc 12.2.0

To view detailed results, visit:
https://lab.dpdk.org/results/dashboard/patchsets/30791/

UNH-IOL DPDK Community Lab

To manage your email subscriptions, visit: 
https://lab.dpdk.org/results/dashboard/preferences/subscriptions/