From mboxrd@z Thu Jan  1 00:00:00 1970
Return-Path: <test-report-bounces@dpdk.org>
Received: from mails.dpdk.org (mails.dpdk.org [217.70.189.124])
	by inbox.dpdk.org (Postfix) with ESMTP id 28747457C5
	for <public@inbox.dpdk.org>; Wed, 14 Aug 2024 19:19:50 +0200 (CEST)
Received: from mails.dpdk.org (localhost [127.0.0.1])
	by mails.dpdk.org (Postfix) with ESMTP id 0A430402C4;
	Wed, 14 Aug 2024 19:19:50 +0200 (CEST)
Received: from mail-io1-f98.google.com (mail-io1-f98.google.com
 [209.85.166.98]) by mails.dpdk.org (Postfix) with ESMTP id 8A3D84025F
 for <test-report@dpdk.org>; Wed, 14 Aug 2024 19:19:48 +0200 (CEST)
Received: by mail-io1-f98.google.com with SMTP id
 ca18e2360f4ac-81fe38c7255so12174139f.1
 for <test-report@dpdk.org>; Wed, 14 Aug 2024 10:19:48 -0700 (PDT)
DKIM-Signature: v=1; a=rsa-sha256; c=relaxed/relaxed;
 d=iol.unh.edu; s=unh-iol; t=1723655988; x=1724260788; darn=dpdk.org;
 h=references:in-reply-to:cc:to:from:subject:message-id:date:from:to
 :cc:subject:date:message-id:reply-to;
 bh=0SJBwlLnE05jzp0eU1kNQLzPAp87dKHIIhyajlANSio=;
 b=GeRgqREt6yI6BhReVoMzK5SlKtnRg1DFRiQ3p/X/gODKMh4ccHmQPmMFHydQIiaSI5
 QZBw5BYHHJICnx9+IJAzYYoLUqDLCaR9P+7EbHwoxa7Se9ip/W+ki3d0UvQRxRPo9mGB
 PwTrK95FVSJnlGd3ckgYJv1Rqnc/fJWzuSE98=
X-Google-DKIM-Signature: v=1; a=rsa-sha256; c=relaxed/relaxed;
 d=1e100.net; s=20230601; t=1723655988; x=1724260788;
 h=references:in-reply-to:cc:to:from:subject:message-id:date
 :x-gm-message-state:from:to:cc:subject:date:message-id:reply-to;
 bh=0SJBwlLnE05jzp0eU1kNQLzPAp87dKHIIhyajlANSio=;
 b=vBKCOrnQsJ217NPZa3b42bs//ltUhOIiLpCymbqwVA6J1Sn3sBJI4jJw+F8MB8gcaB
 Kdn+QU6aSUs6srAdEe0dM8Bsz3CFOA1wvV0kpXm5Mvpo0Om044Fq/1JAGw7sC6cAhzTZ
 kEOaMOPprlHtYcfsAYOsXEeFRlA99zG5Z0ZhbioR8azGsFwjcgeWLMxJbGivyqp7mgNP
 KSxtG9TIS95469tMoLKSevbD6FMYE8M9ABTK7wTTypki+LpIxLbHTfDXIGOnegOnNbCx
 4SVKgVeANpq7Sb1KfGjm1b5fbLLbQTu1Pmx6kMhKGG6rm2IXY8PeVcr2vhlqEFBbSTu5
 lxoA==
X-Gm-Message-State: AOJu0YxFs4avVzSZETgZVTCBnmva1OB7J6qVx3QjENf0MnSbtyTdgpqd
 x1jAaEjPOq6fW97o7JV+mN02A47OtryaXCiebnnmhjE015+tcL2cRQ9fc1D+M/+ZTPomNagZdLI
 NY9VkFxD2gnO9ap1AiV4z34fMLT2u/2flh/KTw/17
X-Google-Smtp-Source: AGHT+IHAKCFBmV9oJ7X9w7tj+cbljNK74URIY31bb437dsPrfRAyxDleT0wPBKSFaZZ2TLIhjtGkaiT2R3Kl
X-Received: by 2002:a05:6602:3fc4:b0:81f:a28b:d448 with SMTP id
 ca18e2360f4ac-824daddffbdmr482991039f.16.1723655987805; 
 Wed, 14 Aug 2024 10:19:47 -0700 (PDT)
Received: from postal.iol.unh.edu (postal.iol.unh.edu. [132.177.123.84])
 by smtp-relay.gmail.com with ESMTPS id
 8926c6da1cb9f-4ca76957564sm300598173.46.2024.08.14.10.19.47
 (version=TLS1_2 cipher=ECDHE-ECDSA-AES128-GCM-SHA256 bits=128/128);
 Wed, 14 Aug 2024 10:19:47 -0700 (PDT)
X-Relaying-Domain: iol.unh.edu
Date: Wed, 14 Aug 2024 10:19:47 -0700 (PDT)
Message-ID: <66bce733.050a0220.681e8.e98eSMTPIN_ADDED_MISSING@mx.google.com>
Received: from [172.17.0.3] (unknown [172.18.0.217])
 by postal.iol.unh.edu (Postfix) with ESMTP id 3E449605C351;
 Wed, 14 Aug 2024 13:19:47 -0400 (EDT)
Subject: |PENDING| pw143175-143176 [PATCH] [v1,2/2] usertools/cpu_layout: pri
From: dpdklab@iol.unh.edu
To: Test Report <test-report@dpdk.org>
Cc: dpdk-test-reports@iol.unh.edu
In-Reply-To: <de03ee482c3623fd6d730c46a35d2a36ce43be49.1723634354.git.anatoly.burakov@intel.com>
References: <de03ee482c3623fd6d730c46a35d2a36ce43be49.1723634354.git.anatoly.burakov@intel.com>
Content-Type: text/plain
X-BeenThere: test-report@dpdk.org
X-Mailman-Version: 2.1.29
Precedence: list
List-Id: automatic DPDK test reports <test-report.dpdk.org>
List-Unsubscribe: <https://mails.dpdk.org/options/test-report>,
 <mailto:test-report-request@dpdk.org?subject=unsubscribe>
List-Archive: <http://mails.dpdk.org/archives/test-report/>
List-Post: <mailto:test-report@dpdk.org>
List-Help: <mailto:test-report-request@dpdk.org?subject=help>
List-Subscribe: <https://mails.dpdk.org/listinfo/test-report>,
 <mailto:test-report-request@dpdk.org?subject=subscribe>
Errors-To: test-report-bounces@dpdk.org

Test-Label: iol-unit-arm64-testing
Test-Status: PENDING
http://dpdk.org/patch/143176

_Testing pending_

Submitter: Anatoly Burakov <anatoly.burakov@intel.com>
Date: Wednesday, August 14 2024 11:19:19 
DPDK git baseline: Repo:dpdk
  Branch: master
  CommitID:cb9187bc5c2b4bab0ad80194ac3b60491de14e8c

143175-143176 --> testing pending

Upstream job id: Generic-Unit-Test-DPDK#252303

Test environment and result as below:

+-----------------------------+----------------+--------------+---------------------------+------------------------------+
|         Environment         | dpdk_unit_test | lpm_autotest | cryptodev_sw_zuc_autotest | cryptodev_sw_snow3g_autotest |
+=============================+================+==============+===========================+==============================+
| 32-bit Ubuntu 20.04.4 (ARM) | PEND           | SKIPPED      | SKIPPED                   | SKIPPED                      |
+-----------------------------+----------------+--------------+---------------------------+------------------------------+
| CentOS Stream 9 (ARM)       | PASS           | SKIPPED      | SKIPPED                   | SKIPPED                      |
+-----------------------------+----------------+--------------+---------------------------+------------------------------+
| Debian 11 (Buster) (ARM)    | PASS           | SKIPPED      | SKIPPED                   | SKIPPED                      |
+-----------------------------+----------------+--------------+---------------------------+------------------------------+
| Debian 12 (arm)             | PASS           | SKIPPED      | PASS                      | PASS                         |
+-----------------------------+----------------+--------------+---------------------------+------------------------------+
| Fedora 37 (ARM)             | PASS           | SKIPPED      | SKIPPED                   | SKIPPED                      |
+-----------------------------+----------------+--------------+---------------------------+------------------------------+
| Fedora 38 (ARM)             | PASS           | SKIPPED      | SKIPPED                   | SKIPPED                      |
+-----------------------------+----------------+--------------+---------------------------+------------------------------+
| Fedora 38 (ARM Clang)       | PEND           | SKIPPED      | SKIPPED                   | SKIPPED                      |
+-----------------------------+----------------+--------------+---------------------------+------------------------------+
| Fedora 39 (ARM)             | PEND           | SKIPPED      | SKIPPED                   | SKIPPED                      |
+-----------------------------+----------------+--------------+---------------------------+------------------------------+
| Fedora 39 (ARM Clang)       | PEND           | SKIPPED      | SKIPPED                   | SKIPPED                      |
+-----------------------------+----------------+--------------+---------------------------+------------------------------+
| Fedora 40 (ARM)             | PEND           | SKIPPED      | SKIPPED                   | SKIPPED                      |
+-----------------------------+----------------+--------------+---------------------------+------------------------------+
| Fedora 40 (ARM Clang)       | PEND           | SKIPPED      | SKIPPED                   | SKIPPED                      |
+-----------------------------+----------------+--------------+---------------------------+------------------------------+
| RHEL9 (ARM)                 | PEND           | SKIPPED      | SKIPPED                   | SKIPPED                      |
+-----------------------------+----------------+--------------+---------------------------+------------------------------+
| Ubuntu 20.04 (ARM)          | PEND           | SKIPPED      | SKIPPED                   | SKIPPED                      |
+-----------------------------+----------------+--------------+---------------------------+------------------------------+
| Ubuntu 22.04 (ARM)          | PEND           | SKIPPED      | SKIPPED                   | SKIPPED                      |
+-----------------------------+----------------+--------------+---------------------------+------------------------------+
| Ubuntu 24.04 (ARM)          | PEND           | SKIPPED      | SKIPPED                   | SKIPPED                      |
+-----------------------------+----------------+--------------+---------------------------+------------------------------+
| Ubuntu 20.04 ARM SVE        | SKIPPED        | PASS         | SKIPPED                   | SKIPPED                      |
+-----------------------------+----------------+--------------+---------------------------+------------------------------+


32-bit Ubuntu 20.04.4 (ARM)
	Kernel: 5.4.0-155-generic aarch64
	Compiler: gcc 9.4

CentOS Stream 9 (ARM)
	Kernel: Container Host Kernel
	Compiler: gcc 11.4.1

Debian 11 (Buster) (ARM)
	Kernel: Container Host Kernel
	Compiler: gcc 10.2.1

Debian 12 (arm)
	Kernel: Container Host Kernel
	Compiler: gcc 12.2.0

Fedora 37 (ARM)
	Kernel: Depends on container host
	Compiler: gcc 12.3.1

Fedora 38 (ARM)
	Kernel: Depends on container host
	Compiler: gcc 13.2.1

Fedora 38 (ARM Clang)
	Kernel: Depends on container host
	Compiler: clang 16.0.6

Fedora 39 (ARM)
	Kernel: Depends on container host
	Compiler: gcc 13.2.1

Fedora 39 (ARM Clang)
	Kernel: Depends on container host
	Compiler: clang 17.0.6

Fedora 40 (ARM)
	Kernel: Depends on container host
	Compiler: gcc 14.1.1

Fedora 40 (ARM Clang)
	Kernel: Depends on container host
	Compiler: clang 18.1.6

RHEL9 (ARM)
	Kernel: Depends on container host
	Compiler: gcc 11.4.1

Ubuntu 20.04 (ARM)
	Kernel: Container Host Kernel
	Compiler: gcc 9.4.0

Ubuntu 22.04 (ARM)
	Kernel: Container Host Kernel
	Compiler: gcc 11.4.0

Ubuntu 24.04 (ARM)
	Kernel: 5.4.0-167-generic
	Compiler: gcc 13.2.0

Ubuntu 20.04 ARM SVE
	Kernel: 5.4.0-167-generic
	Compiler: gcc (Ubuntu 10.5.0-1ubuntu1~20.04) 10.5.0

To view detailed results, visit:
https://lab.dpdk.org/results/dashboard/patchsets/30791/

UNH-IOL DPDK Community Lab

To manage your email subscriptions, visit: 
https://lab.dpdk.org/results/dashboard/preferences/subscriptions/