From mboxrd@z Thu Jan  1 00:00:00 1970
Return-Path: <test-report-bounces@dpdk.org>
Received: from mails.dpdk.org (mails.dpdk.org [217.70.189.124])
	by inbox.dpdk.org (Postfix) with ESMTP id 274EC457D4
	for <public@inbox.dpdk.org>; Thu, 15 Aug 2024 12:40:32 +0200 (CEST)
Received: from mails.dpdk.org (localhost [127.0.0.1])
	by mails.dpdk.org (Postfix) with ESMTP id 21E2F4027E;
	Thu, 15 Aug 2024 12:40:32 +0200 (CEST)
Received: from mail-pg1-f228.google.com (mail-pg1-f228.google.com
 [209.85.215.228])
 by mails.dpdk.org (Postfix) with ESMTP id 5BB8A427E7
 for <test-report@dpdk.org>; Thu, 15 Aug 2024 12:40:23 +0200 (CEST)
Received: by mail-pg1-f228.google.com with SMTP id
 41be03b00d2f7-7bcf8077742so661325a12.0
 for <test-report@dpdk.org>; Thu, 15 Aug 2024 03:40:23 -0700 (PDT)
DKIM-Signature: v=1; a=rsa-sha256; c=relaxed/relaxed;
 d=iol.unh.edu; s=unh-iol; t=1723718422; x=1724323222; darn=dpdk.org;
 h=references:in-reply-to:cc:to:from:subject:message-id:date:from:to
 :cc:subject:date:message-id:reply-to;
 bh=rPMatJEpweZnD8kt97qee05+k76phODCEkjrsYGp+/c=;
 b=bruRQK/cXWR9B6E7FFIq8zUpmO6o4J7KOX4Qd7hKxuC0LWQu0U+X2vhA5ki90EJCuI
 lPkrGtNz1dImetUOEYBlIUVGJgBhk9DkSay1+NgRQZcf9sEHUT4xy52KBgxB47/uH5u7
 pCkUVnrKX8BARGasq30jA2ae6/czpEq5CY2Lg=
X-Google-DKIM-Signature: v=1; a=rsa-sha256; c=relaxed/relaxed;
 d=1e100.net; s=20230601; t=1723718422; x=1724323222;
 h=references:in-reply-to:cc:to:from:subject:message-id:date
 :x-gm-message-state:from:to:cc:subject:date:message-id:reply-to;
 bh=rPMatJEpweZnD8kt97qee05+k76phODCEkjrsYGp+/c=;
 b=wCDCnZAvvNzQZeTGbhwIYh+Ep9TEp3XEXoGTvw4e5YU7OLO3Kk7cmx3m9YbBo8ol5y
 zgw8fc/qqppLYmVsU0UX6P5nLCdUofJ5fnnvmMnC07SPMdN4c8ym1g+ejwhyuuLsRyz4
 LtWi+TEkCQ6rPnhtGk3rotYcKqW5S6oKrplImTjcmO1IsqeGR56X4n5vTLmODUIRyb7t
 FKG7i5JqN5KQ9XBgzim2joLf46C5fW+uDxvn3eJmZ0+P78ZKxfgVeyRJ24joHE7dkR8w
 zd5wu+71mX7YxlAWWZ/ZtF7S32eNSeK1I1eSGCBk3h8m2Qvu02j1jX/yfaWpE3GiUEmN
 EHJQ==
X-Gm-Message-State: AOJu0Yw5/I6VciobGxHHMnxC0UAiPZJ/FjGsiWO3P2Num8NsIREvBmbN
 GoVKTecgoH44ZFe83CECJCT4qET2T0HyF6lkTao4n5W8H/GPlnWAYqCIsIeZ+df6neT6UX/+CTl
 +EBGk1x1K76Qf1LdVxbGlQrCVG4o4Qz/X8Ervgfmz
X-Google-Smtp-Source: AGHT+IE2X4UMgDLR3ojalVAWD7PwYppznm7tUbc+QZW7xZ1RVUlPC6ofbGakjURDXFlCBolDYszuh24ml6Ot
X-Received: by 2002:a05:6a21:1786:b0:1c0:e46a:1643 with SMTP id
 adf61e73a8af0-1c8eae97fd4mr6511921637.31.1723718422295; 
 Thu, 15 Aug 2024 03:40:22 -0700 (PDT)
Received: from postal.iol.unh.edu (postal.iol.unh.edu. [132.177.123.84])
 by smtp-relay.gmail.com with ESMTPS id
 d2e1a72fcca58-7127adb9bfesm99284b3a.2.2024.08.15.03.40.22
 (version=TLS1_2 cipher=ECDHE-ECDSA-AES128-GCM-SHA256 bits=128/128);
 Thu, 15 Aug 2024 03:40:22 -0700 (PDT)
X-Relaying-Domain: iol.unh.edu
Date: Thu, 15 Aug 2024 03:40:22 -0700 (PDT)
Message-ID: <66bddb16.050a0220.2fe2a.4195SMTPIN_ADDED_MISSING@mx.google.com>
Received: from [172.17.0.4] (unknown [172.18.0.215])
 by postal.iol.unh.edu (Postfix) with ESMTP id DC04660526E2;
 Thu, 15 Aug 2024 06:40:20 -0400 (EDT)
Subject: |PENDING| pw143184 [PATCH] [v2] doc: add new driver guidelines
From: dpdklab@iol.unh.edu
To: Test Report <test-report@dpdk.org>
Cc: dpdk-test-reports@iol.unh.edu
In-Reply-To: <20240814190901.14912-1-stephen@networkplumber.org>
References: <20240814190901.14912-1-stephen@networkplumber.org>
Content-Type: text/plain
X-BeenThere: test-report@dpdk.org
X-Mailman-Version: 2.1.29
Precedence: list
List-Id: automatic DPDK test reports <test-report.dpdk.org>
List-Unsubscribe: <https://mails.dpdk.org/options/test-report>,
 <mailto:test-report-request@dpdk.org?subject=unsubscribe>
List-Archive: <http://mails.dpdk.org/archives/test-report/>
List-Post: <mailto:test-report@dpdk.org>
List-Help: <mailto:test-report-request@dpdk.org?subject=help>
List-Subscribe: <https://mails.dpdk.org/listinfo/test-report>,
 <mailto:test-report-request@dpdk.org?subject=subscribe>
Errors-To: test-report-bounces@dpdk.org

Test-Label: iol-unit-amd64-testing
Test-Status: PENDING
http://dpdk.org/patch/143184

_Testing pending_

Submitter: Stephen Hemminger <stephen@networkplumber.org>
Date: Wednesday, August 14 2024 19:08:32 
DPDK git baseline: Repo:dpdk
  Branch: master
  CommitID:cb9187bc5c2b4bab0ad80194ac3b60491de14e8c

143184 --> testing pending

Upstream job id: Generic-Unit-Test-DPDK#252507

Test environment and result as below:

+---------------------+----------------+
|     Environment     | dpdk_unit_test |
+=====================+================+
| CentOS Stream 9     | PASS           |
+---------------------+----------------+
| Debian Bullseye     | PASS           |
+---------------------+----------------+
| Fedora 37           | PASS           |
+---------------------+----------------+
| Debian 12           | PASS           |
+---------------------+----------------+
| Fedora 38           | PASS           |
+---------------------+----------------+
| Fedora 38 (Clang)   | PASS           |
+---------------------+----------------+
| Fedora 39           | PASS           |
+---------------------+----------------+
| Fedora 39 (Clang)   | PEND           |
+---------------------+----------------+
| Fedora 40           | PEND           |
+---------------------+----------------+
| openSUSE Leap 15    | PEND           |
+---------------------+----------------+
| Fedora 40 (Clang)   | PEND           |
+---------------------+----------------+
| Ubuntu 20.04        | PEND           |
+---------------------+----------------+
| RHEL8               | PEND           |
+---------------------+----------------+
| RHEL9               | PEND           |
+---------------------+----------------+
| Ubuntu 22.04        | PEND           |
+---------------------+----------------+
| Ubuntu 24.04        | PEND           |
+---------------------+----------------+
| Windows Server 2022 | PEND           |
+---------------------+----------------+
| Windows Server 2019 | PASS           |
+---------------------+----------------+


CentOS Stream 9
	Kernel: 5.4.0-167-generic
	Compiler: gcc 11.4.1 20230605

Debian Bullseye
	Kernel: 5.4.0-167-generic
	Compiler: gcc 10.2.1-6

Fedora 37
	Kernel: Depends on container host system
	Compiler: gcc 12.3.1

Debian 12
	Kernel: Container Host Kernel
	Compiler: gcc 12.2.0

Fedora 38
	Kernel: Depends on container host
	Compiler: gcc 13.2.1

Fedora 38 (Clang)
	Kernel: Depends on container host
	Compiler: clang 16.0.6

Fedora 39
	Kernel: Depends on container host
	Compiler: gcc 13.2.1

Fedora 39 (Clang)
	Kernel: Depends on container host
	Compiler: clang 17.0.6

Fedora 40
	Kernel: Depends on container host
	Compiler: gcc 14.1.1

openSUSE Leap 15
	Kernel: 5.4.0-167-generic
	Compiler: gcc 7.5.0

Fedora 40 (Clang)
	Kernel: Depends on container host
	Compiler: clang 18.1.6

Ubuntu 20.04
	Kernel: 5.4.0-167-generic
	Compiler: gcc 9.4.0-1ubuntu1~20.04.1

RHEL8
	Kernel: 5.4.0-167-generic
	Compiler: gcc 8.5.0 20210514 (Red Hat 8.5.0-20)

RHEL9
	Kernel: Depends on container host
	Compiler: gcc 11.4.1

Ubuntu 22.04
	Kernel: 5.4.0-167-generic
	Compiler: gcc 11.4.0

Ubuntu 24.04
	Kernel: 5.4.0-167-generic
	Compiler: gcc 13.2.0

Windows Server 2022
	Kernel: 10.0.20348.2031
	Compiler: clang 15.0.7, gcc 8.1.0 (MinGW), and MSVC VS 17.9

Windows Server 2019
	Kernel: 10.0.17763
	Compiler: clang 14.0 and gcc 8.1.0 (MinGW)

To view detailed results, visit:
https://lab.dpdk.org/results/dashboard/patchsets/30794/

UNH-IOL DPDK Community Lab

To manage your email subscriptions, visit: 
https://lab.dpdk.org/results/dashboard/preferences/subscriptions/