From mboxrd@z Thu Jan  1 00:00:00 1970
Return-Path: <test-report-bounces@dpdk.org>
Received: from mails.dpdk.org (mails.dpdk.org [217.70.189.124])
	by inbox.dpdk.org (Postfix) with ESMTP id 79BB1457D4
	for <public@inbox.dpdk.org>; Thu, 15 Aug 2024 12:42:11 +0200 (CEST)
Received: from mails.dpdk.org (localhost [127.0.0.1])
	by mails.dpdk.org (Postfix) with ESMTP id 760734027E;
	Thu, 15 Aug 2024 12:42:11 +0200 (CEST)
Received: from mail-yw1-f226.google.com (mail-yw1-f226.google.com
 [209.85.128.226])
 by mails.dpdk.org (Postfix) with ESMTP id 869C04025F
 for <test-report@dpdk.org>; Thu, 15 Aug 2024 12:42:09 +0200 (CEST)
Received: by mail-yw1-f226.google.com with SMTP id
 00721157ae682-65fe1239f12so8227597b3.0
 for <test-report@dpdk.org>; Thu, 15 Aug 2024 03:42:09 -0700 (PDT)
DKIM-Signature: v=1; a=rsa-sha256; c=relaxed/relaxed;
 d=iol.unh.edu; s=unh-iol; t=1723718529; x=1724323329; darn=dpdk.org;
 h=references:in-reply-to:cc:to:from:subject:message-id:date:from:to
 :cc:subject:date:message-id:reply-to;
 bh=/3RIfdv9hM+H5U5fBboywReuhZCQw+K3814LmTQXOF0=;
 b=BaeBUZ5A3Ew0eEtM8DLTyUtdgZkGIgxgOfSbn9zKylTKxKGPgwrqZKSTXZprEEZ5sM
 Oc8nRyBcLiVTEIBqZFQ6fmm/M7VCVztPjoEvCkKppQPAMPgtKh/UADiyMvAwJZmgGcac
 TsJ1nHgkE8gWoAjQZOhkF33l0OnCm0C8GVfJE=
X-Google-DKIM-Signature: v=1; a=rsa-sha256; c=relaxed/relaxed;
 d=1e100.net; s=20230601; t=1723718529; x=1724323329;
 h=references:in-reply-to:cc:to:from:subject:message-id:date
 :x-gm-message-state:from:to:cc:subject:date:message-id:reply-to;
 bh=/3RIfdv9hM+H5U5fBboywReuhZCQw+K3814LmTQXOF0=;
 b=q6VaZZnto61ON2IWuzStm+Hqz9Np3UQetMPirHP1MSliokH4zU1729hdr0G6t8fs5L
 wpiPXB3mO8wIhK4YuuQW6HLR3zJBZFEsIfKbJWerN1yJzJOz9v+ari0O7U8lNVjbYy+2
 hnRTQEbDXKVwM2JLnLBQJxb5KNGe8k6F6tUkBHRPTVJujM2qvbZW56NJwneCN+XmafVa
 X44pqW8JodTNHjP0T9hVCcQYLdkgouIgQ0U1nPsTc28l8zJCjbohghWma0/4lKOvpxup
 NsAzQ4ZzViaxpt5MqTSr5QUpFzbn+XfGErWMTFV0K7KfwWtbKBGtyiujM2I8nkvHZBnQ
 DCrw==
X-Gm-Message-State: AOJu0YwyFJrGADUziKeBMWOpeDM36QTzAHRieJW0+vV4ugd47r9IVI+u
 WCQTUFq5xkaBjqv3Sant8cp3KcznUAQZ/IKuOolmywUPk4dqoWy63Qc26mdNbOHrfpgveWBTtZs
 WKhzenO58Gh9tmieDV/v+hlMrnnsy0aLH4zkgKgqjsWckwczirfimBwLO
X-Google-Smtp-Source: AGHT+IFLlMs/GCa3Uoa4EsiX2ldUsS8cgQBOeNjxAtrWr4FNVChINmm56zKTVQVHwEmZzwM736jNCNdARyVt
X-Received: by 2002:a05:690c:2f0f:b0:66b:ae3b:3591 with SMTP id
 00721157ae682-6ac982be2dfmr57184127b3.17.1723718528908; 
 Thu, 15 Aug 2024 03:42:08 -0700 (PDT)
Received: from postal.iol.unh.edu (postal.iol.unh.edu.
 [2606:4100:3880:1234::84]) by smtp-relay.gmail.com with ESMTPS id
 00721157ae682-6af995fd309sm635547b3.6.2024.08.15.03.42.08
 (version=TLS1_2 cipher=ECDHE-ECDSA-AES128-GCM-SHA256 bits=128/128);
 Thu, 15 Aug 2024 03:42:08 -0700 (PDT)
X-Relaying-Domain: iol.unh.edu
Date: Thu, 15 Aug 2024 03:42:08 -0700 (PDT)
Message-ID: <66bddb80.810a0220.2bd51.2a60SMTPIN_ADDED_MISSING@mx.google.com>
Received: from [172.17.0.4] (unknown [172.18.0.217])
 by postal.iol.unh.edu (Postfix) with ESMTP id 8A7F860526E2;
 Thu, 15 Aug 2024 06:42:08 -0400 (EDT)
Subject: |WARNING| pw143185 [PATCH] net/r8169: add PMD driver skeleton
From: dpdklab@iol.unh.edu
To: Test Report <test-report@dpdk.org>
Cc: dpdk-test-reports@iol.unh.edu
In-Reply-To: <20240815052755.23082-1-howard_wang@realsil.com.cn>
References: <20240815052755.23082-1-howard_wang@realsil.com.cn>
Content-Type: text/plain
X-BeenThere: test-report@dpdk.org
X-Mailman-Version: 2.1.29
Precedence: list
List-Id: automatic DPDK test reports <test-report.dpdk.org>
List-Unsubscribe: <https://mails.dpdk.org/options/test-report>,
 <mailto:test-report-request@dpdk.org?subject=unsubscribe>
List-Archive: <http://mails.dpdk.org/archives/test-report/>
List-Post: <mailto:test-report@dpdk.org>
List-Help: <mailto:test-report-request@dpdk.org?subject=help>
List-Subscribe: <https://mails.dpdk.org/listinfo/test-report>,
 <mailto:test-report-request@dpdk.org?subject=subscribe>
Errors-To: test-report-bounces@dpdk.org

Test-Label: iol-sample-apps-testing
Test-Status: WARNING
http://dpdk.org/patch/143185

_Testing issues_

Submitter: Howard Wang <howard_wang@realsil.com.cn>
Date: Thursday, August 15 2024 05:27:55 
DPDK git baseline: Repo:dpdk
  Branch: master
  CommitID:e0f7ebe88ab4588dd352e9ec14270ce4e3b1470b

143185 --> testing issues

Upstream job id: ACVP-FIPS-testing#6642

Test environment and result as below:

+--------------------+----------------------+----------------------+
|    Environment     | compressdev_zlib_pmd | dpdk_fips_validation |
+====================+======================+======================+
| Ubuntu 22.04 (ARM) | PASS                 | SKIPPED              |
+--------------------+----------------------+----------------------+
| Ubuntu 22.04       | PASS                 | SKIPPED              |
+--------------------+----------------------+----------------------+
| Ubuntu 20.04       | SKIPPED              | WARN                 |
+--------------------+----------------------+----------------------+

==== 20 line log output for Ubuntu 20.04 (dpdk_fips_validation): ====
|                          ^~~~~~~~~~~
cc1: all warnings being treated as errors
[1972/2973] Compiling C object 'drivers/net/qede/base/f6110d5@@qede_base@sta/ecore_mcp.c.o'.
[1973/2973] Compiling C object 'drivers/a715181@@rte_net_pcap@sha/meson-generated_.._rte_net_pcap.pmd.c.o'.
[1974/2973] Compiling C object 'drivers/a715181@@tmp_rte_net_qede@sta/net_qede_qede_main.c.o'.
[1975/2973] Compiling C object 'drivers/a715181@@tmp_rte_net_sfc@sta/net_sfc_sfc_kvargs.c.o'.
[1976/2973] Compiling C object 'drivers/a715181@@tmp_rte_net_qede@sta/net_qede_qede_sriov.c.o'.
[1977/2973] Compiling C object 'drivers/net/qede/base/f6110d5@@qede_base@sta/ecore_sriov.c.o'.
[1978/2973] Compiling C object 'drivers/a715181@@tmp_rte_net_ring@sta/net_ring_rte_eth_ring.c.o'.
[1979/2973] Compiling C object 'drivers/a715181@@tmp_rte_net_sfc@sta/net_sfc_sfc.c.o'.
[1980/2973] Compiling C object 'drivers/a715181@@tmp_rte_net_sfc@sta/net_sfc_sfc_tx.c.o'.
[1981/2973] Compiling C object 'drivers/a715181@@tmp_rte_net_sfc@sta/net_sfc_sfc_ethdev.c.o'.
[1982/2973] Compiling C object 'drivers/a715181@@tmp_rte_net_qede@sta/net_qede_qede_rxtx.c.o'.
[1983/2973] Compiling C object 'drivers/a715181@@tmp_rte_net_qede@sta/net_qede_qede_debug.c.o'.
[1984/2973] Compiling C object 'drivers/a715181@@tmp_rte_net_mlx5@sta/net_mlx5_mlx5_tx_nompw.c.o'.
[1985/2973] Compiling C object 'drivers/a715181@@tmp_rte_net_mlx5@sta/net_mlx5_mlx5_flow_hw.c.o'.
[1986/2973] Generating rte_common_cnxk.sym_chk with a meson_exe.py custom command.
[1987/2973] Compiling C object 'drivers/a715181@@tmp_rte_net_mlx5@sta/net_mlx5_mlx5_tx_empw.c.o'.
[1988/2973] Compiling C object 'drivers/a715181@@tmp_rte_net_mlx5@sta/net_mlx5_mlx5_tx_txpp.c.o'.
ninja: build stopped: subcommand failed.
==== End log output ====

Ubuntu 22.04 (ARM)
	Kernel: 5.15.0-97-generic
	Compiler: gcc gcc (Ubuntu 11.4.0-1ubuntu1~22.04) 11.4.0

Ubuntu 22.04
	Kernel: 5.15.0-100-generic
	Compiler: gcc gcc (Ubuntu 11.4.0-1ubuntu1~22.04) 11.4.0

Ubuntu 20.04
	Kernel: 5.4.0-167-generic
	Compiler: gcc 9.4.0-1ubuntu1~20.04.1

To view detailed results, visit:
https://lab.dpdk.org/results/dashboard/patchsets/30795/

UNH-IOL DPDK Community Lab

To manage your email subscriptions, visit: 
https://lab.dpdk.org/results/dashboard/preferences/subscriptions/