From mboxrd@z Thu Jan  1 00:00:00 1970
Return-Path: <test-report-bounces@dpdk.org>
Received: from mails.dpdk.org (mails.dpdk.org [217.70.189.124])
	by inbox.dpdk.org (Postfix) with ESMTP id 00072457D4
	for <public@inbox.dpdk.org>; Thu, 15 Aug 2024 12:57:57 +0200 (CEST)
Received: from mails.dpdk.org (localhost [127.0.0.1])
	by mails.dpdk.org (Postfix) with ESMTP id EE5F94027E;
	Thu, 15 Aug 2024 12:57:57 +0200 (CEST)
Received: from mail-pf1-f227.google.com (mail-pf1-f227.google.com
 [209.85.210.227])
 by mails.dpdk.org (Postfix) with ESMTP id 52BE84025F
 for <test-report@dpdk.org>; Thu, 15 Aug 2024 12:57:50 +0200 (CEST)
Received: by mail-pf1-f227.google.com with SMTP id
 d2e1a72fcca58-70d2b921cd1so625914b3a.1
 for <test-report@dpdk.org>; Thu, 15 Aug 2024 03:57:50 -0700 (PDT)
DKIM-Signature: v=1; a=rsa-sha256; c=relaxed/relaxed;
 d=iol.unh.edu; s=unh-iol; t=1723719469; x=1724324269; darn=dpdk.org;
 h=references:in-reply-to:cc:to:from:subject:message-id:date:from:to
 :cc:subject:date:message-id:reply-to;
 bh=oa2ywuV5SsOaxau8dKw+9+0gLSuTdDzscpT9M1nRKSk=;
 b=HpJZIuQp2fweGnwwWzT3Y82xmx5OQuyH0o9z/iBk04fdODjV3PfiYYertbS909Whk0
 UUR4EvJrtwCO2S6odYkluYxsrcbewtWZ19ktYpx98yOSeM2oxdZk1gIrBSqI6umlCw0k
 iE4lnrE9f8OPXvZap5ZFSrZDNYhd0Uuy+G68I=
X-Google-DKIM-Signature: v=1; a=rsa-sha256; c=relaxed/relaxed;
 d=1e100.net; s=20230601; t=1723719469; x=1724324269;
 h=references:in-reply-to:cc:to:from:subject:message-id:date
 :x-gm-message-state:from:to:cc:subject:date:message-id:reply-to;
 bh=oa2ywuV5SsOaxau8dKw+9+0gLSuTdDzscpT9M1nRKSk=;
 b=fP7LHz526NiHwRzoG7E4w2uI8FW5wwwt+8TsKdvg81BUje+uFFN3NOd0phuC5azo+V
 Z2LP147qNTlnHlzCRJR1hFvl2G7GdiwM/VBtg4H7512faz58Ldt+Yb8swjbS6d5Q+gcS
 VyYU7BW4xYVjJO/Ea962Xy1Yg8FN9YtdsM3WQwqR3yZbOqOxkBNZT39mDFZLigmYFRP6
 tdUQYXkSQwuiC1Q3s198fpvaX+iXUf+2662zC1GgIAemnn7L0Iglj8Tedcw8val+/HYe
 svpfc2rPHvMtH+ipnPikh2wiqJcQbSF+OWat0UNAHlwtE04UKic1A9lx/e2ihU2xm0vi
 8Olw==
X-Gm-Message-State: AOJu0Yyu7AbqkrKUFaf1zlj/tk3edJw5slmeLKWxPoWSguJhfwSOmTkc
 Q51AaEqqupfzXJLaK+zExNQ8MRMQrLj//kUB5yaXtQ6NaGNxUNSubCMBn0jpXIIV3s+28m5Dxsm
 DYdVkSiAbFqVpeusPTyaV6W8bN5YlW2wmsKLa3utW
X-Google-Smtp-Source: AGHT+IG4q3O7+63LmebH52SVQVwNDUDs3qpVbVFi8r3YLBCmfRCclIsCNY6kI897HmH1LCHUhuGQYGhDoHPl
X-Received: by 2002:a05:6a21:399:b0:1c4:8dc0:84f0 with SMTP id
 adf61e73a8af0-1c8eaf642b8mr6831297637.43.1723719469410; 
 Thu, 15 Aug 2024 03:57:49 -0700 (PDT)
Received: from postal.iol.unh.edu (postal.iol.unh.edu. [132.177.123.84])
 by smtp-relay.gmail.com with ESMTPS id
 d2e1a72fcca58-7127ae0084csm103616b3a.11.2024.08.15.03.57.49
 (version=TLS1_2 cipher=ECDHE-ECDSA-AES128-GCM-SHA256 bits=128/128);
 Thu, 15 Aug 2024 03:57:49 -0700 (PDT)
X-Relaying-Domain: iol.unh.edu
Date: Thu, 15 Aug 2024 03:57:49 -0700 (PDT)
Message-ID: <66bddf2d.050a0220.2fd0e2.43c2SMTPIN_ADDED_MISSING@mx.google.com>
Received: from [172.17.0.2] (unknown [172.18.0.213])
 by postal.iol.unh.edu (Postfix) with ESMTP id 67B1560526E2;
 Thu, 15 Aug 2024 06:57:48 -0400 (EDT)
Subject: |PENDING| pw143184 [PATCH] [v2] doc: add new driver guidelines
From: dpdklab@iol.unh.edu
To: Test Report <test-report@dpdk.org>
Cc: dpdk-test-reports@iol.unh.edu
In-Reply-To: <20240814190901.14912-1-stephen@networkplumber.org>
References: <20240814190901.14912-1-stephen@networkplumber.org>
Content-Type: text/plain
X-BeenThere: test-report@dpdk.org
X-Mailman-Version: 2.1.29
Precedence: list
List-Id: automatic DPDK test reports <test-report.dpdk.org>
List-Unsubscribe: <https://mails.dpdk.org/options/test-report>,
 <mailto:test-report-request@dpdk.org?subject=unsubscribe>
List-Archive: <http://mails.dpdk.org/archives/test-report/>
List-Post: <mailto:test-report@dpdk.org>
List-Help: <mailto:test-report-request@dpdk.org?subject=help>
List-Subscribe: <https://mails.dpdk.org/listinfo/test-report>,
 <mailto:test-report-request@dpdk.org?subject=subscribe>
Errors-To: test-report-bounces@dpdk.org

Test-Label: iol-unit-amd64-testing
Test-Status: PENDING
http://dpdk.org/patch/143184

_Testing pending_

Submitter: Stephen Hemminger <stephen@networkplumber.org>
Date: Wednesday, August 14 2024 19:08:32 
DPDK git baseline: Repo:dpdk
  Branch: master
  CommitID:cb9187bc5c2b4bab0ad80194ac3b60491de14e8c

143184 --> testing pending

Upstream job id: Generic-Unit-Test-DPDK#252521

Test environment and result as below:

+---------------------+----------------+
|     Environment     | dpdk_unit_test |
+=====================+================+
| CentOS Stream 9     | PASS           |
+---------------------+----------------+
| Debian Bullseye     | PASS           |
+---------------------+----------------+
| Fedora 37           | PASS           |
+---------------------+----------------+
| Debian 12           | PASS           |
+---------------------+----------------+
| Fedora 38           | PASS           |
+---------------------+----------------+
| Fedora 38 (Clang)   | PASS           |
+---------------------+----------------+
| Fedora 39           | PASS           |
+---------------------+----------------+
| Fedora 39 (Clang)   | PASS           |
+---------------------+----------------+
| Fedora 40           | PASS           |
+---------------------+----------------+
| openSUSE Leap 15    | PASS           |
+---------------------+----------------+
| Fedora 40 (Clang)   | PASS           |
+---------------------+----------------+
| Ubuntu 20.04        | PASS           |
+---------------------+----------------+
| RHEL8               | PEND           |
+---------------------+----------------+
| RHEL9               | PEND           |
+---------------------+----------------+
| Ubuntu 22.04        | PASS           |
+---------------------+----------------+
| Ubuntu 24.04        | PEND           |
+---------------------+----------------+
| Windows Server 2022 | PASS           |
+---------------------+----------------+
| Windows Server 2019 | PASS           |
+---------------------+----------------+


CentOS Stream 9
	Kernel: 5.4.0-167-generic
	Compiler: gcc 11.4.1 20230605

Debian Bullseye
	Kernel: 5.4.0-167-generic
	Compiler: gcc 10.2.1-6

Fedora 37
	Kernel: Depends on container host system
	Compiler: gcc 12.3.1

Debian 12
	Kernel: Container Host Kernel
	Compiler: gcc 12.2.0

Fedora 38
	Kernel: Depends on container host
	Compiler: gcc 13.2.1

Fedora 38 (Clang)
	Kernel: Depends on container host
	Compiler: clang 16.0.6

Fedora 39
	Kernel: Depends on container host
	Compiler: gcc 13.2.1

Fedora 39 (Clang)
	Kernel: Depends on container host
	Compiler: clang 17.0.6

Fedora 40
	Kernel: Depends on container host
	Compiler: gcc 14.1.1

openSUSE Leap 15
	Kernel: 5.4.0-167-generic
	Compiler: gcc 7.5.0

Fedora 40 (Clang)
	Kernel: Depends on container host
	Compiler: clang 18.1.6

Ubuntu 20.04
	Kernel: 5.4.0-167-generic
	Compiler: gcc 9.4.0-1ubuntu1~20.04.1

RHEL8
	Kernel: 5.4.0-167-generic
	Compiler: gcc 8.5.0 20210514 (Red Hat 8.5.0-20)

RHEL9
	Kernel: Depends on container host
	Compiler: gcc 11.4.1

Ubuntu 22.04
	Kernel: 5.4.0-167-generic
	Compiler: gcc 11.4.0

Ubuntu 24.04
	Kernel: 5.4.0-167-generic
	Compiler: gcc 13.2.0

Windows Server 2022
	Kernel: 10.0.20348.2031
	Compiler: clang 15.0.7, gcc 8.1.0 (MinGW), and MSVC VS 17.9

Windows Server 2019
	Kernel: 10.0.17763
	Compiler: clang 14.0 and gcc 8.1.0 (MinGW)

To view detailed results, visit:
https://lab.dpdk.org/results/dashboard/patchsets/30794/

UNH-IOL DPDK Community Lab

To manage your email subscriptions, visit: 
https://lab.dpdk.org/results/dashboard/preferences/subscriptions/