From mboxrd@z Thu Jan  1 00:00:00 1970
Return-Path: <test-report-bounces@dpdk.org>
Received: from mails.dpdk.org (mails.dpdk.org [217.70.189.124])
	by inbox.dpdk.org (Postfix) with ESMTP id 2196B457D5
	for <public@inbox.dpdk.org>; Thu, 15 Aug 2024 15:02:24 +0200 (CEST)
Received: from mails.dpdk.org (localhost [127.0.0.1])
	by mails.dpdk.org (Postfix) with ESMTP id EB2F74027E;
	Thu, 15 Aug 2024 15:02:23 +0200 (CEST)
Received: from mail-qv1-f97.google.com (mail-qv1-f97.google.com
 [209.85.219.97]) by mails.dpdk.org (Postfix) with ESMTP id 8D1E54025F
 for <test-report@dpdk.org>; Thu, 15 Aug 2024 15:02:22 +0200 (CEST)
Received: by mail-qv1-f97.google.com with SMTP id
 6a1803df08f44-6bf6beda038so5229826d6.2
 for <test-report@dpdk.org>; Thu, 15 Aug 2024 06:02:22 -0700 (PDT)
DKIM-Signature: v=1; a=rsa-sha256; c=relaxed/relaxed;
 d=iol.unh.edu; s=unh-iol; t=1723726942; x=1724331742; darn=dpdk.org;
 h=references:in-reply-to:cc:to:from:subject:message-id:date:from:to
 :cc:subject:date:message-id:reply-to;
 bh=PhrTOvgH0Z8HasCp05D13gpjaFrpCgp3mlyN50T2Ol8=;
 b=PAnTMq+UGIYmh3VTMOxTodbSI58b12gCx1LhD+/xKJUNx3fAswkda4m4R+ZwpFHZd+
 vvOSJwVhYWhmGgodFQtH2hRbpzAXk0htx4m5aba6k4EFRKQUN1RPo33MLDdcnif0DJ4K
 7OuWL+AjvA1YLTWyhzTw8NEk/WTGl9orc32NA=
X-Google-DKIM-Signature: v=1; a=rsa-sha256; c=relaxed/relaxed;
 d=1e100.net; s=20230601; t=1723726942; x=1724331742;
 h=references:in-reply-to:cc:to:from:subject:message-id:date
 :x-gm-message-state:from:to:cc:subject:date:message-id:reply-to;
 bh=PhrTOvgH0Z8HasCp05D13gpjaFrpCgp3mlyN50T2Ol8=;
 b=a+1mewQfEOg+iJ/spbQUDdutfnun2nBXe5TgScVjCGWCaZeV5nLTkB/C0jvZl02PoU
 PWj0/JoOVOw7nCPKXn66Y2TgX1KuKcBv0ctyE8X86ipp22EWQv3Nc3I7Hca6/PBVaaSR
 O5IwJSO8M/7BNFqlJTen7D515P/2OHfKQZ/k9GE/+xng1nnvllCowKYVtrRVO59hgSAt
 6he0hxVfaiu/y+o1um7oGGCmtvl9ZGkYgUTnhKQKI5/fhJ2+AIQyPTbRpvcsqoSRZ66u
 c9ITBn9MK/xUpk+tSM42LHu7V9UajBNlhnwvSGFPsebZWHuXy3Z0+WBBNrhGtQ1tt4hd
 SpCg==
X-Gm-Message-State: AOJu0YxTJf/Imodlk3MfQ5yAyzrzcGvaCf7bs57xJ/wTcnB+ukZlFkXe
 qORm+pCTTpaTiDgOxT20DvePtOqjagfMSINRJZSxEXrrceEvVtx98w4ZWMUabx1Nas9t/L2Pl8p
 vLR8DHkxSKEVpXqN7q9AK448pCabcQsGKpqAfuAeZOWpoWAnTooDdHtzy
X-Google-Smtp-Source: AGHT+IEyvZILn1Ved8duGiwaeMyiP0YPo0h9nk7z8mvr1qSuYoV8In9T8JjP1JBJtzPOV3Xpcr2oe46FOX2y
X-Received: by 2002:a05:6214:1152:b0:6bf:6555:dbf8 with SMTP id
 6a1803df08f44-6bf6555dd0cmr49522886d6.1.1723726941726; 
 Thu, 15 Aug 2024 06:02:21 -0700 (PDT)
Received: from postal.iol.unh.edu (postal.iol.unh.edu.
 [2606:4100:3880:1234::84]) by smtp-relay.gmail.com with ESMTPS id
 6a1803df08f44-6bf6fe16ee3sm806926d6.20.2024.08.15.06.02.21
 (version=TLS1_2 cipher=ECDHE-ECDSA-AES128-GCM-SHA256 bits=128/128);
 Thu, 15 Aug 2024 06:02:21 -0700 (PDT)
X-Relaying-Domain: iol.unh.edu
Date: Thu, 15 Aug 2024 06:02:21 -0700 (PDT)
Message-ID: <66bdfc5d.d40a0220.143683.35fdSMTPIN_ADDED_MISSING@mx.google.com>
Received: from [172.17.0.5] (unknown [172.18.0.214])
 by postal.iol.unh.edu (Postfix) with ESMTP id 678FF6050A6B;
 Thu, 15 Aug 2024 09:02:21 -0400 (EDT)
Subject: |SUCCESS| pw143184 [PATCH] [v2] doc: add new driver guidelines
From: dpdklab@iol.unh.edu
To: Test Report <test-report@dpdk.org>
Cc: dpdk-test-reports@iol.unh.edu
In-Reply-To: <20240814190901.14912-1-stephen@networkplumber.org>
References: <20240814190901.14912-1-stephen@networkplumber.org>
Content-Type: text/plain
X-BeenThere: test-report@dpdk.org
X-Mailman-Version: 2.1.29
Precedence: list
List-Id: automatic DPDK test reports <test-report.dpdk.org>
List-Unsubscribe: <https://mails.dpdk.org/options/test-report>,
 <mailto:test-report-request@dpdk.org?subject=unsubscribe>
List-Archive: <http://mails.dpdk.org/archives/test-report/>
List-Post: <mailto:test-report@dpdk.org>
List-Help: <mailto:test-report-request@dpdk.org?subject=help>
List-Subscribe: <https://mails.dpdk.org/listinfo/test-report>,
 <mailto:test-report-request@dpdk.org?subject=subscribe>
Errors-To: test-report-bounces@dpdk.org

Test-Label: iol-sample-apps-testing
Test-Status: SUCCESS
http://dpdk.org/patch/143184

_Testing PASS_

Submitter: Stephen Hemminger <stephen@networkplumber.org>
Date: Wednesday, August 14 2024 19:08:32 
DPDK git baseline: Repo:dpdk
  Branch: master
  CommitID:cb9187bc5c2b4bab0ad80194ac3b60491de14e8c

143184 --> testing pass

Upstream job id: ACVP-FIPS-testing#6644

Test environment and result as below:

+--------------------+----------------------+----------------------+
|    Environment     | compressdev_zlib_pmd | dpdk_fips_validation |
+====================+======================+======================+
| Ubuntu 22.04 (ARM) | PASS                 | SKIPPED              |
+--------------------+----------------------+----------------------+
| Ubuntu 22.04       | PASS                 | SKIPPED              |
+--------------------+----------------------+----------------------+
| Ubuntu 20.04       | SKIPPED              | PASS                 |
+--------------------+----------------------+----------------------+


Ubuntu 22.04 (ARM)
	Kernel: 5.15.0-97-generic
	Compiler: gcc gcc (Ubuntu 11.4.0-1ubuntu1~22.04) 11.4.0

Ubuntu 22.04
	Kernel: 5.15.0-100-generic
	Compiler: gcc gcc (Ubuntu 11.4.0-1ubuntu1~22.04) 11.4.0

Ubuntu 20.04
	Kernel: 5.4.0-167-generic
	Compiler: gcc 9.4.0-1ubuntu1~20.04.1

To view detailed results, visit:
https://lab.dpdk.org/results/dashboard/patchsets/30794/

UNH-IOL DPDK Community Lab

To manage your email subscriptions, visit: 
https://lab.dpdk.org/results/dashboard/preferences/subscriptions/