From mboxrd@z Thu Jan  1 00:00:00 1970
Return-Path: <test-report-bounces@dpdk.org>
Received: from mails.dpdk.org (mails.dpdk.org [217.70.189.124])
	by inbox.dpdk.org (Postfix) with ESMTP id 38778457D6
	for <public@inbox.dpdk.org>; Thu, 15 Aug 2024 16:03:49 +0200 (CEST)
Received: from mails.dpdk.org (localhost [127.0.0.1])
	by mails.dpdk.org (Postfix) with ESMTP id 32F324275C;
	Thu, 15 Aug 2024 16:03:49 +0200 (CEST)
Received: from mail-oi1-f227.google.com (mail-oi1-f227.google.com
 [209.85.167.227])
 by mails.dpdk.org (Postfix) with ESMTP id 943ED40647
 for <test-report@dpdk.org>; Thu, 15 Aug 2024 16:03:47 +0200 (CEST)
Received: by mail-oi1-f227.google.com with SMTP id
 5614622812f47-3db1270da60so618109b6e.2
 for <test-report@dpdk.org>; Thu, 15 Aug 2024 07:03:47 -0700 (PDT)
DKIM-Signature: v=1; a=rsa-sha256; c=relaxed/relaxed;
 d=iol.unh.edu; s=unh-iol; t=1723730627; x=1724335427; darn=dpdk.org;
 h=references:in-reply-to:cc:to:from:subject:message-id:date:from:to
 :cc:subject:date:message-id:reply-to;
 bh=Zw84KAmS/k08TzaDr2Epl/5lvT0kSAAh3VTeVuTx+78=;
 b=X+41DNyyfKceEZbbEAwW0k0cc59cCfMjUubXqZIhVKsOLKYPKyA4NiY9fdp/JWTrac
 yeD3QzZUX3+q0nMq+o2s+CyDigLKNIDKR+zwymKVONmAh0IZ/y/v9gD+Z1xi/s1CBjOx
 E1MdWV+KA8b2ikI9BAwfC86NUye08/0eD5Veo=
X-Google-DKIM-Signature: v=1; a=rsa-sha256; c=relaxed/relaxed;
 d=1e100.net; s=20230601; t=1723730627; x=1724335427;
 h=references:in-reply-to:cc:to:from:subject:message-id:date
 :x-gm-message-state:from:to:cc:subject:date:message-id:reply-to;
 bh=Zw84KAmS/k08TzaDr2Epl/5lvT0kSAAh3VTeVuTx+78=;
 b=sT8JPo4BKFf6/2C/8Tbg/KPGUbHUjgIqCZOjwtaW36uLUb0rnGCV0u34FFBNOnu7tB
 QKqL/DfV1sb8fFOyVd4cTuvFGY/nHt3mBVbeUv7Ak5pmYvrwr3hKgq06HRPItmdw/fr5
 OMQ44LAA5ZvFIBSQCvmIWk5lZPoBF93Qcx4ECaAZw5LDcOmkkL269f/oijC7TAhT0RSH
 hDLYBuAZ+M7+2GF/eIryokIUzf19Exf5g9a7112HHVwmkyWrUiUNLxC3xsrtG9C1cSdI
 iUh+tSERN1r84TPdMp8ZiRI90aHjtw3bUNvucI5vesxL5dXb2JfHVdP0v37JIxmeWSU4
 0CnA==
X-Gm-Message-State: AOJu0YxYK+HndKqzbzddPUAy8c4zB709OLW+Fl1dycU2QrI+YfDg3Th3
 oJu30Q2fOaedYj3Cv9Ugg33dqz+W8xV2cGVctsGRo4y5hfPIfAjQMy9SqFGY7RZgY8vOJS7683g
 c/37LB6K40cS3ai8F9XYZqrTwRC5wtgy2YSPPFCKWaOSHww8P300mOfWz
X-Google-Smtp-Source: AGHT+IFgyboWE00ZNinAQUwoPoWpm2YT+kOcSXb/c5ZygRhncReqyhSDqDPXI+Oo84E825RnNARvUhuhKo5y
X-Received: by 2002:a05:6808:200d:b0:3d9:2e91:96a5 with SMTP id
 5614622812f47-3dd2993d1a4mr7998294b6e.18.1723730626811; 
 Thu, 15 Aug 2024 07:03:46 -0700 (PDT)
Received: from postal.iol.unh.edu (postal.iol.unh.edu.
 [2606:4100:3880:1234::84]) by smtp-relay.gmail.com with ESMTPS id
 a1e0cc1a2514c-842fb9c95aesm83756241.14.2024.08.15.07.03.46
 (version=TLS1_2 cipher=ECDHE-ECDSA-AES128-GCM-SHA256 bits=128/128);
 Thu, 15 Aug 2024 07:03:46 -0700 (PDT)
X-Relaying-Domain: iol.unh.edu
Date: Thu, 15 Aug 2024 07:03:46 -0700 (PDT)
Message-ID: <66be0ac2.b00a0220.5c1d5.3a80SMTPIN_ADDED_MISSING@mx.google.com>
Received: from [172.17.0.4] (unknown [172.18.0.217])
 by postal.iol.unh.edu (Postfix) with ESMTP id 71724605C351;
 Thu, 15 Aug 2024 10:03:46 -0400 (EDT)
Subject: |PENDING| pw143193 [PATCH] net/bonding: add user callback for bond x
From: dpdklab@iol.unh.edu
To: Test Report <test-report@dpdk.org>
Cc: dpdk-test-reports@iol.unh.edu
In-Reply-To: <20240815121014.612170-1-vignesh.purushotham.srinivas@ericsson.com>
References: <20240815121014.612170-1-vignesh.purushotham.srinivas@ericsson.com>
Content-Type: text/plain
X-BeenThere: test-report@dpdk.org
X-Mailman-Version: 2.1.29
Precedence: list
List-Id: automatic DPDK test reports <test-report.dpdk.org>
List-Unsubscribe: <https://mails.dpdk.org/options/test-report>,
 <mailto:test-report-request@dpdk.org?subject=unsubscribe>
List-Archive: <http://mails.dpdk.org/archives/test-report/>
List-Post: <mailto:test-report@dpdk.org>
List-Help: <mailto:test-report-request@dpdk.org?subject=help>
List-Subscribe: <https://mails.dpdk.org/listinfo/test-report>,
 <mailto:test-report-request@dpdk.org?subject=subscribe>
Errors-To: test-report-bounces@dpdk.org

Test-Label: iol-unit-arm64-testing
Test-Status: PENDING
http://dpdk.org/patch/143193

_Testing pending_

Submitter: Vignesh Purushotham Srinivas <vignesh.purushotham.srinivas@ericsson.com>
Date: Thursday, August 15 2024 12:10:14 
DPDK git baseline: Repo:dpdk
  Branch: master
  CommitID:e0f7ebe88ab4588dd352e9ec14270ce4e3b1470b

143193 --> testing pending

Upstream job id: Generic-Unit-Test-DPDK#252623

Test environment and result as below:

+-----------------------------+----------------+--------------+---------------------------+------------------------------+
|         Environment         | dpdk_unit_test | lpm_autotest | cryptodev_sw_zuc_autotest | cryptodev_sw_snow3g_autotest |
+=============================+================+==============+===========================+==============================+
| 32-bit Ubuntu 20.04.4 (ARM) | PASS           | SKIPPED      | SKIPPED                   | SKIPPED                      |
+-----------------------------+----------------+--------------+---------------------------+------------------------------+
| CentOS Stream 9 (ARM)       | PASS           | SKIPPED      | SKIPPED                   | SKIPPED                      |
+-----------------------------+----------------+--------------+---------------------------+------------------------------+
| Debian 11 (Buster) (ARM)    | PASS           | SKIPPED      | SKIPPED                   | SKIPPED                      |
+-----------------------------+----------------+--------------+---------------------------+------------------------------+
| Debian 12 (arm)             | PASS           | SKIPPED      | PASS                      | PASS                         |
+-----------------------------+----------------+--------------+---------------------------+------------------------------+
| Fedora 37 (ARM)             | PASS           | SKIPPED      | SKIPPED                   | SKIPPED                      |
+-----------------------------+----------------+--------------+---------------------------+------------------------------+
| Fedora 38 (ARM)             | PASS           | SKIPPED      | SKIPPED                   | SKIPPED                      |
+-----------------------------+----------------+--------------+---------------------------+------------------------------+
| Fedora 38 (ARM Clang)       | PASS           | SKIPPED      | SKIPPED                   | SKIPPED                      |
+-----------------------------+----------------+--------------+---------------------------+------------------------------+
| Fedora 39 (ARM)             | PASS           | SKIPPED      | SKIPPED                   | SKIPPED                      |
+-----------------------------+----------------+--------------+---------------------------+------------------------------+
| Fedora 40 (ARM)             | PASS           | SKIPPED      | SKIPPED                   | SKIPPED                      |
+-----------------------------+----------------+--------------+---------------------------+------------------------------+
| Fedora 39 (ARM Clang)       | PEND           | SKIPPED      | SKIPPED                   | SKIPPED                      |
+-----------------------------+----------------+--------------+---------------------------+------------------------------+
| Fedora 40 (ARM Clang)       | PASS           | SKIPPED      | SKIPPED                   | SKIPPED                      |
+-----------------------------+----------------+--------------+---------------------------+------------------------------+
| RHEL9 (ARM)                 | PASS           | SKIPPED      | SKIPPED                   | SKIPPED                      |
+-----------------------------+----------------+--------------+---------------------------+------------------------------+
| Ubuntu 20.04 (ARM)          | PASS           | SKIPPED      | SKIPPED                   | SKIPPED                      |
+-----------------------------+----------------+--------------+---------------------------+------------------------------+
| Ubuntu 22.04 (ARM)          | PASS           | SKIPPED      | SKIPPED                   | SKIPPED                      |
+-----------------------------+----------------+--------------+---------------------------+------------------------------+
| Ubuntu 24.04 (ARM)          | PEND           | SKIPPED      | SKIPPED                   | SKIPPED                      |
+-----------------------------+----------------+--------------+---------------------------+------------------------------+
| Ubuntu 20.04 ARM SVE        | SKIPPED        | PEND         | SKIPPED                   | SKIPPED                      |
+-----------------------------+----------------+--------------+---------------------------+------------------------------+


32-bit Ubuntu 20.04.4 (ARM)
	Kernel: 5.4.0-155-generic aarch64
	Compiler: gcc 9.4

CentOS Stream 9 (ARM)
	Kernel: Container Host Kernel
	Compiler: gcc 11.4.1

Debian 11 (Buster) (ARM)
	Kernel: Container Host Kernel
	Compiler: gcc 10.2.1

Debian 12 (arm)
	Kernel: Container Host Kernel
	Compiler: gcc 12.2.0

Fedora 37 (ARM)
	Kernel: Depends on container host
	Compiler: gcc 12.3.1

Fedora 38 (ARM)
	Kernel: Depends on container host
	Compiler: gcc 13.2.1

Fedora 38 (ARM Clang)
	Kernel: Depends on container host
	Compiler: clang 16.0.6

Fedora 39 (ARM)
	Kernel: Depends on container host
	Compiler: gcc 13.2.1

Fedora 40 (ARM)
	Kernel: Depends on container host
	Compiler: gcc 14.1.1

Fedora 39 (ARM Clang)
	Kernel: Depends on container host
	Compiler: clang 17.0.6

Fedora 40 (ARM Clang)
	Kernel: Depends on container host
	Compiler: clang 18.1.6

RHEL9 (ARM)
	Kernel: Depends on container host
	Compiler: gcc 11.4.1

Ubuntu 20.04 (ARM)
	Kernel: Container Host Kernel
	Compiler: gcc 9.4.0

Ubuntu 22.04 (ARM)
	Kernel: Container Host Kernel
	Compiler: gcc 11.4.0

Ubuntu 24.04 (ARM)
	Kernel: 5.4.0-167-generic
	Compiler: gcc 13.2.0

Ubuntu 20.04 ARM SVE
	Kernel: 5.4.0-167-generic
	Compiler: gcc (Ubuntu 10.5.0-1ubuntu1~20.04) 10.5.0

To view detailed results, visit:
https://lab.dpdk.org/results/dashboard/patchsets/30798/

UNH-IOL DPDK Community Lab

To manage your email subscriptions, visit: 
https://lab.dpdk.org/results/dashboard/preferences/subscriptions/