From mboxrd@z Thu Jan  1 00:00:00 1970
Return-Path: <test-report-bounces@dpdk.org>
Received: from mails.dpdk.org (mails.dpdk.org [217.70.189.124])
	by inbox.dpdk.org (Postfix) with ESMTP id 9EADE457D7
	for <public@inbox.dpdk.org>; Thu, 15 Aug 2024 17:05:42 +0200 (CEST)
Received: from mails.dpdk.org (localhost [127.0.0.1])
	by mails.dpdk.org (Postfix) with ESMTP id 9B70D4275C;
	Thu, 15 Aug 2024 17:05:42 +0200 (CEST)
Received: from mail-qv1-f100.google.com (mail-qv1-f100.google.com
 [209.85.219.100])
 by mails.dpdk.org (Postfix) with ESMTP id 76AD340647
 for <test-report@dpdk.org>; Thu, 15 Aug 2024 17:05:35 +0200 (CEST)
Received: by mail-qv1-f100.google.com with SMTP id
 6a1803df08f44-6b7a3773a95so5458376d6.2
 for <test-report@dpdk.org>; Thu, 15 Aug 2024 08:05:35 -0700 (PDT)
DKIM-Signature: v=1; a=rsa-sha256; c=relaxed/relaxed;
 d=iol.unh.edu; s=unh-iol; t=1723734335; x=1724339135; darn=dpdk.org;
 h=references:in-reply-to:cc:to:from:subject:message-id:date:from:to
 :cc:subject:date:message-id:reply-to;
 bh=NEOmeYoICgZklheBVg8wq8iTE472gou8G8GbyaQWvwY=;
 b=XYEB6fA6JXwpd480oCFvcK9IQr0r6FWLhoWQ23pnH2NwWCAY89Jrwh8Y0gQgS/kZ7K
 IlpS/GwycWW8ZGMR2qlFJxAZbS418Y+PT5aDtE6+fR5uaMM6KRjYKsHpUyBTZbtIzuff
 bvDn/1A6zmDbARX2BCnXQ6LclqJmyzOflsqmo=
X-Google-DKIM-Signature: v=1; a=rsa-sha256; c=relaxed/relaxed;
 d=1e100.net; s=20230601; t=1723734335; x=1724339135;
 h=references:in-reply-to:cc:to:from:subject:message-id:date
 :x-gm-message-state:from:to:cc:subject:date:message-id:reply-to;
 bh=NEOmeYoICgZklheBVg8wq8iTE472gou8G8GbyaQWvwY=;
 b=Lsmwd9+L6aOqwIfpuyvbXlTKEXf1WyODsAZqfX2ipLJYYjewmmnBmPKgn3yqBIIy4H
 U64m+alZKSM46Bng8EE2gy2KmgCERIBSIj+zsyTrt9YQe77xqQnrNf58nn7pcOkGQNaJ
 ldOs6r0/sqepT8j/s3ScDInpa5F2NA47r5BDe72MpjN+YRiPdmfjA7Z5Cbn26EWIIXfV
 5vWRAWsoNAc9RRb4qWaGqZUBlUMduCyl4N8CLp2USFtL+wpcZX77ziVrawMcYdSARZ0e
 fphE8ClJSlU3H2W/Ll3nfeDLkzUdDHAU8Jw5dXzEa57Jn3WEu847QFA9FPEqV+vvSKI4
 PQqA==
X-Gm-Message-State: AOJu0Yz7vldg6icOyF+OUlYfV7HfUd5994OjhzS3P3Or4rSldkhCEANz
 vkEwCLToP7+VVGy7ZzDtM3xtnO0xKWF+vQI6ShQNuem6nDW4XO5GJ/9W3uJszH9sEe5FJ+2iUTK
 8D/nUEztvsoudXXWbY/YyaUH01yA7yLhiCrGfleYv
X-Google-Smtp-Source: AGHT+IFYHQ8mDaijXlp1Yb2hUiiSKdH5PUO1ix8aiypbYDDIbzw9C+t7qqyx1HCXLXcjVvvo98bLdQd0RyMp
X-Received: by 2002:a05:6214:460e:b0:6b2:d69d:a2d7 with SMTP id
 6a1803df08f44-6bf5d192516mr90251376d6.19.1723734334757; 
 Thu, 15 Aug 2024 08:05:34 -0700 (PDT)
Received: from postal.iol.unh.edu (postal.iol.unh.edu. [132.177.123.84])
 by smtp-relay.gmail.com with ESMTPS id
 6a1803df08f44-6bf6ff0c663sm939376d6.65.2024.08.15.08.05.34
 (version=TLS1_2 cipher=ECDHE-ECDSA-AES128-GCM-SHA256 bits=128/128);
 Thu, 15 Aug 2024 08:05:34 -0700 (PDT)
X-Relaying-Domain: iol.unh.edu
Date: Thu, 15 Aug 2024 08:05:34 -0700 (PDT)
Message-ID: <66be193e.050a0220.240809.4030SMTPIN_ADDED_MISSING@mx.google.com>
Received: from [172.17.0.3] (unknown [172.18.0.215])
 by postal.iol.unh.edu (Postfix) with ESMTP id 76826605C351;
 Thu, 15 Aug 2024 11:05:34 -0400 (EDT)
Subject: |SUCCESS| pw143193 [PATCH] net/bonding: add user callback for bond x
From: dpdklab@iol.unh.edu
To: Test Report <test-report@dpdk.org>
Cc: dpdk-test-reports@iol.unh.edu
In-Reply-To: <20240815121014.612170-1-vignesh.purushotham.srinivas@ericsson.com>
References: <20240815121014.612170-1-vignesh.purushotham.srinivas@ericsson.com>
Content-Type: text/plain
X-BeenThere: test-report@dpdk.org
X-Mailman-Version: 2.1.29
Precedence: list
List-Id: automatic DPDK test reports <test-report.dpdk.org>
List-Unsubscribe: <https://mails.dpdk.org/options/test-report>,
 <mailto:test-report-request@dpdk.org?subject=unsubscribe>
List-Archive: <http://mails.dpdk.org/archives/test-report/>
List-Post: <mailto:test-report@dpdk.org>
List-Help: <mailto:test-report-request@dpdk.org?subject=help>
List-Subscribe: <https://mails.dpdk.org/listinfo/test-report>,
 <mailto:test-report-request@dpdk.org?subject=subscribe>
Errors-To: test-report-bounces@dpdk.org

Test-Label: iol-unit-amd64-testing
Test-Status: SUCCESS
http://dpdk.org/patch/143193

_Testing PASS_

Submitter: Vignesh Purushotham Srinivas <vignesh.purushotham.srinivas@ericsson.com>
Date: Thursday, August 15 2024 12:10:14 
DPDK git baseline: Repo:dpdk
  Branch: master
  CommitID:e0f7ebe88ab4588dd352e9ec14270ce4e3b1470b

143193 --> testing pass

Upstream job id: Generic-Unit-Test-DPDK#252606

Test environment and result as below:

+---------------------+----------------+
|     Environment     | dpdk_unit_test |
+=====================+================+
| CentOS Stream 9     | PASS           |
+---------------------+----------------+
| Debian Bullseye     | PASS           |
+---------------------+----------------+
| Debian 12           | PASS           |
+---------------------+----------------+
| Fedora 37           | PASS           |
+---------------------+----------------+
| Fedora 38           | PASS           |
+---------------------+----------------+
| Fedora 38 (Clang)   | PASS           |
+---------------------+----------------+
| Fedora 39           | PASS           |
+---------------------+----------------+
| Fedora 39 (Clang)   | PASS           |
+---------------------+----------------+
| openSUSE Leap 15    | PASS           |
+---------------------+----------------+
| RHEL8               | PASS           |
+---------------------+----------------+
| Fedora 40 (Clang)   | PASS           |
+---------------------+----------------+
| RHEL9               | PASS           |
+---------------------+----------------+
| Ubuntu 22.04        | PASS           |
+---------------------+----------------+
| Ubuntu 24.04        | PASS           |
+---------------------+----------------+
| Ubuntu 20.04        | PASS           |
+---------------------+----------------+
| Fedora 40           | PASS           |
+---------------------+----------------+
| Windows Server 2019 | PASS           |
+---------------------+----------------+
| Windows Server 2022 | PASS           |
+---------------------+----------------+


CentOS Stream 9
	Kernel: 5.4.0-167-generic
	Compiler: gcc 11.4.1 20230605

Debian Bullseye
	Kernel: 5.4.0-167-generic
	Compiler: gcc 10.2.1-6

Debian 12
	Kernel: Container Host Kernel
	Compiler: gcc 12.2.0

Fedora 37
	Kernel: Depends on container host system
	Compiler: gcc 12.3.1

Fedora 38
	Kernel: Depends on container host
	Compiler: gcc 13.2.1

Fedora 38 (Clang)
	Kernel: Depends on container host
	Compiler: clang 16.0.6

Fedora 39
	Kernel: Depends on container host
	Compiler: gcc 13.2.1

Fedora 39 (Clang)
	Kernel: Depends on container host
	Compiler: clang 17.0.6

openSUSE Leap 15
	Kernel: 5.4.0-167-generic
	Compiler: gcc 7.5.0

RHEL8
	Kernel: 5.4.0-167-generic
	Compiler: gcc 8.5.0 20210514 (Red Hat 8.5.0-20)

Fedora 40 (Clang)
	Kernel: Depends on container host
	Compiler: clang 18.1.6

RHEL9
	Kernel: Depends on container host
	Compiler: gcc 11.4.1

Ubuntu 22.04
	Kernel: 5.4.0-167-generic
	Compiler: gcc 11.4.0

Ubuntu 24.04
	Kernel: 5.4.0-167-generic
	Compiler: gcc 13.2.0

Ubuntu 20.04
	Kernel: 5.4.0-167-generic
	Compiler: gcc 9.4.0-1ubuntu1~20.04.1

Fedora 40
	Kernel: Depends on container host
	Compiler: gcc 14.1.1

Windows Server 2019
	Kernel: 10.0.17763
	Compiler: clang 14.0 and gcc 8.1.0 (MinGW)

Windows Server 2022
	Kernel: 10.0.20348.2031
	Compiler: clang 15.0.7, gcc 8.1.0 (MinGW), and MSVC VS 17.9

To view detailed results, visit:
https://lab.dpdk.org/results/dashboard/patchsets/30798/

UNH-IOL DPDK Community Lab

To manage your email subscriptions, visit: 
https://lab.dpdk.org/results/dashboard/preferences/subscriptions/