From mboxrd@z Thu Jan  1 00:00:00 1970
Return-Path: <test-report-bounces@dpdk.org>
Received: from mails.dpdk.org (mails.dpdk.org [217.70.189.124])
	by inbox.dpdk.org (Postfix) with ESMTP id 824E1457D7
	for <public@inbox.dpdk.org>; Thu, 15 Aug 2024 17:37:29 +0200 (CEST)
Received: from mails.dpdk.org (localhost [127.0.0.1])
	by mails.dpdk.org (Postfix) with ESMTP id 7B59A4275C;
	Thu, 15 Aug 2024 17:37:29 +0200 (CEST)
Received: from mail-io1-f98.google.com (mail-io1-f98.google.com
 [209.85.166.98]) by mails.dpdk.org (Postfix) with ESMTP id AA93740647
 for <test-report@dpdk.org>; Thu, 15 Aug 2024 17:37:06 +0200 (CEST)
Received: by mail-io1-f98.google.com with SMTP id
 ca18e2360f4ac-81f9339e541so42585739f.3
 for <test-report@dpdk.org>; Thu, 15 Aug 2024 08:37:06 -0700 (PDT)
DKIM-Signature: v=1; a=rsa-sha256; c=relaxed/relaxed;
 d=iol.unh.edu; s=unh-iol; t=1723736226; x=1724341026; darn=dpdk.org;
 h=references:in-reply-to:cc:to:from:subject:message-id:date:from:to
 :cc:subject:date:message-id:reply-to;
 bh=MhiGAFSwNTgM6CDAfPFT5fNFIhhxRtV3OUNtPMpNUFw=;
 b=KUgyEQtP/uOb36/JNNKjQrkVc/u5gbwdQGYZlkczEkbtJ8PDEp8PoPe3OdU0z74ye5
 WaDl/UMKmg0byoxb91Xc+nJ0E/NbhJN/ED3/qj5yZXlEPfaoCfoBs1ikrVtUFqE4oogN
 h3eGLGgePtkBqosS7XEDTCPHS68kZkuCUYRTU=
X-Google-DKIM-Signature: v=1; a=rsa-sha256; c=relaxed/relaxed;
 d=1e100.net; s=20230601; t=1723736226; x=1724341026;
 h=references:in-reply-to:cc:to:from:subject:message-id:date
 :x-gm-message-state:from:to:cc:subject:date:message-id:reply-to;
 bh=MhiGAFSwNTgM6CDAfPFT5fNFIhhxRtV3OUNtPMpNUFw=;
 b=Chu1AxisNlcTRgslzmUzj+t8Cal/8c5MjFnfhS5HdiZOfP2+J6JZVXnNQF+P01eTFv
 OQiUoSIMKjGV6vIuYNqwz5o88yLWVfp3pZZ7griJzLVSQ53i6bh5R/ltAfHrHxmQ+0uO
 p3gSOXKhs0DYhXQul3FuyWmYsPmGiziaUBbTrfDNnU/V10jwY3G8cts8sZe8isCfZ5G2
 WAxAXdFbqgZXvywHwrxqtc+KeNisn10PwIVCsOpxGKHpaSjZ7OOm7gtytX2WSIZ3evT5
 6AYVEOS4QYkm3DC9YO4iFhjHBfOX3Qkx8lb3bIg21XBLFPh3hM++NY9nmnXHBnnVhFfu
 L9ew==
X-Gm-Message-State: AOJu0YwRqDS9V1WVVwWqjPTb43o8rzOo1pD3zHMjsJwB4Tcut8GXlGmh
 WQBzjONGA0PCZ2ziewfogEqBfjE9+xzjRGUWH6BnACKe+3uW2j2HJRafpjdJ4Pn/yhPz6oRjBXl
 cnHDvpBkOEpY7wXYAa2UXFnBaAtFITutCvDrls88+wL27NT9OkZUKMRlS
X-Google-Smtp-Source: AGHT+IGY4p2fNkfPl/G5mC3GyphO6964Xk3sr0gJitldQvBu41nfW4qsOjw8ci+Ld+PAca7FxsL0G6leXdTD
X-Received: by 2002:a05:6e02:144c:b0:39b:362f:e6b5 with SMTP id
 e9e14a558f8ab-39d26c346c2mr2825025ab.0.1723736226062; 
 Thu, 15 Aug 2024 08:37:06 -0700 (PDT)
Received: from postal.iol.unh.edu (postal.iol.unh.edu.
 [2606:4100:3880:1234::84]) by smtp-relay.gmail.com with ESMTPS id
 e9e14a558f8ab-39d1eaafaeasm1014335ab.35.2024.08.15.08.37.05
 (version=TLS1_2 cipher=ECDHE-ECDSA-AES128-GCM-SHA256 bits=128/128);
 Thu, 15 Aug 2024 08:37:06 -0700 (PDT)
X-Relaying-Domain: iol.unh.edu
Date: Thu, 15 Aug 2024 08:37:06 -0700 (PDT)
Message-ID: <66be20a2.920a0220.38fba.42e4SMTPIN_ADDED_MISSING@mx.google.com>
Received: from [172.17.0.3] (unknown [172.18.0.217])
 by postal.iol.unh.edu (Postfix) with ESMTP id B16EC605C352;
 Thu, 15 Aug 2024 11:37:05 -0400 (EDT)
Subject: |PENDING| pw143193 [PATCH] net/bonding: add user callback for bond x
From: dpdklab@iol.unh.edu
To: Test Report <test-report@dpdk.org>
Cc: dpdk-test-reports@iol.unh.edu
In-Reply-To: <20240815121014.612170-1-vignesh.purushotham.srinivas@ericsson.com>
References: <20240815121014.612170-1-vignesh.purushotham.srinivas@ericsson.com>
Content-Type: text/plain
X-BeenThere: test-report@dpdk.org
X-Mailman-Version: 2.1.29
Precedence: list
List-Id: automatic DPDK test reports <test-report.dpdk.org>
List-Unsubscribe: <https://mails.dpdk.org/options/test-report>,
 <mailto:test-report-request@dpdk.org?subject=unsubscribe>
List-Archive: <http://mails.dpdk.org/archives/test-report/>
List-Post: <mailto:test-report@dpdk.org>
List-Help: <mailto:test-report-request@dpdk.org?subject=help>
List-Subscribe: <https://mails.dpdk.org/listinfo/test-report>,
 <mailto:test-report-request@dpdk.org?subject=subscribe>
Errors-To: test-report-bounces@dpdk.org

Test-Label: iol-unit-amd64-testing
Test-Status: PENDING
http://dpdk.org/patch/143193

_Testing pending_

Submitter: Vignesh Purushotham Srinivas <vignesh.purushotham.srinivas@ericsson.com>
Date: Thursday, August 15 2024 12:10:14 
DPDK git baseline: Repo:dpdk
  Branch: master
  CommitID:e0f7ebe88ab4588dd352e9ec14270ce4e3b1470b

143193 --> testing pending

Upstream job id: Generic-Unit-Test-DPDK#252632

Test environment and result as below:

+---------------------+----------------+
|     Environment     | dpdk_unit_test |
+=====================+================+
| Windows Server 2019 | PASS           |
+---------------------+----------------+
| Windows Server 2022 | PASS           |
+---------------------+----------------+
| CentOS Stream 9     | PASS           |
+---------------------+----------------+
| Debian Bullseye     | PASS           |
+---------------------+----------------+
| Debian 12           | PASS           |
+---------------------+----------------+
| Fedora 37           | PASS           |
+---------------------+----------------+
| Fedora 38           | PASS           |
+---------------------+----------------+
| Fedora 40 (Clang)   | PEND           |
+---------------------+----------------+
| Fedora 39 (Clang)   | PEND           |
+---------------------+----------------+
| Fedora 39           | PASS           |
+---------------------+----------------+
| Fedora 40           | PEND           |
+---------------------+----------------+
| RHEL8               | PEND           |
+---------------------+----------------+
| openSUSE Leap 15    | PEND           |
+---------------------+----------------+
| RHEL9               | PEND           |
+---------------------+----------------+
| Ubuntu 20.04        | PEND           |
+---------------------+----------------+
| Ubuntu 22.04        | PEND           |
+---------------------+----------------+
| Ubuntu 24.04        | PEND           |
+---------------------+----------------+
| Fedora 38 (Clang)   | PEND           |
+---------------------+----------------+


Windows Server 2019
	Kernel: 10.0.17763
	Compiler: clang 14.0 and gcc 8.1.0 (MinGW)

Windows Server 2022
	Kernel: 10.0.20348.2031
	Compiler: clang 15.0.7, gcc 8.1.0 (MinGW), and MSVC VS 17.9

CentOS Stream 9
	Kernel: 5.4.0-167-generic
	Compiler: gcc 11.4.1 20230605

Debian Bullseye
	Kernel: 5.4.0-167-generic
	Compiler: gcc 10.2.1-6

Debian 12
	Kernel: Container Host Kernel
	Compiler: gcc 12.2.0

Fedora 37
	Kernel: Depends on container host system
	Compiler: gcc 12.3.1

Fedora 38
	Kernel: Depends on container host
	Compiler: gcc 13.2.1

Fedora 40 (Clang)
	Kernel: Depends on container host
	Compiler: clang 18.1.6

Fedora 39 (Clang)
	Kernel: Depends on container host
	Compiler: clang 17.0.6

Fedora 39
	Kernel: Depends on container host
	Compiler: gcc 13.2.1

Fedora 40
	Kernel: Depends on container host
	Compiler: gcc 14.1.1

RHEL8
	Kernel: 5.4.0-167-generic
	Compiler: gcc 8.5.0 20210514 (Red Hat 8.5.0-20)

openSUSE Leap 15
	Kernel: 5.4.0-167-generic
	Compiler: gcc 7.5.0

RHEL9
	Kernel: Depends on container host
	Compiler: gcc 11.4.1

Ubuntu 20.04
	Kernel: 5.4.0-167-generic
	Compiler: gcc 9.4.0-1ubuntu1~20.04.1

Ubuntu 22.04
	Kernel: 5.4.0-167-generic
	Compiler: gcc 11.4.0

Ubuntu 24.04
	Kernel: 5.4.0-167-generic
	Compiler: gcc 13.2.0

Fedora 38 (Clang)
	Kernel: Depends on container host
	Compiler: clang 16.0.6

To view detailed results, visit:
https://lab.dpdk.org/results/dashboard/patchsets/30798/

UNH-IOL DPDK Community Lab

To manage your email subscriptions, visit: 
https://lab.dpdk.org/results/dashboard/preferences/subscriptions/