From mboxrd@z Thu Jan  1 00:00:00 1970
Return-Path: <test-report-bounces@dpdk.org>
Received: from mails.dpdk.org (mails.dpdk.org [217.70.189.124])
	by inbox.dpdk.org (Postfix) with ESMTP id 00AF8457E6
	for <public@inbox.dpdk.org>; Fri, 16 Aug 2024 19:08:52 +0200 (CEST)
Received: from mails.dpdk.org (localhost [127.0.0.1])
	by mails.dpdk.org (Postfix) with ESMTP id EFF5B402A3;
	Fri, 16 Aug 2024 19:08:51 +0200 (CEST)
Received: from mail-vs1-f98.google.com (mail-vs1-f98.google.com
 [209.85.217.98]) by mails.dpdk.org (Postfix) with ESMTP id 4B39840291
 for <test-report@dpdk.org>; Fri, 16 Aug 2024 19:08:49 +0200 (CEST)
Received: by mail-vs1-f98.google.com with SMTP id
 ada2fe7eead31-492959b906eso851359137.0
 for <test-report@dpdk.org>; Fri, 16 Aug 2024 10:08:49 -0700 (PDT)
DKIM-Signature: v=1; a=rsa-sha256; c=relaxed/relaxed;
 d=iol.unh.edu; s=unh-iol; t=1723828128; x=1724432928; darn=dpdk.org;
 h=references:in-reply-to:cc:to:from:subject:message-id:date:from:to
 :cc:subject:date:message-id:reply-to;
 bh=1Q8TyKh5yZZh7TB7EZBE4TvnaEeX+vbhMdkamD8ylAA=;
 b=L0qec8YkqCsLcAqiT4L2fTD40A5aHdltGNOsh7nRoc/GvFEqLlwdyYz56xsMCDplWV
 PDwPYY1nIZ3Ry4nBr5VGsbaSExuYEBT4UNiBu3b70z3Ikl7kywEgbXQn0sbxyTPYDOh7
 zZm+JS8IuSmCxnn4wK7ECmzeRNP/1OTEK9lfE=
X-Google-DKIM-Signature: v=1; a=rsa-sha256; c=relaxed/relaxed;
 d=1e100.net; s=20230601; t=1723828128; x=1724432928;
 h=references:in-reply-to:cc:to:from:subject:message-id:date
 :x-gm-message-state:from:to:cc:subject:date:message-id:reply-to;
 bh=1Q8TyKh5yZZh7TB7EZBE4TvnaEeX+vbhMdkamD8ylAA=;
 b=WsWk7eP1pfWt4LaAPIWp7lMk/NgTh7vhceb6qD8/kbUKkM5ZTAYaSGJvL1VFximkuB
 t2yzoiiBDuoWsdAC4w8AV9J5e8VdKiBfcIv7XMYD4YuGecqA/fcPS1vNjaSGOyPUhQbH
 znx7yznF7KnNRmTwvg+FpjsJjuhj5wIjBIAAK04SVjrbxopwSCrJzSwSVq0jm6MX8mQc
 ZE/CoXFErClxiDNv57E/vLgCdyNPFDcLj3BnK3UdRTXxealg7o+vIS5glPK+NIlx2B7f
 s4oNv3e6adx8HdCgXzHx04OUerPDYpaAlIYbHO4iT4cwSDHuTtLEFbdMpQhvmMyGQCmv
 eEAw==
X-Gm-Message-State: AOJu0YwMVfgiSrcKqnknsEQNFuixb2uP3qhICpC5M0gr4m4PYJBfsfAh
 cvU+/Xu0yK7Wl4K/jhsP6ENk4EJgNQshL++h63rGsbQhMjAiUw4UFINp2r+ijYu9RabepBorERi
 sFRdoE6NpKAt1vSo8VhFVjwVHaK6w9g4kUUZAzrpc
X-Google-Smtp-Source: AGHT+IHzI0qrzK0AcJxmqxO2ukasKRZrIqrYlxfmLtnp81e+Z39d3+BM6VyPaNtDRzs5XQgp1GeEtQdz1PrL
X-Received: by 2002:a05:6102:390f:b0:48f:380a:ca90 with SMTP id
 ada2fe7eead31-4978848984dmr384396137.18.1723828128398; 
 Fri, 16 Aug 2024 10:08:48 -0700 (PDT)
Received: from postal.iol.unh.edu (postal.iol.unh.edu. [132.177.123.84])
 by smtp-relay.gmail.com with ESMTPS id
 ada2fe7eead31-497701b2276sm85976137.5.2024.08.16.10.08.48
 (version=TLS1_2 cipher=ECDHE-ECDSA-AES128-GCM-SHA256 bits=128/128);
 Fri, 16 Aug 2024 10:08:48 -0700 (PDT)
X-Relaying-Domain: iol.unh.edu
Date: Fri, 16 Aug 2024 10:08:48 -0700 (PDT)
Message-ID: <66bf87a0.050a0220.169fb9.46ebSMTPIN_ADDED_MISSING@mx.google.com>
Received: from [172.17.0.5] (unknown [172.18.0.214])
 by postal.iol.unh.edu (Postfix) with ESMTP id 127B8605C351;
 Fri, 16 Aug 2024 13:08:48 -0400 (EDT)
Subject: |SUCCESS| pw143201-143202 [PATCH] [v1,2/2] dts: checksum offload tes
From: dpdklab@iol.unh.edu
To: Test Report <test-report@dpdk.org>
Cc: dpdk-test-reports@iol.unh.edu
In-Reply-To: <20240816142031.15150-3-dmarx@iol.unh.edu>
References: <20240816142031.15150-3-dmarx@iol.unh.edu>
Content-Type: text/plain
X-BeenThere: test-report@dpdk.org
X-Mailman-Version: 2.1.29
Precedence: list
List-Id: automatic DPDK test reports <test-report.dpdk.org>
List-Unsubscribe: <https://mails.dpdk.org/options/test-report>,
 <mailto:test-report-request@dpdk.org?subject=unsubscribe>
List-Archive: <http://mails.dpdk.org/archives/test-report/>
List-Post: <mailto:test-report@dpdk.org>
List-Help: <mailto:test-report-request@dpdk.org?subject=help>
List-Subscribe: <https://mails.dpdk.org/listinfo/test-report>,
 <mailto:test-report-request@dpdk.org?subject=subscribe>
Errors-To: test-report-bounces@dpdk.org

Test-Label: iol-compile-arm64-testing
Test-Status: SUCCESS
http://dpdk.org/patch/143202

_Testing PASS_

Submitter: Dean Marx <dmarx@iol.unh.edu>
Date: Friday, August 16 2024 14:20:31 
DPDK git baseline: Repo:dpdk
  Branch: master
  CommitID:cb9187bc5c2b4bab0ad80194ac3b60491de14e8c

143201-143202 --> testing pass

Upstream job id: Generic-DPDK-Compile-Meson#289380

Test environment and result as below:

+----------------------------------------+--------------------+
|              Environment               | dpdk_meson_compile |
+========================================+====================+
| RHEL9 (ARM)                            | PASS               |
+----------------------------------------+--------------------+
| Ubuntu 20.04 ARM GCC Cross Compile     | PASS               |
+----------------------------------------+--------------------+
| Debian 12 with MUSDK                   | PASS               |
+----------------------------------------+--------------------+
| Ubuntu 20.04 ARM SVE                   | PASS               |
+----------------------------------------+--------------------+
| Fedora 37 (ARM)                        | PASS               |
+----------------------------------------+--------------------+
| Fedora 38 (ARM)                        | PASS               |
+----------------------------------------+--------------------+
| Fedora 38 (ARM Clang)                  | PASS               |
+----------------------------------------+--------------------+
| Fedora 39 (ARM)                        | PASS               |
+----------------------------------------+--------------------+
| Fedora 39 (ARM Clang)                  | PASS               |
+----------------------------------------+--------------------+
| Fedora 40 (ARM)                        | PASS               |
+----------------------------------------+--------------------+
| Ubuntu 22.04 (ARM)                     | PASS               |
+----------------------------------------+--------------------+
| Fedora 40 (ARM Clang)                  | PASS               |
+----------------------------------------+--------------------+
| CentOS Stream 9 (ARM)                  | PASS               |
+----------------------------------------+--------------------+
| Ubuntu 20.04 (ARM)                     | PASS               |
+----------------------------------------+--------------------+
| Ubuntu 24.04 (ARM)                     | PASS               |
+----------------------------------------+--------------------+
| Debian 12 (arm)                        | PASS               |
+----------------------------------------+--------------------+
| Debian 11 (Buster) (ARM)               | PASS               |
+----------------------------------------+--------------------+
| Ubuntu 20.04 ARM Clang Cross Compile   | PASS               |
+----------------------------------------+--------------------+
| Ubuntu 20.04 aarch32 GCC Cross Compile | PASS               |
+----------------------------------------+--------------------+


RHEL9 (ARM)
	Kernel: Depends on container host
	Compiler: gcc 11.4.1

Ubuntu 20.04 ARM GCC Cross Compile
	Kernel: 5.4.0-167-generic
	Compiler: aarch64-linux-gnu-gcc (Ubuntu 9.4.0-1ubuntu1~20.04.2) 9.4.0

Debian 12 with MUSDK
	Kernel: Container Host Kernel
	Compiler: gcc 12.2.0

Ubuntu 20.04 ARM SVE
	Kernel: 5.4.0-167-generic
	Compiler: gcc (Ubuntu 10.5.0-1ubuntu1~20.04) 10.5.0

Fedora 37 (ARM)
	Kernel: Depends on container host
	Compiler: gcc 12.3.1

Fedora 38 (ARM)
	Kernel: Depends on container host
	Compiler: gcc 13.2.1

Fedora 38 (ARM Clang)
	Kernel: Depends on container host
	Compiler: clang 16.0.6

Fedora 39 (ARM)
	Kernel: Depends on container host
	Compiler: gcc 13.2.1

Fedora 39 (ARM Clang)
	Kernel: Depends on container host
	Compiler: clang 17.0.6

Fedora 40 (ARM)
	Kernel: Depends on container host
	Compiler: gcc 14.1.1

Ubuntu 22.04 (ARM)
	Kernel: Container Host Kernel
	Compiler: gcc 11.4.0

Fedora 40 (ARM Clang)
	Kernel: Depends on container host
	Compiler: clang 18.1.6

CentOS Stream 9 (ARM)
	Kernel: Container Host Kernel
	Compiler: gcc 11.4.1

Ubuntu 20.04 (ARM)
	Kernel: Container Host Kernel
	Compiler: gcc 9.4.0

Ubuntu 24.04 (ARM)
	Kernel: 5.4.0-167-generic
	Compiler: gcc 13.2.0

Debian 12 (arm)
	Kernel: Container Host Kernel
	Compiler: gcc 12.2.0

Debian 11 (Buster) (ARM)
	Kernel: Container Host Kernel
	Compiler: gcc 10.2.1

Ubuntu 20.04 ARM Clang Cross Compile
	Kernel: 5.4.0-72-generic
	Compiler: clang 10.0.0-4ubuntu1

Ubuntu 20.04 aarch32 GCC Cross Compile
	Kernel: 5.4.0-167-generic
	Compiler: gcc 9.4.0

To view detailed results, visit:
https://lab.dpdk.org/results/dashboard/patchsets/30803/

UNH-IOL DPDK Community Lab

To manage your email subscriptions, visit: 
https://lab.dpdk.org/results/dashboard/preferences/subscriptions/