From mboxrd@z Thu Jan  1 00:00:00 1970
Return-Path: <test-report-bounces@dpdk.org>
Received: from mails.dpdk.org (mails.dpdk.org [217.70.189.124])
	by inbox.dpdk.org (Postfix) with ESMTP id 3DF7945838
	for <public@inbox.dpdk.org>; Thu, 22 Aug 2024 00:09:22 +0200 (CEST)
Received: from mails.dpdk.org (localhost [127.0.0.1])
	by mails.dpdk.org (Postfix) with ESMTP id 39C7640DCD;
	Thu, 22 Aug 2024 00:09:22 +0200 (CEST)
Received: from mail-oa1-f97.google.com (mail-oa1-f97.google.com
 [209.85.160.97]) by mails.dpdk.org (Postfix) with ESMTP id E422840609
 for <test-report@dpdk.org>; Thu, 22 Aug 2024 00:09:12 +0200 (CEST)
Received: by mail-oa1-f97.google.com with SMTP id
 586e51a60fabf-268eec6c7c1so86564fac.3
 for <test-report@dpdk.org>; Wed, 21 Aug 2024 15:09:12 -0700 (PDT)
DKIM-Signature: v=1; a=rsa-sha256; c=relaxed/relaxed;
 d=iol.unh.edu; s=unh-iol; t=1724278152; x=1724882952; darn=dpdk.org;
 h=references:in-reply-to:cc:to:from:subject:message-id:date:from:to
 :cc:subject:date:message-id:reply-to;
 bh=gXWplNXWY+PnSwANOy67f1pq9GzNJWXCMtqH5ngoT9Y=;
 b=cPEnqKyhsdyDdsPX/pw/qZZsTP3b35ZbFcpD9GPoiXAbqcSSY5DJPmqEGheBVEosHT
 vITNltEy+0+G+zk/r/1uDKHSzPVLzcLj+0TX/iobROOuVSIz50ZXIMa8zQFz4k3kOPH6
 6SR/x5vAUv7TdAaHGM4UVTzWlCC75czE1GCqc=
X-Google-DKIM-Signature: v=1; a=rsa-sha256; c=relaxed/relaxed;
 d=1e100.net; s=20230601; t=1724278152; x=1724882952;
 h=references:in-reply-to:cc:to:from:subject:message-id:date
 :x-gm-message-state:from:to:cc:subject:date:message-id:reply-to;
 bh=gXWplNXWY+PnSwANOy67f1pq9GzNJWXCMtqH5ngoT9Y=;
 b=R9TG5lqarfYtA5ZZvH2qy30J/Re8vEn+gXJHvk/lNyZLB1qmcV4V2rpU3thJl7IE8T
 LfUoKwnQaE7d967DbeGIVmd8fNG8ISQA4IUOuCnD25rinHF3OFfL8G8o5rnKSxyHTMJi
 I7hngEwbxB+T7QgpMzTIluZICHf13tvFHh7Y8GB8FgNR94bdDXMZaREbpoya4jRUrF0q
 ThVSzTpaseGAoIcYHUk2H6mIEz0JEDZmqKtrhDPXjtQkLP0z0MjGjK2Im/5U/7R8QyPF
 oepAIYHp+8etjwdoB1M/lfnYtveVkc15uZ6hMRNzqhOqGJbSqw2zGnhvKDTvqdenPwN1
 uvbQ==
X-Gm-Message-State: AOJu0YzIYI7HJ8dy6MFIZ573GAg52BS9O1tXk2P3iuV40P2enWOJMelw
 gN3ZQC8mPcfQpvBahwmVwoTYx5gOySU2S0O5x3DpPeWYivhASVVlfe55bNu5ebIYdElQarSoqRl
 VOWYWCLBjBhF3uYAb5YaJsD1rWwLwnPtAVJ7WasRMI7pzIce+DX1OpyET
X-Google-Smtp-Source: AGHT+IHUWpD+E62tznoy+UIBVLSNwX+P9rNxYqwFtAS1hKYPzbh8vTGdyrfKeiD2kCNhMJKG+1/maLt+ZIdM
X-Received: by 2002:a05:6870:b52a:b0:264:956e:6207 with SMTP id
 586e51a60fabf-2737ef4b8fbmr4339707fac.27.1724278152267; 
 Wed, 21 Aug 2024 15:09:12 -0700 (PDT)
Received: from postal.iol.unh.edu (postal.iol.unh.edu.
 [2606:4100:3880:1234::84]) by smtp-relay.gmail.com with ESMTPS id
 586e51a60fabf-273ceb4546esm5724fac.30.2024.08.21.15.09.12
 (version=TLS1_2 cipher=ECDHE-ECDSA-AES128-GCM-SHA256 bits=128/128);
 Wed, 21 Aug 2024 15:09:12 -0700 (PDT)
X-Relaying-Domain: iol.unh.edu
Date: Wed, 21 Aug 2024 15:09:12 -0700 (PDT)
Message-ID: <66c66588.050a0220.3972ac.06b6SMTPIN_ADDED_MISSING@mx.google.com>
Received: from [172.17.0.4] (unknown [172.18.0.214])
 by postal.iol.unh.edu (Postfix) with ESMTP id B5EF1605C351;
 Wed, 21 Aug 2024 18:09:11 -0400 (EDT)
Subject: |SUCCESS| pw143269-143271 [PATCH] [v1,3/3] dts: rework test suite an
From: dpdklab@iol.unh.edu
To: Test Report <test-report@dpdk.org>
Cc: dpdk-test-reports@iol.unh.edu
In-Reply-To: <20240821184305.28028-5-npratte@iol.unh.edu>
References: <20240821184305.28028-5-npratte@iol.unh.edu>
Content-Type: text/plain
X-BeenThere: test-report@dpdk.org
X-Mailman-Version: 2.1.29
Precedence: list
List-Id: automatic DPDK test reports <test-report.dpdk.org>
List-Unsubscribe: <https://mails.dpdk.org/options/test-report>,
 <mailto:test-report-request@dpdk.org?subject=unsubscribe>
List-Archive: <http://mails.dpdk.org/archives/test-report/>
List-Post: <mailto:test-report@dpdk.org>
List-Help: <mailto:test-report-request@dpdk.org?subject=help>
List-Subscribe: <https://mails.dpdk.org/listinfo/test-report>,
 <mailto:test-report-request@dpdk.org?subject=subscribe>
Errors-To: test-report-bounces@dpdk.org

Test-Label: iol-compile-arm64-testing
Test-Status: SUCCESS
http://dpdk.org/patch/143271

_Testing PASS_

Submitter: Nicholas Pratte <npratte@iol.unh.edu>
Date: Wednesday, August 21 2024 18:43:06 
DPDK git baseline: Repo:dpdk
  Branch: master
  CommitID:cb9187bc5c2b4bab0ad80194ac3b60491de14e8c

143269-143271 --> testing pass

Upstream job id: Generic-DPDK-Compile-Meson#290342

Test environment and result as below:

+----------------------------------------+--------------------+
|              Environment               | dpdk_meson_compile |
+========================================+====================+
| RHEL9 (ARM)                            | PASS               |
+----------------------------------------+--------------------+
| Ubuntu 20.04 ARM GCC Cross Compile     | PASS               |
+----------------------------------------+--------------------+
| Ubuntu 20.04 ARM SVE                   | PASS               |
+----------------------------------------+--------------------+
| Debian 12 with MUSDK                   | PASS               |
+----------------------------------------+--------------------+
| Fedora 38 (ARM)                        | PASS               |
+----------------------------------------+--------------------+
| Fedora 38 (ARM Clang)                  | PASS               |
+----------------------------------------+--------------------+
| Fedora 37 (ARM)                        | PASS               |
+----------------------------------------+--------------------+
| Fedora 39 (ARM)                        | PASS               |
+----------------------------------------+--------------------+
| Ubuntu 20.04 (ARM)                     | PASS               |
+----------------------------------------+--------------------+
| Fedora 39 (ARM Clang)                  | PASS               |
+----------------------------------------+--------------------+
| Fedora 40 (ARM)                        | PASS               |
+----------------------------------------+--------------------+
| Fedora 40 (ARM Clang)                  | PASS               |
+----------------------------------------+--------------------+
| Ubuntu 22.04 (ARM)                     | PASS               |
+----------------------------------------+--------------------+
| Ubuntu 24.04 (ARM)                     | PASS               |
+----------------------------------------+--------------------+
| Debian 11 (Buster) (ARM)               | PASS               |
+----------------------------------------+--------------------+
| Ubuntu 20.04 aarch32 GCC Cross Compile | PASS               |
+----------------------------------------+--------------------+
| Ubuntu 20.04 ARM Clang Cross Compile   | PASS               |
+----------------------------------------+--------------------+
| Debian 12 (arm)                        | PASS               |
+----------------------------------------+--------------------+
| CentOS Stream 9 (ARM)                  | PASS               |
+----------------------------------------+--------------------+


RHEL9 (ARM)
	Kernel: Depends on container host
	Compiler: gcc 11.4.1 20231218 (Red Hat 11.4.1-3)

Ubuntu 20.04 ARM GCC Cross Compile
	Kernel: Depends on container host
	Compiler: aarch64-linux-gnu-gcc (Ubuntu 9.4.0-1ubuntu1~20.04.2) 9.4.0

Ubuntu 20.04 ARM SVE
	Kernel: Depends on container host
	Compiler: gcc (Ubuntu 10.5.0-1ubuntu1~20.04) 10.5.0

Debian 12 with MUSDK
	Kernel: Depends on container host
	Compiler: gcc (Debian 12.2.0-14) 12.2.0

Fedora 38 (ARM)
	Kernel: Depends on container host
	Compiler: gcc 13.2.1 20240316 (Red Hat 13.2.1-7)

Fedora 38 (ARM Clang)
	Kernel: Depends on container host
	Compiler: clang 16.0.6 (Fedora 16.0.6-4.fc38)

Fedora 37 (ARM)
	Kernel: Depends on container host
	Compiler: gcc 12.3.1 20230508 (Red Hat 12.3.1-1)

Fedora 39 (ARM)
	Kernel: Depends on container host
	Compiler: gcc 13.3.1 20240522 (Red Hat 13.3.1-1)

Ubuntu 20.04 (ARM)
	Kernel: Depends on container host
	Compiler: gcc (Ubuntu 9.4.0-1ubuntu1~20.04.2) 9.4.0

Fedora 39 (ARM Clang)
	Kernel: Depends on container host
	Compiler: clang 17.0.6 (Fedora 17.0.6-2.fc39)

Fedora 40 (ARM)
	Kernel: Depends on container host
	Compiler: gcc 14.2.1 20240801 (Red Hat 14.2.1-1)

Fedora 40 (ARM Clang)
	Kernel: Depends on container host
	Compiler: clang 18.1.6 (Fedora 18.1.6-3.fc40)

Ubuntu 22.04 (ARM)
	Kernel: Depends on container host
	Compiler: gcc (Ubuntu 11.4.0-1ubuntu1~22.04) 11.4.0

Ubuntu 24.04 (ARM)
	Kernel: Depends on container host
	Compiler: gcc (Ubuntu 13.2.0-23ubuntu4) 13.2.0

Debian 11 (Buster) (ARM)
	Kernel: Depends on container host
	Compiler: gcc (Debian 10.2.1-6) 10.2.1 20210110

Ubuntu 20.04 aarch32 GCC Cross Compile
	Kernel: Depends on container host
	Compiler: gcc 9.4.0

Ubuntu 20.04 ARM Clang Cross Compile
	Kernel: Depends on container host
	Compiler: clang 10.0.0-4ubuntu1

Debian 12 (arm)
	Kernel: Depends on container host
	Compiler: gcc (Debian 12.2.0-14) 12.2.0

CentOS Stream 9 (ARM)
	Kernel: Depends on container host
	Compiler: gcc 11.4.1 20231218 (Red Hat 11.4.1-3)

To view detailed results, visit:
https://lab.dpdk.org/results/dashboard/patchsets/30817/

UNH-IOL DPDK Community Lab

To manage your email subscriptions, visit: 
https://lab.dpdk.org/results/dashboard/preferences/subscriptions/