From mboxrd@z Thu Jan  1 00:00:00 1970
Return-Path: <test-report-bounces@dpdk.org>
Received: from mails.dpdk.org (mails.dpdk.org [217.70.189.124])
	by inbox.dpdk.org (Postfix) with ESMTP id 0B14C45C99
	for <public@inbox.dpdk.org>; Thu,  7 Nov 2024 22:48:59 +0100 (CET)
Received: from mails.dpdk.org (localhost [127.0.0.1])
	by mails.dpdk.org (Postfix) with ESMTP id EB0C742EC7;
	Thu,  7 Nov 2024 22:48:58 +0100 (CET)
Received: from mail-il1-f228.google.com (mail-il1-f228.google.com
 [209.85.166.228])
 by mails.dpdk.org (Postfix) with ESMTP id 2AD1342EB6
 for <test-report@dpdk.org>; Thu,  7 Nov 2024 22:48:57 +0100 (CET)
Received: by mail-il1-f228.google.com with SMTP id
 e9e14a558f8ab-3a4ccfde548so4603515ab.1
 for <test-report@dpdk.org>; Thu, 07 Nov 2024 13:48:57 -0800 (PST)
DKIM-Signature: v=1; a=rsa-sha256; c=relaxed/relaxed;
 d=iol.unh.edu; s=unh-iol; t=1731016136; x=1731620936; darn=dpdk.org;
 h=references:in-reply-to:cc:to:from:subject:message-id:date:from:to
 :cc:subject:date:message-id:reply-to;
 bh=R55upUGsZcdkji9TtzZzY4Dje7Jz7XkVyybK2Qc8/mU=;
 b=G6HoTVktLgNshOVto997DmBONK4yZ9oyvCSVGzxt99CX+Z0VAB+P6J5mdIhyRKVDOA
 tsNUHZlv5cCqJbt0H98SCUaCubRpuwjZHLxRiXY+p//V940xEZu8S7PfR4fpNfCZmXiB
 rgvoycoBJ150YfWBAPZc/HTvQo/Sx6klzGs5k=
X-Google-DKIM-Signature: v=1; a=rsa-sha256; c=relaxed/relaxed;
 d=1e100.net; s=20230601; t=1731016136; x=1731620936;
 h=references:in-reply-to:cc:to:from:subject:message-id:date
 :x-gm-message-state:from:to:cc:subject:date:message-id:reply-to;
 bh=R55upUGsZcdkji9TtzZzY4Dje7Jz7XkVyybK2Qc8/mU=;
 b=X9ZuHnQ3wD+6a7RfUz5pyMx7wt39babvL85EjiCmG/113afQfpdkEuF5US95hFNxvE
 y8E0cYYf9t5HFkB01DVP+S1xW7goFrvcKp+CcBlTqTEEVlrxy9V83DCEZFUkbO9KdWAS
 LnJHDeH35gtJ7CAX221l/p7oZjOKG05XxY8WoO0Uy5whP/XT7hiNr93R75OMaW3fDk/c
 D0ZLRNInyRG8LYxr8kRlxIWIYfxrWj7BBQ5PrNs4fUUhQdEEG83c7CTsGyr6P7w4pHKf
 oj5WOcZHn4h6LEZako3PNgMeKbpwwI3XqpmB4nrhsSkrsgmsVjDmA1J1s+BlG17aehfO
 TS/Q==
X-Gm-Message-State: AOJu0YzIttV7oZrZbu0RCNY8qQpO1bpfGxoVzbNCY31wcNnch8AjQhv+
 xKMO4XtAS29GDupSMKnSx7VCID8ybdg//N4oZKzrxtF8Ky9DlpeZgI1G9AXW6bJ7Guj8EGLvEGp
 1u92HSLuoxgH0bzCiCkpauXlN55cU0hYQpA/THfHdYakwEmllaGSq8BZS
X-Google-Smtp-Source: AGHT+IF8PSgl6CQpE3IK0ih0sl5Jgy5yL1/YeheVpoJTyvkBUTglbOYJLy06QkTc4VeU2DAgPGlc/KuKsIlc
X-Received: by 2002:a92:cb51:0:b0:3a0:abd0:122 with SMTP id
 e9e14a558f8ab-3a6f11bb22bmr11011905ab.8.1731016136275; 
 Thu, 07 Nov 2024 13:48:56 -0800 (PST)
Received: from postal.iol.unh.edu (postal.iol.unh.edu.
 [2606:4100:3880:1234::84]) by smtp-relay.gmail.com with ESMTPS id
 e9e14a558f8ab-3a6eac85569sm875515ab.15.2024.11.07.13.48.56
 (version=TLS1_2 cipher=ECDHE-ECDSA-AES128-GCM-SHA256 bits=128/128);
 Thu, 07 Nov 2024 13:48:56 -0800 (PST)
X-Relaying-Domain: iol.unh.edu
Date: Thu, 07 Nov 2024 13:48:56 -0800 (PST)
Message-ID: <672d35c8.050a0220.20485a.62b3SMTPIN_ADDED_MISSING@mx.google.com>
Received: from [172.21.0.5] (unknown [172.18.0.240])
 by postal.iol.unh.edu (Postfix) with ESMTP id BAC2D6052471;
 Thu,  7 Nov 2024 16:48:55 -0500 (EST)
Subject: |SUCCESS| pw148091-148092 [PATCH] [v3,2/2] examples/l3fwd: fix read 
From: dpdklab@iol.unh.edu
To: Test Report <test-report@dpdk.org>
Cc: dpdk-test-reports@iol.unh.edu
In-Reply-To: <20241107185052.64374-3-konstantin.ananyev@huawei.com>
References: <20241107185052.64374-3-konstantin.ananyev@huawei.com>
Content-Type: text/plain
X-BeenThere: test-report@dpdk.org
X-Mailman-Version: 2.1.29
Precedence: list
List-Id: automatic DPDK test reports <test-report.dpdk.org>
List-Unsubscribe: <https://mails.dpdk.org/options/test-report>,
 <mailto:test-report-request@dpdk.org?subject=unsubscribe>
List-Archive: <http://mails.dpdk.org/archives/test-report/>
List-Post: <mailto:test-report@dpdk.org>
List-Help: <mailto:test-report-request@dpdk.org?subject=help>
List-Subscribe: <https://mails.dpdk.org/listinfo/test-report>,
 <mailto:test-report-request@dpdk.org?subject=subscribe>
Errors-To: test-report-bounces@dpdk.org

Test-Label: iol-unit-arm64-testing
Test-Status: SUCCESS
http://dpdk.org/patch/148092

_Testing PASS_

Submitter: Konstantin Ananyev <konstantin.ananyev@huawei.com>
Date: Thursday, November 07 2024 18:50:52 
DPDK git baseline: Repo:dpdk
  Branch: master
  CommitID:9bbd44d63846cf0771ec0f1c7e1b5a63ec5e9603

148091-148092 --> testing pass

Upstream job id: Generic-Unit-Test-DPDK#289257

Test environment and result as below:

+-----------------------------+--------------+------------------------------+---------------------------+----------------+
|         Environment         | lpm_autotest | cryptodev_sw_snow3g_autotest | cryptodev_sw_zuc_autotest | dpdk_unit_test |
+=============================+==============+==============================+===========================+================+
| Ubuntu 20.04 ARM SVE        | PASS         | SKIPPED                      | SKIPPED                   | SKIPPED        |
+-----------------------------+--------------+------------------------------+---------------------------+----------------+
| Debian 12 (arm)             | SKIPPED      | PASS                         | PASS                      | PASS           |
+-----------------------------+--------------+------------------------------+---------------------------+----------------+
| CentOS Stream 9 (ARM)       | SKIPPED      | SKIPPED                      | SKIPPED                   | PASS           |
+-----------------------------+--------------+------------------------------+---------------------------+----------------+
| Fedora 39 (ARM)             | SKIPPED      | SKIPPED                      | SKIPPED                   | PASS           |
+-----------------------------+--------------+------------------------------+---------------------------+----------------+
| Fedora 40 (ARM)             | SKIPPED      | SKIPPED                      | SKIPPED                   | PASS           |
+-----------------------------+--------------+------------------------------+---------------------------+----------------+
| Fedora 39 (ARM Clang)       | SKIPPED      | SKIPPED                      | SKIPPED                   | PASS           |
+-----------------------------+--------------+------------------------------+---------------------------+----------------+
| Fedora 40 (ARM Clang)       | SKIPPED      | SKIPPED                      | SKIPPED                   | PASS           |
+-----------------------------+--------------+------------------------------+---------------------------+----------------+
| RHEL9 (ARM)                 | SKIPPED      | SKIPPED                      | SKIPPED                   | PASS           |
+-----------------------------+--------------+------------------------------+---------------------------+----------------+
| Ubuntu 22.04 (ARM)          | SKIPPED      | SKIPPED                      | SKIPPED                   | PASS           |
+-----------------------------+--------------+------------------------------+---------------------------+----------------+
| Ubuntu 20.04 (ARM)          | SKIPPED      | SKIPPED                      | SKIPPED                   | PASS           |
+-----------------------------+--------------+------------------------------+---------------------------+----------------+
| Ubuntu 24.04 (ARM)          | SKIPPED      | SKIPPED                      | SKIPPED                   | PASS           |
+-----------------------------+--------------+------------------------------+---------------------------+----------------+
| 32-bit Ubuntu 22.04.4 (ARM) | SKIPPED      | SKIPPED                      | SKIPPED                   | PASS           |
+-----------------------------+--------------+------------------------------+---------------------------+----------------+


Ubuntu 20.04 ARM SVE
	Kernel: Depends on container host
	Compiler: gcc (Ubuntu 10.5.0-1ubuntu1~20.04) 10.5.0

Debian 12 (arm)
	Kernel: Depends on container host
	Compiler: gcc (Debian 12.2.0-14) 12.2.0

CentOS Stream 9 (ARM)
	Kernel: Depends on container host
	Compiler: gcc 11.4.1 20231218 (Red Hat 11.4.1-3)

Fedora 39 (ARM)
	Kernel: Depends on container host
	Compiler: gcc 13.3.1 20240522 (Red Hat 13.3.1-1)

Fedora 40 (ARM)
	Kernel: Depends on container host
	Compiler: gcc 14.2.1 20240801 (Red Hat 14.2.1-1)

Fedora 39 (ARM Clang)
	Kernel: Depends on container host
	Compiler: clang 17.0.6 (Fedora 17.0.6-2.fc39)

Fedora 40 (ARM Clang)
	Kernel: Depends on container host
	Compiler: clang 18.1.6 (Fedora 18.1.6-3.fc40)

RHEL9 (ARM)
	Kernel: Depends on container host
	Compiler: gcc 11.4.1 20231218 (Red Hat 11.4.1-3)

Ubuntu 22.04 (ARM)
	Kernel: Depends on container host
	Compiler: gcc (Ubuntu 11.4.0-1ubuntu1~22.04) 11.4.0

Ubuntu 20.04 (ARM)
	Kernel: Depends on container host
	Compiler: gcc (Ubuntu 9.4.0-1ubuntu1~20.04.2) 9.4.0

Ubuntu 24.04 (ARM)
	Kernel: Depends on container host
	Compiler: gcc (Ubuntu 13.2.0-23ubuntu4) 13.2.0

32-bit Ubuntu 22.04.4 (ARM)
	Kernel: 5.15.83+ aarch64
	Compiler: gcc (Ubuntu 11.4.0-1ubuntu1~22.04) 11.4.0

To view detailed results, visit:
https://lab.dpdk.org/results/dashboard/patchsets/31851/

UNH-IOL DPDK Community Lab

To manage your email subscriptions, visit: 
https://lab.dpdk.org/results/dashboard/preferences/subscriptions/