From mboxrd@z Thu Jan  1 00:00:00 1970
Return-Path: <test-report-bounces@dpdk.org>
Received: from mails.dpdk.org (mails.dpdk.org [217.70.189.124])
	by inbox.dpdk.org (Postfix) with ESMTP id 5C8B345CB3
	for <public@inbox.dpdk.org>; Fri,  8 Nov 2024 14:40:33 +0100 (CET)
Received: from mails.dpdk.org (localhost [127.0.0.1])
	by mails.dpdk.org (Postfix) with ESMTP id 5958543348;
	Fri,  8 Nov 2024 14:40:33 +0100 (CET)
Received: from mail-pl1-f225.google.com (mail-pl1-f225.google.com
 [209.85.214.225])
 by mails.dpdk.org (Postfix) with ESMTP id 1467C40677
 for <test-report@dpdk.org>; Fri,  8 Nov 2024 14:40:32 +0100 (CET)
Received: by mail-pl1-f225.google.com with SMTP id
 d9443c01a7336-20cbcd71012so24870675ad.3
 for <test-report@dpdk.org>; Fri, 08 Nov 2024 05:40:32 -0800 (PST)
DKIM-Signature: v=1; a=rsa-sha256; c=relaxed/relaxed;
 d=iol.unh.edu; s=unh-iol; t=1731073231; x=1731678031; darn=dpdk.org;
 h=references:in-reply-to:cc:to:from:subject:message-id:date:from:to
 :cc:subject:date:message-id:reply-to;
 bh=LA+jf3ErOmlSz4NWNQP1YdYBHGUBvmkkOE8Ek150qIM=;
 b=hVRddT7fr4k1ApFiFkSeDpzb/4sCgUvS6/yS/eezsEl84wrrRujGHEBTn8IsZFjf+B
 1XMJ1R5lm4Le/DnsiOhkQ+2DRKaLZf8wz21HhPOzo+0L6vjsjbVG3wz33k+xriLg3npO
 v09tqpuJ7TD3/EB+9jnEWOozv+QcyF8If85A4=
X-Google-DKIM-Signature: v=1; a=rsa-sha256; c=relaxed/relaxed;
 d=1e100.net; s=20230601; t=1731073231; x=1731678031;
 h=references:in-reply-to:cc:to:from:subject:message-id:date
 :x-gm-message-state:from:to:cc:subject:date:message-id:reply-to;
 bh=LA+jf3ErOmlSz4NWNQP1YdYBHGUBvmkkOE8Ek150qIM=;
 b=QkQwKCdGOsBjEblckJZuAZ14dCeoVJmZqhO+WYB6C0oabDx4mJa5GkpfNpSgfjnLA6
 Y8xo0Q7al4mO2qQFG1fUQhQc1BZl3VecpX/ivD1gWGiQwgcOY1ukzEI3UDshTpRGRf2m
 iTFtNEgny40dqleq/OqfXyy7+UFTZVqWrEqKpHp3Lv2r4Azskx487G+V2ApxnF+ABFI9
 ULnJ0p5Cqu/1/yxy9RILq2CQlZko770XaODto6AsQqocLbfWP26ZRilBxub8Aolpj3c1
 xDsmLxS3aeTpvH+TwVGpyZoG+Z26safOf8w+q5LuW8Izx/d4c0BDufnVucTtq1M3cdpp
 COEA==
X-Gm-Message-State: AOJu0YxrGeqmM/HwqWO8syFXkon48oMneQF1ds1KnLMqnGkL6kJvDw61
 /ZS4RglBtUfLR2fKsN0I6nfP8RbqmJaHDG1C+EwCeLR25jIDTa6byVaIgluNSBo6VinuhA3cJIb
 uyOJtyFS7yD0LnVNdh3j40BBQwMYE+KhoM+ABqC1r
X-Google-Smtp-Source: AGHT+IF6YUBslJZ2VBmGKSacx8+1lfNYfu3eOhhKoTVChdHi39sVRGFWqLIWIGT0grW7bX1DyHidBqVuvRJ8
X-Received: by 2002:a17:902:f94b:b0:20c:6399:d637 with SMTP id
 d9443c01a7336-2118358ba79mr27165935ad.40.1731073231253; 
 Fri, 08 Nov 2024 05:40:31 -0800 (PST)
Received: from postal.iol.unh.edu (postal.iol.unh.edu. [132.177.123.84])
 by smtp-relay.gmail.com with ESMTPS id
 d9443c01a7336-21177df2268sm1266675ad.27.2024.11.08.05.40.31
 (version=TLS1_2 cipher=ECDHE-ECDSA-AES128-GCM-SHA256 bits=128/128);
 Fri, 08 Nov 2024 05:40:31 -0800 (PST)
X-Relaying-Domain: iol.unh.edu
Date: Fri, 08 Nov 2024 05:40:31 -0800 (PST)
Message-ID: <672e14cf.170a0220.395e99.900eSMTPIN_ADDED_MISSING@mx.google.com>
Received: from [172.17.0.4] (unknown [172.18.0.217])
 by postal.iol.unh.edu (Postfix) with ESMTP id 70D806052471;
 Fri,  8 Nov 2024 08:40:30 -0500 (EST)
Subject: |SUCCESS| pw148107-148125 [PATCH] [v5,20/20] app/testpmd: remove use
From: dpdklab@iol.unh.edu
To: Test Report <test-report@dpdk.org>
Cc: dpdk-test-reports@iol.unh.edu
In-Reply-To: <1731026691-1529-21-git-send-email-andremue@linux.microsoft.com>
References: <1731026691-1529-21-git-send-email-andremue@linux.microsoft.com>
Content-Type: text/plain
X-BeenThere: test-report@dpdk.org
X-Mailman-Version: 2.1.29
Precedence: list
List-Id: automatic DPDK test reports <test-report.dpdk.org>
List-Unsubscribe: <https://mails.dpdk.org/options/test-report>,
 <mailto:test-report-request@dpdk.org?subject=unsubscribe>
List-Archive: <http://mails.dpdk.org/archives/test-report/>
List-Post: <mailto:test-report@dpdk.org>
List-Help: <mailto:test-report-request@dpdk.org?subject=help>
List-Subscribe: <https://mails.dpdk.org/listinfo/test-report>,
 <mailto:test-report-request@dpdk.org?subject=subscribe>
Errors-To: test-report-bounces@dpdk.org

Test-Label: iol-sample-apps-testing
Test-Status: SUCCESS
http://dpdk.org/patch/148125

_Testing PASS_

Submitter: Andre Muezerie <andremue@linux.microsoft.com>
Date: Friday, November 08 2024 00:44:51 
DPDK git baseline: Repo:dpdk
  Branch: master
  CommitID:18b5049ab4fecda6ad303606cc265d923b56da14

148107-148125 --> testing pass

Upstream job id: Template-DTS-Pipeline#194812

Test environment and result as below:

+--------------------+----------------------+----------------------+
|    Environment     | compressdev_zlib_pmd | dpdk_fips_validation |
+====================+======================+======================+
| Ubuntu 22.04 (ARM) | PASS                 | SKIPPED              |
+--------------------+----------------------+----------------------+
| Ubuntu 22.04       | PASS                 | SKIPPED              |
+--------------------+----------------------+----------------------+
| Ubuntu 20.04       | SKIPPED              | PASS                 |
+--------------------+----------------------+----------------------+


Ubuntu 22.04 (ARM)
	Kernel: 5.15.0-97-generic
	Compiler: gcc gcc (Ubuntu 11.4.0-1ubuntu1~22.04) 11.4.0

Ubuntu 22.04
	Kernel: 5.15.0-100-generic
	Compiler: gcc gcc (Ubuntu 11.4.0-1ubuntu1~22.04) 11.4.0

Ubuntu 20.04
	Kernel: Depends on container host
	Compiler: gcc (Ubuntu 9.4.0-1ubuntu1~20.04.2) 9.4.0

To view detailed results, visit:
https://lab.dpdk.org/results/dashboard/patchsets/31855/

UNH-IOL DPDK Community Lab

To manage your email subscriptions, visit: 
https://lab.dpdk.org/results/dashboard/preferences/subscriptions/